BEGIN:VCALENDAR
VERSION:2.0
PRODID:-//VBR - ECPv6.15.17.1//NONSGML v1.0//EN
CALSCALE:GREGORIAN
METHOD:PUBLISH
X-ORIGINAL-URL:https://valleybusinessreport.com
X-WR-CALDESC:Events for VBR
REFRESH-INTERVAL;VALUE=DURATION:PT1H
X-Robots-Tag:noindex
X-PUBLISHED-TTL:PT1H
BEGIN:VTIMEZONE
TZID:America/Chicago
BEGIN:DAYLIGHT
TZOFFSETFROM:-0600
TZOFFSETTO:-0500
TZNAME:CDT
DTSTART:20200308T080000
END:DAYLIGHT
BEGIN:STANDARD
TZOFFSETFROM:-0500
TZOFFSETTO:-0600
TZNAME:CST
DTSTART:20201101T070000
END:STANDARD
BEGIN:DAYLIGHT
TZOFFSETFROM:-0600
TZOFFSETTO:-0500
TZNAME:CDT
DTSTART:20210314T080000
END:DAYLIGHT
BEGIN:STANDARD
TZOFFSETFROM:-0500
TZOFFSETTO:-0600
TZNAME:CST
DTSTART:20211107T070000
END:STANDARD
BEGIN:DAYLIGHT
TZOFFSETFROM:-0600
TZOFFSETTO:-0500
TZNAME:CDT
DTSTART:20220313T080000
END:DAYLIGHT
BEGIN:STANDARD
TZOFFSETFROM:-0500
TZOFFSETTO:-0600
TZNAME:CST
DTSTART:20221106T070000
END:STANDARD
BEGIN:DAYLIGHT
TZOFFSETFROM:-0600
TZOFFSETTO:-0500
TZNAME:CDT
DTSTART:20230312T080000
END:DAYLIGHT
BEGIN:STANDARD
TZOFFSETFROM:-0500
TZOFFSETTO:-0600
TZNAME:CST
DTSTART:20231105T070000
END:STANDARD
BEGIN:DAYLIGHT
TZOFFSETFROM:-0600
TZOFFSETTO:-0500
TZNAME:CDT
DTSTART:20240310T080000
END:DAYLIGHT
BEGIN:STANDARD
TZOFFSETFROM:-0500
TZOFFSETTO:-0600
TZNAME:CST
DTSTART:20241103T070000
END:STANDARD
BEGIN:DAYLIGHT
TZOFFSETFROM:-0600
TZOFFSETTO:-0500
TZNAME:CDT
DTSTART:20250309T080000
END:DAYLIGHT
BEGIN:STANDARD
TZOFFSETFROM:-0500
TZOFFSETTO:-0600
TZNAME:CST
DTSTART:20251102T070000
END:STANDARD
BEGIN:DAYLIGHT
TZOFFSETFROM:-0600
TZOFFSETTO:-0500
TZNAME:CDT
DTSTART:20260308T080000
END:DAYLIGHT
BEGIN:STANDARD
TZOFFSETFROM:-0500
TZOFFSETTO:-0600
TZNAME:CST
DTSTART:20261101T070000
END:STANDARD
END:VTIMEZONE
BEGIN:VEVENT
DTSTART;TZID=America/Chicago:20250621T100000
DTEND;TZID=America/Chicago:20250621T130000
DTSTAMP:20260422T043226
CREATED:20250618T013002Z
LAST-MODIFIED:20250618T013321Z
UID:10001289-1750500000-1750510800@valleybusinessreport.com
SUMMARY:2025 MPL Job Fair
DESCRIPTION:McAllen Public Library\, in partnership with Workforce Solutions\, invites the public to the 2025 MPL Job Fair on June 21 from 10 a.m. to 1 p.m. at the Main Library. This free event is designed to connect job seekers with local employers and provide direct access to employment opportunities across a wide range of industries. \nAttendees will have the chance to meet with hiring managers from over 40 companies\, submit applications on site in both print and digital formats\, and participate in on-the-spot interviews. A computer lab will also be available to assist with online applications. Job seekers are encouraged to dress professionally and bring multiple copies of an updated resume. \nA wide range of employers will be on site\, including AARP; City of McAllen; Dental Assistant Training School Rio Grande Valley; El Pato Mexican Food; Entertainment and Security Professionals\, LLC; FPS Staffing; Gorditas Doña Lula; Hidalgo County Sheriff’s Office; Kumori Sushi; McAllen Careers Institute; Memco Staffing; Miba Energy; Mike’s Plumbing & Electrical\, Inc.; New York Life Insurance Company; North Alamo Water Supply; R & D Personnel; Rally Credit Union; Region One SubHub; RGVision Media; Snowball Express; Southern Careers Institute; Southern Industrial Careers; Spectrum; Spherion Staffing\, LLC; Texas Department of Criminal Justice; Texas Department of Public Safety; The College of Health Care Professions; Tropical Smoothie Café; TTEC; UP Trucking Services\, LLC; UTRGV; Valley Quality Cleaners\, Inc.; Venser Contractors\, LLC; Walmart; Wayland Baptist University; Workforce Solutions; Wyndham Garden; and many others. \nFor more information\, contact the Main Library’s Information Desk at 956-681-3060 or referencelibrarian@mcallen.net.
URL:https://valleybusinessreport.com/event/2025-mpl-job-fair/
LOCATION:McAllen Public Library\, 4001 North 23rd Street\, McAllen\, TX\, 78504\, United States
CATEGORIES:Hiring events
ATTACH;FMTTYPE=image/jpeg:https://valleybusinessreport.com/wp-content/uploads/2025/06/2025-MPL-Job-Fair.jpg
ORGANIZER;CN="McAllen Public Library":MAILTO:referencelibrarian@mcallen.net
END:VEVENT
BEGIN:VEVENT
DTSTART;TZID=America/Chicago:20240709T170000
DTEND;TZID=America/Chicago:20240709T193000
DTSTAMP:20260422T043226
CREATED:20240627T163044Z
LAST-MODIFIED:20240627T163044Z
UID:10001135-1720544400-1720553400@valleybusinessreport.com
SUMMARY:Summer Hiring Event at Knapp Medical Center
DESCRIPTION:Knapp Medical Center hosts its summer hiring event on July 9. Bring your resume for on-the-spot interviews and same-day job offers. Potential sign-on bonuses are available. \nFor more information\, call 956-969-5102 or visit knappmed.org/careers.
URL:https://valleybusinessreport.com/event/summer-hiring-event-at-knapp-medical-center/
LOCATION:Knapp Medical Center\, 1401 East 8th Street\, Weslaco\, 78596\, United States
CATEGORIES:Hiring events
ATTACH;FMTTYPE=image/jpeg:https://valleybusinessreport.com/wp-content/uploads/2024/06/KnappHiring.jpg
END:VEVENT
BEGIN:VEVENT
DTSTART;TZID=America/Chicago:20231129T090000
DTEND;TZID=America/Chicago:20231129T120000
DTSTAMP:20260422T043226
CREATED:20231114T192958Z
LAST-MODIFIED:20231114T192958Z
UID:10001046-1701248400-1701259200@valleybusinessreport.com
SUMMARY:RGV H.I.R.E.S Cameron County: An Inclusive Job Fair Experience
DESCRIPTION:RGV H.I.R.E.S. (Helping Individuals Reach Exponential Success) is an inclusive job fair event on Nov. 29 that welcomes individuals with disabilities as well as job seekers without disabilities. The event is taking place in Cameron County and aims to foster a stronger connection between the business community and the disability community in the Rio Grande Valley. \nRGV H.I.R.E.S.’s primary objective is to identify companies and agencies that are searching for qualified candidates with diverse abilities. \nEmployers may register as vendors online. Job seekers may also register online.
URL:https://valleybusinessreport.com/event/rgv-h-i-r-e-s-cameron-county-an-inclusive-job-fair-experience/
LOCATION:Brownsville Events Center\, 1 Events Center Blvd.\, Brownsville\, TX\, United States
CATEGORIES:Hiring events
ATTACH;FMTTYPE=image/png:https://valleybusinessreport.com/wp-content/uploads/2023/11/RGV-H.I.R.E.S.png
ORGANIZER;CN="RGV H.I.R.E.S.":MAILTO:info@dccrgv.org
END:VEVENT
BEGIN:VEVENT
DTSTART;TZID=America/Chicago:20230222T093000
DTEND;TZID=America/Chicago:20230222T133000
DTSTAMP:20260422T043226
CREATED:20230206T175704Z
LAST-MODIFIED:20230206T175809Z
UID:10000881-1677058200-1677072600@valleybusinessreport.com
SUMMARY:Jumpstart Career Expo
DESCRIPTION:The largest career expo in the Rio Grande Valley takes place Feb. 22 where job seekers can connect with more than 150 employers offering more than 6\,500 jobs. Industries include health care\, government\, construction\, hospitality\, retail\, administrative support and more. \nThis event is free and open to the public.
URL:https://valleybusinessreport.com/event/jumpstart-career-expo/
LOCATION:McAllen Convention Center\, 700 Convention Center Boulevard\, McAllen\, TX\, United States
CATEGORIES:Hiring events
ATTACH;FMTTYPE=image/jpeg:https://valleybusinessreport.com/wp-content/uploads/2023/02/Jump-Start_expo.jpg
ORGANIZER;CN="McAllen Chamber of Commerce":MAILTO:bcardenas@mcallenchamber.com
END:VEVENT
BEGIN:VEVENT
DTSTART;TZID=America/Chicago:20221110T080000
DTEND;TZID=America/Chicago:20221110T120000
DTSTAMP:20260422T043226
CREATED:20221101T183608Z
LAST-MODIFIED:20221101T183608Z
UID:10000835-1668067200-1668081600@valleybusinessreport.com
SUMMARY:Hiring Red\, White & You!
DESCRIPTION:Hiring Red\, White & You! is a statewide hiring event that connects veterans\, transitioning military members and military spouses to employers across Texas. This year’s local event takes place Nov. 10 at the Brownsville Event Center. \n\n\n\n\nHiring Red\, White and You! has been working to connect Texas veterans with employers since 2012. \nIn that time\, it has: \n\nWorked with more than 20\,131employers.\nConnected more than 114\,778 job seekers to meaningful job opportunities.\nHelped facilitate over 3\,198 same-day hires.\n\nJob seekers may register online. \n*Sources: Texas Workforce Commission\, Bureau of Labor Statistics
URL:https://valleybusinessreport.com/event/hiring-red-white-you/
LOCATION:Brownsville Event Center\, 1 Event Center\, Brownsville\, 78526\, United States
CATEGORIES:Hiring events
ATTACH;FMTTYPE=image/png:https://valleybusinessreport.com/wp-content/uploads/2022/11/hiring-red-white-and-you-logo.png
ORGANIZER;CN="Sally Perez":MAILTO:sally.perez@wfscameron.org
GEO:25.9621367;-97.4880968
X-APPLE-STRUCTURED-LOCATION;VALUE=URI;X-ADDRESS=Brownsville Event Center 1 Event Center Brownsville 78526 United States;X-APPLE-RADIUS=500;X-TITLE=1 Event Center:geo:-97.4880968,25.9621367
END:VEVENT
BEGIN:VEVENT
DTSTART;TZID=America/Chicago:20220412T170000
DTEND;TZID=America/Chicago:20220412T190000
DTSTAMP:20260422T043226
CREATED:20220331T195129Z
LAST-MODIFIED:20220331T195129Z
UID:10000785-1649782800-1649790000@valleybusinessreport.com
SUMMARY:IDEA Public Schools Operations Job Fair
DESCRIPTION:Rio Grande Valley IDEA Public Schools hosts an Operations Job Fair April 12. Positions range from transportation to food services. Click on the event flyer to the right for available positions information. \nFor more information\, email cynthia.aguilar@ideapublicschools.org.
URL:https://valleybusinessreport.com/event/idea-public-schools-operations-job-fair/
LOCATION:IDEA Sports Park Gym\, 6650 Old Alice Road\, Brownsville\, TX\, United States
CATEGORIES:Hiring events
ATTACH;FMTTYPE=image/png:https://valleybusinessreport.com/wp-content/uploads/2022/03/IDEAJobFair.png
ORGANIZER;CN="Cynthia Aguilar":MAILTO:cynthia.aguilar@ideapublicschools.org
END:VEVENT
BEGIN:VEVENT
DTSTART;TZID=America/Chicago:20220408T090000
DTEND;TZID=America/Chicago:20220408T130000
DTSTAMP:20260422T043226
CREATED:20220405T142357Z
LAST-MODIFIED:20220405T142602Z
UID:10000772-1649408400-1649422800@valleybusinessreport.com
SUMMARY:Weslaco Job Fair
DESCRIPTION:More than 30 employers will conduct on-site interviews at the Weslaco Job Fair April 8 at the Weslaco Business\, Visitors and Event Center. Dress interview ready. \nSponsors for the fair are the Weslaco EDC and the City of Weslaco and in partnership with Workforce Solutions Weslaco.
URL:https://valleybusinessreport.com/event/weslaco-job-fair/
LOCATION:Weslaco Business Visitor and Event Center\, 275 S. Kansas\, Weslaco\, TX\, 78596\, United States
CATEGORIES:Hiring events
ATTACH;FMTTYPE=image/png:https://valleybusinessreport.com/wp-content/uploads/2022/04/Weslaco-Job-Fair.png
ORGANIZER;CN="Weslaco Area Chamber of Commerce":MAILTO:chamber@weslaco.com
END:VEVENT
BEGIN:VEVENT
DTSTART;TZID=America/Chicago:20211208T090000
DTEND;TZID=America/Chicago:20211208T140000
DTSTAMP:20260422T043227
CREATED:20211129T200545Z
LAST-MODIFIED:20211129T200545Z
UID:10000527-1638954000-1638972000@valleybusinessreport.com
SUMMARY:Harlingen Workforce Wednesday
DESCRIPTION:The City of Harlingen and Harlingen EDC\, in partnership with Workforce Solutions Cameron\, host the Workforce Wednesday Dec. 8. The hiring event takes place from 9 a.m. to 2 p.m. at Casa de Amistad\, 1204 Fair Park Blvd. in Harlingen. \nWorkforce Wednesday will host dozens of employers seeking to fill part-time and full-time positions. Employers participating in the Dec. 8 event include Harlingen CISD\, Harlingen Waterworks System\, Harlingen Medical Center and Tropical Texas Behavioral Health\, among others. \nWorkforce Solutions Cameron and the Harlingen EDC is also recruiting employers to participate. The event is free to participate in and open to the public. \nEmployers can call or the Harlingen EDC to participate. Employers can also register online.
URL:https://valleybusinessreport.com/event/harlingen-workforce-wednesday/
LOCATION:Casa de Amistad\, 1204 Fair Park Blvd.\, Harlingen\, TX\, 78550\, United States
CATEGORIES:Hiring events
ATTACH;FMTTYPE=image/png:https://valleybusinessreport.com/wp-content/uploads/2021/11/WW_12821.png
ORGANIZER;CN="Workforce Solutions Cameron":MAILTO:info@wfscameron.org
END:VEVENT
BEGIN:VEVENT
DTSTART;VALUE=DATE:20210819
DTEND;VALUE=DATE:20210820
DTSTAMP:20260422T043227
CREATED:20210806T124949Z
LAST-MODIFIED:20210806T124949Z
UID:10000634-1629331200-1629417599@valleybusinessreport.com
SUMMARY:RGV Regional Job Fair
DESCRIPTION:Workforce Solutions Cameron\, Workforce Solutions Lower Rio and RGV Partnership invite the public to the RGV Regional Job Fair on Aug. 19 at both the McAllen Convention Center and the Brownsville Event Center. Speak with representatives from various organizations offering employment opportunities. More than 100 companies from throughout the Valley will be participating. \nThe McAllen fair takes place at 700 Convention Center Blvd. from 9 a.m. – 1 p.m.\, while the Brownsville event at 1 Center Drive runs from 1-5 p.m. \nJob seekers must preregister to participate at the Brownsville location.
URL:https://valleybusinessreport.com/event/rgv-regional-job-fair/
LOCATION:TX\, United States
CATEGORIES:Hiring events
ATTACH;FMTTYPE=image/png:https://valleybusinessreport.com/wp-content/uploads/2021/08/RGVRJF.png
ORGANIZER;CN="Workforce Solutions Cameron":MAILTO:info@wfscameron.org
END:VEVENT
BEGIN:VEVENT
DTSTART;TZID=America/Chicago:20210420T090000
DTEND;TZID=America/Chicago:20210420T150000
DTSTAMP:20260422T043227
CREATED:20210414T222118Z
LAST-MODIFIED:20210414T222118Z
UID:10000557-1618909200-1618930800@valleybusinessreport.com
SUMMARY:South Padre Island Job Fair
DESCRIPTION:More than 30 employers from South Padre Island and Port Isabel participate in the SPI Job Fair April 20 at the SPI Convention Center.
URL:https://valleybusinessreport.com/event/south-padre-island-job-fair-2/
LOCATION:SPI Convention Center\, 7355 Padre Blvd.\, South Padre Island\, TX\, 78597\, United States
CATEGORIES:Hiring events
ATTACH;FMTTYPE=image/png:https://valleybusinessreport.com/wp-content/uploads/2021/04/SPIJobFairApril20.png
ORGANIZER;CN="Dianna L. Harvill%2C SPI Chamber of Commerce":MAILTO:dianna@spichamber.com
END:VEVENT
BEGIN:VEVENT
DTSTART;TZID=America/Chicago:20210416T140000
DTEND;TZID=America/Chicago:20210416T160000
DTSTAMP:20260422T043227
CREATED:20210407T191348Z
LAST-MODIFIED:20210407T191348Z
UID:10000565-1618581600-1618588800@valleybusinessreport.com
SUMMARY:Weslaco Virtual Job Fair
DESCRIPTION:Join the Weslaco EDC and City of Weslaco April 16 for a virtual job fair from the comfort of your own home. Premier Virtual serves as hosts for the event. \nRegister online.
URL:https://valleybusinessreport.com/event/weslaco-virtual-job-fair/
LOCATION:Online\, TX\, United States
CATEGORIES:Hiring events
ATTACH;FMTTYPE=image/jpeg:https://valleybusinessreport.com/wp-content/uploads/2021/04/WeslacoVJFFlyer-2.jpg
ORGANIZER;CN="Weslaco Area Chamber of Commerce":MAILTO:chamber@weslaco.com
END:VEVENT
END:VCALENDAR