BEGIN:VCALENDAR
VERSION:2.0
PRODID:-//VBR - ECPv6.15.17.1//NONSGML v1.0//EN
CALSCALE:GREGORIAN
METHOD:PUBLISH
X-ORIGINAL-URL:https://valleybusinessreport.com
X-WR-CALDESC:Events for VBR
REFRESH-INTERVAL;VALUE=DURATION:PT1H
X-Robots-Tag:noindex
X-PUBLISHED-TTL:PT1H
BEGIN:VTIMEZONE
TZID:America/Chicago
BEGIN:DAYLIGHT
TZOFFSETFROM:-0600
TZOFFSETTO:-0500
TZNAME:CDT
DTSTART:20240310T080000
END:DAYLIGHT
BEGIN:STANDARD
TZOFFSETFROM:-0500
TZOFFSETTO:-0600
TZNAME:CST
DTSTART:20241103T070000
END:STANDARD
BEGIN:DAYLIGHT
TZOFFSETFROM:-0600
TZOFFSETTO:-0500
TZNAME:CDT
DTSTART:20250309T080000
END:DAYLIGHT
BEGIN:STANDARD
TZOFFSETFROM:-0500
TZOFFSETTO:-0600
TZNAME:CST
DTSTART:20251102T070000
END:STANDARD
BEGIN:DAYLIGHT
TZOFFSETFROM:-0600
TZOFFSETTO:-0500
TZNAME:CDT
DTSTART:20260308T080000
END:DAYLIGHT
BEGIN:STANDARD
TZOFFSETFROM:-0500
TZOFFSETTO:-0600
TZNAME:CST
DTSTART:20261101T070000
END:STANDARD
END:VTIMEZONE
BEGIN:VEVENT
DTSTART;TZID=America/Chicago:20250312T090000
DTEND;TZID=America/Chicago:20250312T100000
DTSTAMP:20260422T175138
CREATED:20250305T010607Z
LAST-MODIFIED:20250305T010607Z
UID:10001258-1741770000-1741773600@valleybusinessreport.com
SUMMARY:1 Million Cups
DESCRIPTION:Join the McAllen Chamber of Commerce on March 12 for its monthly installment of 1 Million Cups. \nThe local monthly offering is part of a free\, national program designed to educate\, engage and connect entrepreneurs. This program encourages entrepreneurs to discover solutions and network while sharing over a million cups of coffee.
URL:https://valleybusinessreport.com/event/1-million-cups-13/
LOCATION:McAllen Creative Incubator\, 601 N Main Street\, McAllen\, TX\, 78504\, United States
CATEGORIES:Networking
ATTACH;FMTTYPE=image/jpeg:https://valleybusinessreport.com/wp-content/uploads/2019/02/million-cups-logo.jpg
ORGANIZER;CN="McAllen Chamber of Commerce":MAILTO:bcardenas@mcallenchamber.com
END:VEVENT
END:VCALENDAR