BEGIN:VCALENDAR
VERSION:2.0
PRODID:-//VBR - ECPv6.15.17.1//NONSGML v1.0//EN
CALSCALE:GREGORIAN
METHOD:PUBLISH
X-ORIGINAL-URL:https://valleybusinessreport.com
X-WR-CALDESC:Events for VBR
REFRESH-INTERVAL;VALUE=DURATION:PT1H
X-Robots-Tag:noindex
X-PUBLISHED-TTL:PT1H
BEGIN:VTIMEZONE
TZID:America/Chicago
BEGIN:DAYLIGHT
TZOFFSETFROM:-0600
TZOFFSETTO:-0500
TZNAME:CDT
DTSTART:20240310T080000
END:DAYLIGHT
BEGIN:STANDARD
TZOFFSETFROM:-0500
TZOFFSETTO:-0600
TZNAME:CST
DTSTART:20241103T070000
END:STANDARD
BEGIN:DAYLIGHT
TZOFFSETFROM:-0600
TZOFFSETTO:-0500
TZNAME:CDT
DTSTART:20250309T080000
END:DAYLIGHT
BEGIN:STANDARD
TZOFFSETFROM:-0500
TZOFFSETTO:-0600
TZNAME:CST
DTSTART:20251102T070000
END:STANDARD
BEGIN:DAYLIGHT
TZOFFSETFROM:-0600
TZOFFSETTO:-0500
TZNAME:CDT
DTSTART:20260308T080000
END:DAYLIGHT
BEGIN:STANDARD
TZOFFSETFROM:-0500
TZOFFSETTO:-0600
TZNAME:CST
DTSTART:20261101T070000
END:STANDARD
END:VTIMEZONE
BEGIN:VEVENT
DTSTART;TZID=America/Chicago:20250326T100000
DTEND;TZID=America/Chicago:20250326T143000
DTSTAMP:20260423T033316
CREATED:20250316T164008Z
LAST-MODIFIED:20250316T164008Z
UID:10001262-1742983200-1742999400@valleybusinessreport.com
SUMMARY:Women’s Empowerment Event
DESCRIPTION:Join the Greater Mission Chamber of Commerce for a day of inspiration\, growth and connection at the Women’s Empowerment Event on March 26. Engage in wellness sessions\, financial literacy discussions and networking opportunities designed to uplift and empower. Explore and support local businesses at the Pop-Up Market. \nTicket prices are $25 for GMCC members\, $45 for non-members and $25 for college students (must present an active student ID). \nRegister online.
URL:https://valleybusinessreport.com/event/womens-empowerment-event/
LOCATION:Greater Mission Chamber of Commerce\, 202 W Tom Landry Street\, Mission\, TX\, 78572\, United States
CATEGORIES:Networking
ATTACH;FMTTYPE=image/jpeg:https://valleybusinessreport.com/wp-content/uploads/2025/03/WomenEmpowerment.jpg
END:VEVENT
END:VCALENDAR