BEGIN:VCALENDAR
VERSION:2.0
PRODID:-//VBR - ECPv6.15.17.1//NONSGML v1.0//EN
CALSCALE:GREGORIAN
METHOD:PUBLISH
X-WR-CALNAME:VBR
X-ORIGINAL-URL:https://valleybusinessreport.com
X-WR-CALDESC:Events for VBR
REFRESH-INTERVAL;VALUE=DURATION:PT1H
X-Robots-Tag:noindex
X-PUBLISHED-TTL:PT1H
BEGIN:VTIMEZONE
TZID:America/Chicago
BEGIN:DAYLIGHT
TZOFFSETFROM:-0600
TZOFFSETTO:-0500
TZNAME:CDT
DTSTART:20250309T080000
END:DAYLIGHT
BEGIN:STANDARD
TZOFFSETFROM:-0500
TZOFFSETTO:-0600
TZNAME:CST
DTSTART:20251102T070000
END:STANDARD
BEGIN:DAYLIGHT
TZOFFSETFROM:-0600
TZOFFSETTO:-0500
TZNAME:CDT
DTSTART:20260308T080000
END:DAYLIGHT
BEGIN:STANDARD
TZOFFSETFROM:-0500
TZOFFSETTO:-0600
TZNAME:CST
DTSTART:20261101T070000
END:STANDARD
BEGIN:DAYLIGHT
TZOFFSETFROM:-0600
TZOFFSETTO:-0500
TZNAME:CDT
DTSTART:20270314T080000
END:DAYLIGHT
BEGIN:STANDARD
TZOFFSETFROM:-0500
TZOFFSETTO:-0600
TZNAME:CST
DTSTART:20271107T070000
END:STANDARD
END:VTIMEZONE
BEGIN:VEVENT
DTSTART;TZID=America/Chicago:20260224T170000
DTEND;TZID=America/Chicago:20260224T200000
DTSTAMP:20260421T063341
CREATED:20260216T235657Z
LAST-MODIFIED:20260216T235657Z
UID:10001352-1771952400-1771963200@valleybusinessreport.com
SUMMARY:2026 Charro Days Mixer
DESCRIPTION:The Brownsville Chamber of Commerce and Texas Regional Bank invite you to celebrate in the spirit of Charro Days on Feb. 24 with their 2026 Charro Days Mixer. \nThis is the perfect kick-off to the week-long festivities happening in Brownsville so get your Charro’s costumes ready and be sure to warm up your voice for the annual grito contest. The event includes food\, Mexican snacks\, and music and performances throughout the night. \nRegister online. \nFor more information or assistance registering for the event\, contact the Brownsville Chamber of Commerce.
URL:https://valleybusinessreport.com/event/2026-charro-days-mixer/
LOCATION:Brownsville Events Center\, 1 Events Center Blvd.\, Brownsville\, TX\, United States
CATEGORIES:Networking
ATTACH;FMTTYPE=image/png:https://valleybusinessreport.com/wp-content/uploads/2026/02/2.24.262026CharroDaysMixer.png
ORGANIZER;CN="Brownsville Chamber of Commerce":MAILTO:info@brownsvillechamber.com
END:VEVENT
END:VCALENDAR