BEGIN:VCALENDAR
VERSION:2.0
PRODID:-//VBR - ECPv6.15.17.1//NONSGML v1.0//EN
CALSCALE:GREGORIAN
METHOD:PUBLISH
X-WR-CALNAME:VBR
X-ORIGINAL-URL:https://valleybusinessreport.com
X-WR-CALDESC:Events for VBR
REFRESH-INTERVAL;VALUE=DURATION:PT1H
X-Robots-Tag:noindex
X-PUBLISHED-TTL:PT1H
BEGIN:VTIMEZONE
TZID:America/Chicago
BEGIN:DAYLIGHT
TZOFFSETFROM:-0600
TZOFFSETTO:-0500
TZNAME:CDT
DTSTART:20220313T080000
END:DAYLIGHT
BEGIN:STANDARD
TZOFFSETFROM:-0500
TZOFFSETTO:-0600
TZNAME:CST
DTSTART:20221106T070000
END:STANDARD
BEGIN:DAYLIGHT
TZOFFSETFROM:-0600
TZOFFSETTO:-0500
TZNAME:CDT
DTSTART:20230312T080000
END:DAYLIGHT
BEGIN:STANDARD
TZOFFSETFROM:-0500
TZOFFSETTO:-0600
TZNAME:CST
DTSTART:20231105T070000
END:STANDARD
BEGIN:DAYLIGHT
TZOFFSETFROM:-0600
TZOFFSETTO:-0500
TZNAME:CDT
DTSTART:20240310T080000
END:DAYLIGHT
BEGIN:STANDARD
TZOFFSETFROM:-0500
TZOFFSETTO:-0600
TZNAME:CST
DTSTART:20241103T070000
END:STANDARD
END:VTIMEZONE
BEGIN:VEVENT
DTSTART;TZID=America/Chicago:20230419T083000
DTEND;TZID=America/Chicago:20230419T103000
DTSTAMP:20260425T145136
CREATED:20230411T171023Z
LAST-MODIFIED:20230411T171023Z
UID:10000744-1681893000-1681900200@valleybusinessreport.com
SUMMARY:Art of Marketing Workshop
DESCRIPTION:The Edinburg Chamber of Commerce hosts a marketing workshop for local business owners on April 19. “Art of Marketing” covers various topics related to marketing\, including the identification of target market\, pricing strategy and more. Marivel Mata\, Senior Business Advisor at the UTRGV SBDC\, leads the workshop and will help businesses improve their marketing efforts. \n“We’re excited to offer this workshop to local business owners\,” said Ronnie Larralde\, executive director of the Edinburg Chamber of Commerce. “Marketing is an essential part of any business\, and we want to help our members improve their marketing strategies so that they can grow and succeed.” \nThe workshop includes a Q&A session where attendees can ask the presenters any questions they may have. Light refreshments will also be provided. \nInterested business owners can register online or by calling the chamber’s office. Space is limited\, so interested attendees are encouraged to register early to secure their spot.
URL:https://valleybusinessreport.com/event/art-of-marketing-workshop/
LOCATION:Edinburg Chamber of Commerce\, 602 W University Drive\, Edinburg\, TX\, 78539\, United States
CATEGORIES:Seminars and Workshops
ATTACH;FMTTYPE=image/png:https://valleybusinessreport.com/wp-content/uploads/2023/04/Art-of-Marketing-04.19.23.png
ORGANIZER;CN="Edinburg Chamber of Commerce":MAILTO:chamber@edinburg.com
END:VEVENT
BEGIN:VEVENT
DTSTART;TZID=America/Chicago:20230429T110000
DTEND;TZID=America/Chicago:20230429T133000
DTSTAMP:20260425T145136
CREATED:20230411T171928Z
LAST-MODIFIED:20230411T171928Z
UID:10000745-1682766000-1682775000@valleybusinessreport.com
SUMMARY:Exploring Nature Writing: Spirituality of Trees
DESCRIPTION:Explore and write about trees at Quinta Mazatlan with naturalist and explorer Taylor Zavala.\nQuinta Mazatlán invites the public to explore and share connections with nature through the writing class: Exploring Nature Writing: Spirituality of Trees on April 29. Evaluate relationships with the natural world\, engage in stories\, learn new creative tools to enhance writing\, and explore techniques to tune in to the world around us before imaginations are set off to play. \nAttendees will explore native trees within the thorn forest by engaging their olfactory\, vision and skin senses as a means of “place-seeking.” By learning how trees function and communicate through sense-experience of their own\, we can appreciate the like value of communication\, community and being of another species. This experience offers an invitation to connect with oneself\, people and species around us. It emphasizes the interconnectivity of our world and the value which comes through the approach of writing and story as not only a form of expression but as a form of Stewardship. \nThe class fee is $3 per person\, with advance registration preferred via quintamazatlan.ticketleap.com.
URL:https://valleybusinessreport.com/event/exploring-nature-writing-spirituality-of-trees/
LOCATION:Quinta Mazatlan\, 600 Sunset Drive\, McAllen\, TX\, 78503\, United States
CATEGORIES:Seminars and Workshops
ATTACH;FMTTYPE=image/jpeg:https://valleybusinessreport.com/wp-content/uploads/2023/04/Exploring-Nature-Writing-Zavala-Taylor-002.jpg
END:VEVENT
END:VCALENDAR