BEGIN:VCALENDAR
VERSION:2.0
PRODID:-//VBR - ECPv6.15.17.1//NONSGML v1.0//EN
CALSCALE:GREGORIAN
METHOD:PUBLISH
X-WR-CALNAME:VBR
X-ORIGINAL-URL:https://valleybusinessreport.com
X-WR-CALDESC:Events for VBR
REFRESH-INTERVAL;VALUE=DURATION:PT1H
X-Robots-Tag:noindex
X-PUBLISHED-TTL:PT1H
BEGIN:VTIMEZONE
TZID:America/Chicago
BEGIN:DAYLIGHT
TZOFFSETFROM:-0600
TZOFFSETTO:-0500
TZNAME:CDT
DTSTART:20220313T080000
END:DAYLIGHT
BEGIN:STANDARD
TZOFFSETFROM:-0500
TZOFFSETTO:-0600
TZNAME:CST
DTSTART:20221106T070000
END:STANDARD
BEGIN:DAYLIGHT
TZOFFSETFROM:-0600
TZOFFSETTO:-0500
TZNAME:CDT
DTSTART:20230312T080000
END:DAYLIGHT
BEGIN:STANDARD
TZOFFSETFROM:-0500
TZOFFSETTO:-0600
TZNAME:CST
DTSTART:20231105T070000
END:STANDARD
BEGIN:DAYLIGHT
TZOFFSETFROM:-0600
TZOFFSETTO:-0500
TZNAME:CDT
DTSTART:20240310T080000
END:DAYLIGHT
BEGIN:STANDARD
TZOFFSETFROM:-0500
TZOFFSETTO:-0600
TZNAME:CST
DTSTART:20241103T070000
END:STANDARD
END:VTIMEZONE
BEGIN:VEVENT
DTSTART;TZID=America/Chicago:20230523T100000
DTEND;TZID=America/Chicago:20230523T120000
DTSTAMP:20260425T115750
CREATED:20230517T211510Z
LAST-MODIFIED:20230517T211510Z
UID:10000935-1684836000-1684843200@valleybusinessreport.com
SUMMARY:Art of Marketing
DESCRIPTION:What is marketing? Do you have a marketing plan for your business? \n“Art of Marketing” on May 23 will help new and existing businesses with critical information to create or refresh their marketing goals and objectives. \nSession highlights:\n\nUnderstanding the Seven Steps of the Marketing Process\nIdentifying Your Target Market\nDetermining Your Pricing Strategy\nCreating Customer Awareness\n\nPresented by the UTRGV SBDC. \nRegister online.
URL:https://valleybusinessreport.com/event/art-of-marketing/
LOCATION:UTRGV at Starr County Campus\, 138 N FM 3167\, Rio Grande City\, TX\, 78582\, United States
CATEGORIES:Seminars and Workshops
ATTACH;FMTTYPE=image/jpeg:https://valleybusinessreport.com/wp-content/uploads/2023/03/Marketing-Essentials.jpg
ORGANIZER;CN="Esperanza Delgado":MAILTO:esperanza.delgado@utrgv.edu
END:VEVENT
BEGIN:VEVENT
DTSTART;TZID=America/Chicago:20230531T100000
DTEND;TZID=America/Chicago:20230531T120000
DTSTAMP:20260425T115750
CREATED:20230524T163138Z
LAST-MODIFIED:20230524T163138Z
UID:10000950-1685527200-1685534400@valleybusinessreport.com
SUMMARY:Exploring Your Market
DESCRIPTION:Before launching or growing a business\, it is important to identify your target market and new market segments. Is there a demand or growing demand for your product or service? Who is buying or selling something similar? All these questions and more must be studied to make key business decisions in your small business. \nLearn about the following during “Exploring Your Market” on May 31: \n\nThe importance of market research\nTools to conduct market research\nSmall businesses and their target markets\nRelevant industry trends and what they mean\nCompetitors and how small businesses compare\nQuantifying market research for business decisions\n\nThis in-person session is presented by the UTRGV SBDC and co-hosted by the RGV Hispanic Chamber of Commerce. \nRegister online.
URL:https://valleybusinessreport.com/event/exploring-your-market/
LOCATION:RGV Hispanic Chamber of Commerce\, 801 E. Fern\, Suite 143\, McAllen\, TX\, 78501\, United States
CATEGORIES:Seminars and Workshops
ATTACH;FMTTYPE=image/jpeg:https://valleybusinessreport.com/wp-content/uploads/2019/02/market-research.jpg
ORGANIZER;CN="UTRGV Small Business Development Center":MAILTO:sbdc@utrgv.edu
END:VEVENT
END:VCALENDAR