BEGIN:VCALENDAR
VERSION:2.0
PRODID:-//VBR - ECPv6.15.17.1//NONSGML v1.0//EN
CALSCALE:GREGORIAN
METHOD:PUBLISH
X-WR-CALNAME:VBR
X-ORIGINAL-URL:https://valleybusinessreport.com
X-WR-CALDESC:Events for VBR
REFRESH-INTERVAL;VALUE=DURATION:PT1H
X-Robots-Tag:noindex
X-PUBLISHED-TTL:PT1H
BEGIN:VTIMEZONE
TZID:America/Chicago
BEGIN:DAYLIGHT
TZOFFSETFROM:-0600
TZOFFSETTO:-0500
TZNAME:CDT
DTSTART:20220313T080000
END:DAYLIGHT
BEGIN:STANDARD
TZOFFSETFROM:-0500
TZOFFSETTO:-0600
TZNAME:CST
DTSTART:20221106T070000
END:STANDARD
BEGIN:DAYLIGHT
TZOFFSETFROM:-0600
TZOFFSETTO:-0500
TZNAME:CDT
DTSTART:20230312T080000
END:DAYLIGHT
BEGIN:STANDARD
TZOFFSETFROM:-0500
TZOFFSETTO:-0600
TZNAME:CST
DTSTART:20231105T070000
END:STANDARD
BEGIN:DAYLIGHT
TZOFFSETFROM:-0600
TZOFFSETTO:-0500
TZNAME:CDT
DTSTART:20240310T080000
END:DAYLIGHT
BEGIN:STANDARD
TZOFFSETFROM:-0500
TZOFFSETTO:-0600
TZNAME:CST
DTSTART:20241103T070000
END:STANDARD
END:VTIMEZONE
BEGIN:VEVENT
DTSTART;VALUE=DATE:20230816
DTEND;VALUE=DATE:20230817
DTSTAMP:20260425T123148
CREATED:20230730T213129Z
LAST-MODIFIED:20230730T213129Z
UID:10000975-1692144000-1692230399@valleybusinessreport.com
SUMMARY:Interest Buy Down Program - Informational Session
DESCRIPTION:The Edinburg Economic Development Corporation and Edinburg Chamber of Commerce host an informational session about the Interest Buy Down Program on Aug. 16. This program is in partnership with LiftFund and aims to empower local entrepreneurs by offering loans at an incredibly low-interest rate of 2.5 percent. The program is specifically designed to address capital acquisition and cash flow management challenges. \nThe informational session take place via two sessions: 4 p.m. in English and at 5 p.m. in Spanish. \nEntrepreneurs looking to leverage this opportunity are encouraged to attend the event\, where LiftFund staff will present and be available on-site to process loan applications. \nThose interested in attending are urged to secure their spot by registering online.
URL:https://valleybusinessreport.com/event/interest-buy-down-program-informational-session/
LOCATION:Edinburg City Hall Council Chamber\, 415 W. University Drive\, Edinburg\, TX\, United States
CATEGORIES:Seminars and Workshops
ATTACH;FMTTYPE=image/png:https://valleybusinessreport.com/wp-content/uploads/2023/07/EEDC-LiftFund-Information-Sessions-8-16-2023.png
END:VEVENT
BEGIN:VEVENT
DTSTART;TZID=America/Chicago:20230817T090000
DTEND;TZID=America/Chicago:20230817T103000
DTSTAMP:20260425T123148
CREATED:20230809T051649Z
LAST-MODIFIED:20230809T051649Z
UID:10000979-1692262800-1692268200@valleybusinessreport.com
SUMMARY:Small Business Training: Financial Management
DESCRIPTION:Alex Ambriz\nThe Harlingen Chamber hosts Edward Jones financial advisor Alex Ambriz on Aug. 17 during its Small Business Training: Financial Management. Ambriz will share essential strategies and tools to manage your finances for you. \nThis event is free. Contact the chamber or email aalvarez@harlingen.com for more information.
URL:https://valleybusinessreport.com/event/small-business-training-financial-management/
LOCATION:Harlingen Area Chamber of Commerce\, 311 E. Tyler Ave.\, Harlingen\, TX\, 78550\, United States
CATEGORIES:Seminars and Workshops
ATTACH;FMTTYPE=image/jpeg:https://valleybusinessreport.com/wp-content/uploads/2023/08/Alex-Ambriz.jpg
GEO:26.1899536;-97.6928673
X-APPLE-STRUCTURED-LOCATION;VALUE=URI;X-ADDRESS=Harlingen Area Chamber of Commerce 311 E. Tyler Ave. Harlingen TX 78550 United States;X-APPLE-RADIUS=500;X-TITLE=311 E. Tyler Ave.:geo:-97.6928673,26.1899536
END:VEVENT
BEGIN:VEVENT
DTSTART;TZID=America/Chicago:20230822T100000
DTEND;TZID=America/Chicago:20230822T120000
DTSTAMP:20260425T123148
CREATED:20230816T192914Z
LAST-MODIFIED:20230816T192914Z
UID:10000982-1692698400-1692705600@valleybusinessreport.com
SUMMARY:What’s Behind the Numbers?
DESCRIPTION:Learn how to improve your bottom line by understanding the financial statements! Information on the financial position of a business supports decision-making. These numbers also indicate a business’ current and past performance\, and a business owner can use them to determine how move the business forward. \nSession highlights:\n\nLearn about the Financial Statements.\nUnderstand how to manage the financial operations of a business using these documents.\nUse the financial statements for business growth strategies.\n\nRegister online.
URL:https://valleybusinessreport.com/event/whats-behind-the-numbers/
LOCATION:Rio Grande City Public Library\, 591 E. Canales Street\, Rio Grande City\, TX\, 78582\, United States
CATEGORIES:Seminars and Workshops
ATTACH;FMTTYPE=image/jpeg:https://valleybusinessreport.com/wp-content/uploads/2023/08/financial-statements-1.jpg
ORGANIZER;CN="UTRGV Small Business Development Center":MAILTO:sbdc@utrgv.edu
END:VEVENT
BEGIN:VEVENT
DTSTART;TZID=America/Chicago:20230822T110000
DTEND;TZID=America/Chicago:20230822T120000
DTSTAMP:20260425T123148
CREATED:20230816T194155Z
LAST-MODIFIED:20230816T194155Z
UID:10000983-1692702000-1692705600@valleybusinessreport.com
SUMMARY:Unveiling the Future of Business with ChatGPT: A Game-Changing Presentation by Elizabeth Ramirez
DESCRIPTION:Elizabeth Ramirez’s unique approach to business\, rooted in authentic conversations and personal fulfillment\, has earned her a reputation as a trailblazer in the industry. Her presentation of “Unveiling the Future of Business with ChatGPT” on Aug. 22 promises to equip attendees with the knowledge and inspiration needed to Leverage AI as a tool for success. \nKey Highlights of the Presentation:\n● Understanding ChatGPT: Dive into the AI landscape and explore the transformative power of ChatGPT. Gain insights into how this technology can elevate customer engagement\, decision-making\, and workflows. \n● Benefits of Using ChatGPT in Business: Discover how ChatGPT can enhance customer experiences\, streamline decision-making processes\, and automate routine tasks. Elizabeth will provide practical examples of its real-world applications. \n● Implementing ChatGPT: Best Practices and Considerations: Navigate the\nimplementation of ChatGPT into business operations while ensuring data privacy and maintaining ethical practices. Elizabeth will share her expertise on striking the right balance between human interaction and AI. \nRegister online.
URL:https://valleybusinessreport.com/event/unveiling-the-future-of-business-with-chatgpt-a-game-changing-presentation-by-elizabeth-ramirez/
LOCATION:RGV Hispanic Chamber of Commerce\, 801 E. Fern\, Suite 143\, McAllen\, TX\, 78501\, United States
CATEGORIES:Seminars and Workshops
ATTACH;FMTTYPE=image/jpeg:https://valleybusinessreport.com/wp-content/uploads/2023/08/ChatGPT.jpg
END:VEVENT
END:VCALENDAR