BEGIN:VCALENDAR
VERSION:2.0
PRODID:-//VBR - ECPv6.15.17.1//NONSGML v1.0//EN
CALSCALE:GREGORIAN
METHOD:PUBLISH
X-WR-CALNAME:VBR
X-ORIGINAL-URL:https://valleybusinessreport.com
X-WR-CALDESC:Events for VBR
REFRESH-INTERVAL;VALUE=DURATION:PT1H
X-Robots-Tag:noindex
X-PUBLISHED-TTL:PT1H
BEGIN:VTIMEZONE
TZID:America/Chicago
BEGIN:DAYLIGHT
TZOFFSETFROM:-0600
TZOFFSETTO:-0500
TZNAME:CDT
DTSTART:20220313T080000
END:DAYLIGHT
BEGIN:STANDARD
TZOFFSETFROM:-0500
TZOFFSETTO:-0600
TZNAME:CST
DTSTART:20221106T070000
END:STANDARD
BEGIN:DAYLIGHT
TZOFFSETFROM:-0600
TZOFFSETTO:-0500
TZNAME:CDT
DTSTART:20230312T080000
END:DAYLIGHT
BEGIN:STANDARD
TZOFFSETFROM:-0500
TZOFFSETTO:-0600
TZNAME:CST
DTSTART:20231105T070000
END:STANDARD
BEGIN:DAYLIGHT
TZOFFSETFROM:-0600
TZOFFSETTO:-0500
TZNAME:CDT
DTSTART:20240310T080000
END:DAYLIGHT
BEGIN:STANDARD
TZOFFSETFROM:-0500
TZOFFSETTO:-0600
TZNAME:CST
DTSTART:20241103T070000
END:STANDARD
END:VTIMEZONE
BEGIN:VEVENT
DTSTART;TZID=America/Chicago:20231212T113000
DTEND;TZID=America/Chicago:20231212T133000
DTSTAMP:20260424T180300
CREATED:20231206T150045Z
LAST-MODIFIED:20231206T150045Z
UID:10001056-1702380600-1702387800@valleybusinessreport.com
SUMMARY:Market Mastery: Strategies for Effective Small Business Marketing
DESCRIPTION:“Strategies for Effective Small Business Marketing” on Dec. 12 equips small business owners with the knowledge and tools to excel in their marketing efforts. Participants will explore key marketing principles\, including market research\, target audience identification\, branding\, digital marketing and customer acquisition. \nLimited seats available. \nFor registration and more information\, call 956-928-0060 or register online.
URL:https://valleybusinessreport.com/event/market-mastery-strategies-for-effective-small-business-marketing/
LOCATION:UTRGV Small Business Development Center\, 1407 E Freddy Gonzalez Drive\, Edinburg\, TX\, 78542\, United States
CATEGORIES:Seminars and Workshops
ATTACH;FMTTYPE=image/jpeg:https://valleybusinessreport.com/wp-content/uploads/2018/08/marketing.jpg
END:VEVENT
END:VCALENDAR