BEGIN:VCALENDAR
VERSION:2.0
PRODID:-//VBR - ECPv6.15.17.1//NONSGML v1.0//EN
CALSCALE:GREGORIAN
METHOD:PUBLISH
X-WR-CALNAME:VBR
X-ORIGINAL-URL:https://valleybusinessreport.com
X-WR-CALDESC:Events for VBR
REFRESH-INTERVAL;VALUE=DURATION:PT1H
X-Robots-Tag:noindex
X-PUBLISHED-TTL:PT1H
BEGIN:VTIMEZONE
TZID:America/Chicago
BEGIN:DAYLIGHT
TZOFFSETFROM:-0600
TZOFFSETTO:-0500
TZNAME:CDT
DTSTART:20230312T080000
END:DAYLIGHT
BEGIN:STANDARD
TZOFFSETFROM:-0500
TZOFFSETTO:-0600
TZNAME:CST
DTSTART:20231105T070000
END:STANDARD
BEGIN:DAYLIGHT
TZOFFSETFROM:-0600
TZOFFSETTO:-0500
TZNAME:CDT
DTSTART:20240310T080000
END:DAYLIGHT
BEGIN:STANDARD
TZOFFSETFROM:-0500
TZOFFSETTO:-0600
TZNAME:CST
DTSTART:20241103T070000
END:STANDARD
BEGIN:DAYLIGHT
TZOFFSETFROM:-0600
TZOFFSETTO:-0500
TZNAME:CDT
DTSTART:20250309T080000
END:DAYLIGHT
BEGIN:STANDARD
TZOFFSETFROM:-0500
TZOFFSETTO:-0600
TZNAME:CST
DTSTART:20251102T070000
END:STANDARD
END:VTIMEZONE
BEGIN:VEVENT
DTSTART;TZID=America/Chicago:20240215T080000
DTEND;TZID=America/Chicago:20240215T170000
DTSTAMP:20260424T133309
CREATED:20240205T150620Z
LAST-MODIFIED:20240205T150715Z
UID:10001084-1707984000-1708016400@valleybusinessreport.com
SUMMARY:Boots to Business Reboot Training
DESCRIPTION:Veterans bring unique skills\, adaptability and problem-solving abilities to the business world\, polished during military service. However\, veterans face entrepreneurial start-up and growth challenges like all small business owners. To minimize those hurdles\, the SBA offers support via our Boots to Business Reboot program (B2B Reboot). \nB2B Reboot on Feb. 15 is an entrepreneurial education and training program offered by the U.S. Small Business Administration. The course provides an overview of entrepreneurship and applicable business ownership fundamentals. \nWhat participants will learn:\n\nIntroduction to Business Ownership\nThe Basics of Opportunity Recognition\nUnderstanding Markets & Competitive Space\nThe Economics of Small Business Start-Up\nLegal Considerations for Veteran-Owned Small Business\nIntroduction to Business Planning\nAccess to Capital and Financing\nSupport Resources\n\nVeterans of all eras\, Active-Duty Service members (including National Guard and Reserve) and spouses are eligible to participate. \nSeating is limited so follow the following steps: \nRegister online. \nContact UTRGV VBOC at 956-665-8931 or vboc@utrgv.edu to confirm class registration.
URL:https://valleybusinessreport.com/event/boots-to-business-reboot-training-2/
LOCATION:SBA Lower Rio Grande Valley District Office \, 2422 E. Tyler Ave.\, Suite E\, Harlingen\, TX\, 78550\, United States
CATEGORIES:Seminars and Workshops
ATTACH;FMTTYPE=image/jpeg:https://valleybusinessreport.com/wp-content/uploads/2024/02/B2BReboot.jpg
ORGANIZER;CN="Joshua Patton":MAILTO:joshua.patton@sba.gov
END:VEVENT
BEGIN:VEVENT
DTSTART;TZID=America/Chicago:20240220T100000
DTEND;TZID=America/Chicago:20240220T120000
DTSTAMP:20260424T133309
CREATED:20240205T192308Z
LAST-MODIFIED:20240205T192308Z
UID:10001086-1708423200-1708430400@valleybusinessreport.com
SUMMARY:Exploring Your Market
DESCRIPTION:Who are your potential customers? \nBefore launching or growing a business\, it is important to identify your target market and new market segments. For example\, is there a demand or growing demand for your product or service? Who is buying or selling something similar? All these questions and more must be studied to make key business decisions in your small business. \nLearn about the following\, plus more:\n\nThe importance of Market Research\nTools to conduct Market Research\nSmall businesses & their target markets\nRelevant industry trends and what they mean\nCompetitors & how small businesses compare\nQuantifying Market Research for business decisions\n\nThis in-person session is presented by the UTRGV SBDC and hosted by the Rio Grande City Economic Development Corporation\, Rio Grande City Greater Chamber of Commerce\, Rio Grande City Public Library\, RGV Hispanic Chamber of Commerce and Starr County Industrial Foundation.
URL:https://valleybusinessreport.com/event/exploring-your-market-4/
LOCATION:Rio Grande City Public Library\, 591 E. Canales Street\, Rio Grande City\, TX\, 78582\, United States
CATEGORIES:Seminars and Workshops
ATTACH;FMTTYPE=image/png:https://valleybusinessreport.com/wp-content/uploads/2024/02/Market-Research.png
ORGANIZER;CN="UTRGV Small Business Development Center":MAILTO:sbdc@utrgv.edu
END:VEVENT
BEGIN:VEVENT
DTSTART;TZID=America/Chicago:20240222T090000
DTEND;TZID=America/Chicago:20240222T110000
DTSTAMP:20260424T133309
CREATED:20240205T193947Z
LAST-MODIFIED:20240205T194118Z
UID:10001087-1708592400-1708599600@valleybusinessreport.com
SUMMARY:Get Ready to File in 2024
DESCRIPTION:Small business owners\, are you ready for tax season? “Get Ready to File in 2024” on Feb. 22 at the Edinburg Chamber will provide the information needed to get ready to file. \nSession highlights:\n\nChanges affecting small businesses for 2024 tax season\nOrganizing and checking your records\nListing your tax deductions\nCreating your tax calendar for 2024 for your business\nGathering and checking your tax forms\nPrep with your accountant or tax professional\n\nRegister online. \nThis in-person session is presented by CAS CPA\, LLC and hosted by the UTRGV Small Business Development Center in partnership with Edinburg Chamber of Commerce.
URL:https://valleybusinessreport.com/event/get-ready-to-file-in-2024-2/
LOCATION:Edinburg Chamber of Commerce\, 602 W University Drive\, Edinburg\, TX\, 78539\, United States
CATEGORIES:Seminars and Workshops
ATTACH;FMTTYPE=image/jpeg:https://valleybusinessreport.com/wp-content/uploads/2024/02/tax-form.jpg
ORGANIZER;CN="UTRGV Small Business Development Center":MAILTO:sbdc@utrgv.edu
END:VEVENT
BEGIN:VEVENT
DTSTART;TZID=America/Chicago:20240228T113000
DTEND;TZID=America/Chicago:20240228T130000
DTSTAMP:20260424T133309
CREATED:20240221T204453Z
LAST-MODIFIED:20240221T204453Z
UID:10001092-1709119800-1709125200@valleybusinessreport.com
SUMMARY:Protection in the Digital Age Presented by Frost Bank
DESCRIPTION:The Brownsville Chamber of Commerce in partnership with Frost Bank and the Business Development Fund of Texas present “Protection in the Digital Age” on Feb. 29. \nThe workshop focuses on cyber fraud and how it impacts businesses. Explore cyber business attacks like phishing\, ransomware and malware\, business email compromise and how to protect your business. Guest speaker is Jami Palmer\, vice president of Frost Loss Prevention. \nLunch will be provided. Limited seating\, no more than two representatives per company. \nRSVP by Feb. 27 to Jose Aleman at 956-702-6696 or jose.aleman@frostbank.com\, or register online.
URL:https://valleybusinessreport.com/event/protection-in-the-digital-age-presented-by-frost-bank/
LOCATION:Brownsville Chamber of Commerce\, 1600 University Blvd.\, Brownsville\, TX\, 78520\, United States
CATEGORIES:Seminars and Workshops
ATTACH;FMTTYPE=image/png:https://valleybusinessreport.com/wp-content/uploads/2024/02/2.28.24ProtectionintheDigitalAge_FrostBank.png
ORGANIZER;CN="Brownsville Chamber of Commerce":MAILTO:info@brownsvillechamber.com
GEO:25.8979742;-97.4945709
X-APPLE-STRUCTURED-LOCATION;VALUE=URI;X-ADDRESS=Brownsville Chamber of Commerce 1600 University Blvd. Brownsville TX 78520 United States;X-APPLE-RADIUS=500;X-TITLE=1600 University Blvd.:geo:-97.4945709,25.8979742
END:VEVENT
END:VCALENDAR