BEGIN:VCALENDAR
VERSION:2.0
PRODID:-//VBR - ECPv6.15.17.1//NONSGML v1.0//EN
CALSCALE:GREGORIAN
METHOD:PUBLISH
X-WR-CALNAME:VBR
X-ORIGINAL-URL:https://valleybusinessreport.com
X-WR-CALDESC:Events for VBR
REFRESH-INTERVAL;VALUE=DURATION:PT1H
X-Robots-Tag:noindex
X-PUBLISHED-TTL:PT1H
BEGIN:VTIMEZONE
TZID:America/Chicago
BEGIN:DAYLIGHT
TZOFFSETFROM:-0600
TZOFFSETTO:-0500
TZNAME:CDT
DTSTART:20230312T080000
END:DAYLIGHT
BEGIN:STANDARD
TZOFFSETFROM:-0500
TZOFFSETTO:-0600
TZNAME:CST
DTSTART:20231105T070000
END:STANDARD
BEGIN:DAYLIGHT
TZOFFSETFROM:-0600
TZOFFSETTO:-0500
TZNAME:CDT
DTSTART:20240310T080000
END:DAYLIGHT
BEGIN:STANDARD
TZOFFSETFROM:-0500
TZOFFSETTO:-0600
TZNAME:CST
DTSTART:20241103T070000
END:STANDARD
BEGIN:DAYLIGHT
TZOFFSETFROM:-0600
TZOFFSETTO:-0500
TZNAME:CDT
DTSTART:20250309T080000
END:DAYLIGHT
BEGIN:STANDARD
TZOFFSETFROM:-0500
TZOFFSETTO:-0600
TZNAME:CST
DTSTART:20251102T070000
END:STANDARD
END:VTIMEZONE
BEGIN:VEVENT
DTSTART;TZID=America/Chicago:20240503T120000
DTEND;TZID=America/Chicago:20240503T130000
DTSTAMP:20260424T103731
CREATED:20240425T223032Z
LAST-MODIFIED:20240425T223032Z
UID:10001126-1714737600-1714741200@valleybusinessreport.com
SUMMARY:MS Excel and Data Analysis Seminar
DESCRIPTION:A one-hour seminar on the basics of MS Excel and Data Analysis takes place on May 3 at the RGV Hispanic Chamber of Commerce. Topics include pivot tables and pivot charts\, Excel charts and sparklines. \nThe session is led by David Stohl\, who has more than 30 years of experience in the IT industry as an IT Educator\, database analyst\, data analyst and business analyst. Stohl can provide data analysis and business intelligence services such as database design\, data warehouse design and data modeling. \nRegister online.
URL:https://valleybusinessreport.com/event/ms-excel-and-data-analysis-seminar/
LOCATION:RGV Hispanic Chamber of Commerce\, 801 E. Fern\, Suite 143\, McAllen\, TX\, 78501\, United States
CATEGORIES:Seminars and Workshops
ATTACH;FMTTYPE=image/jpeg:https://valleybusinessreport.com/wp-content/uploads/2024/04/MS-Excel-seminar.jpg
END:VEVENT
BEGIN:VEVENT
DTSTART;TZID=America/Chicago:20240509T120000
DTEND;TZID=America/Chicago:20240509T130000
DTSTAMP:20260424T103731
CREATED:20240425T225424Z
LAST-MODIFIED:20240425T225616Z
UID:10001129-1715256000-1715259600@valleybusinessreport.com
SUMMARY:Lunch & Learn: Understanding & Building Credit
DESCRIPTION:Join LiftFund and the RGV Hispanic Chamber of Commerce for an informative session all about credit during this Lunch & Learn on May 9. Learn about values and setting goals\, building a budget that works for you and saving for what matters. Get ready to learn\, ask questions and boost your financial knowledge. \nAttendees will receive:\n\nOne-on-one Advising – Individualized counseling focused on your next steps.\nBusiness Education – Build a business plan\, learn marketing\, financials & more.\nNetworking – Meet and Network with local small businesses.\n\nRegister online.
URL:https://valleybusinessreport.com/event/lunch-learn-understanding-building-credit/
LOCATION:RGV Hispanic Chamber of Commerce\, 801 E. Fern\, Suite 143\, McAllen\, TX\, 78501\, United States
CATEGORIES:Seminars and Workshops
ATTACH;FMTTYPE=image/jpeg:https://valleybusinessreport.com/wp-content/uploads/2024/04/Financial-Literacy-McAllen-1.jpg
END:VEVENT
END:VCALENDAR