BEGIN:VCALENDAR
VERSION:2.0
PRODID:-//VBR - ECPv6.15.17.1//NONSGML v1.0//EN
CALSCALE:GREGORIAN
METHOD:PUBLISH
X-WR-CALNAME:VBR
X-ORIGINAL-URL:https://valleybusinessreport.com
X-WR-CALDESC:Events for VBR
REFRESH-INTERVAL;VALUE=DURATION:PT1H
X-Robots-Tag:noindex
X-PUBLISHED-TTL:PT1H
BEGIN:VTIMEZONE
TZID:America/Chicago
BEGIN:DAYLIGHT
TZOFFSETFROM:-0600
TZOFFSETTO:-0500
TZNAME:CDT
DTSTART:20240310T080000
END:DAYLIGHT
BEGIN:STANDARD
TZOFFSETFROM:-0500
TZOFFSETTO:-0600
TZNAME:CST
DTSTART:20241103T070000
END:STANDARD
BEGIN:DAYLIGHT
TZOFFSETFROM:-0600
TZOFFSETTO:-0500
TZNAME:CDT
DTSTART:20250309T080000
END:DAYLIGHT
BEGIN:STANDARD
TZOFFSETFROM:-0500
TZOFFSETTO:-0600
TZNAME:CST
DTSTART:20251102T070000
END:STANDARD
BEGIN:DAYLIGHT
TZOFFSETFROM:-0600
TZOFFSETTO:-0500
TZNAME:CDT
DTSTART:20260308T080000
END:DAYLIGHT
BEGIN:STANDARD
TZOFFSETFROM:-0500
TZOFFSETTO:-0600
TZNAME:CST
DTSTART:20261101T070000
END:STANDARD
END:VTIMEZONE
BEGIN:VEVENT
DTSTART;TZID=America/Chicago:20250109T090000
DTEND;TZID=America/Chicago:20250109T100000
DTSTAMP:20260423T071350
CREATED:20241229T152253Z
LAST-MODIFIED:20241229T152253Z
UID:10001225-1736413200-1736416800@valleybusinessreport.com
SUMMARY:Business Over Breakfast: Orangetheory Fitness
DESCRIPTION:Discover Orangetheory Fitness and their innovative approach to health and wellness at the Harlingen Area Chamber of Commerce’s Business Over Breakfast on Jan. 9. \nLearn how Orangetheory can help you achieve your goals and make 2025 your strongest year.
URL:https://valleybusinessreport.com/event/business-over-breakfast-orangetheory-fitness/
LOCATION:Harlingen Area Chamber of Commerce\, 311 E. Tyler Ave.\, Harlingen\, TX\, 78550\, United States
CATEGORIES:Seminars and Workshops
ATTACH;FMTTYPE=image/png:https://valleybusinessreport.com/wp-content/uploads/2024/12/businessbreakfast_0124.png
GEO:26.1899536;-97.6928673
X-APPLE-STRUCTURED-LOCATION;VALUE=URI;X-ADDRESS=Harlingen Area Chamber of Commerce 311 E. Tyler Ave. Harlingen TX 78550 United States;X-APPLE-RADIUS=500;X-TITLE=311 E. Tyler Ave.:geo:-97.6928673,26.1899536
END:VEVENT
BEGIN:VEVENT
DTSTART;TZID=America/Chicago:20250117T090000
DTEND;TZID=America/Chicago:20250117T110000
DTSTAMP:20260423T071350
CREATED:20241229T151402Z
LAST-MODIFIED:20241229T151402Z
UID:10001223-1737104400-1737111600@valleybusinessreport.com
SUMMARY:Business Startup Basics: Let’s Talk Business Series Session 1
DESCRIPTION:Introducing the “Let’s Talk Business Series\,” a 12-part program connecting entrepreneurs with federal\, state and local small business resources.  Whether you’re a budding entrepreneur or want to grow your business\, this series presents essential business topics\, provides a forum for networking\, and promotes success in today’s dynamic business environment.  Participants may attend one\, two\, six or all sessions. \nSession 1 –   Business Startup Basics\nThere is not a one-size-fits-all approach to starting a business\, and not everyone knows where to start.  While starting a business is an exciting venture\, it can be overwhelming and daunting to navigate without proper planning\, understanding and execution. \nThere are several factors to keep in mind before starting your own business. If you’re thinking about starting your own business\, this session will give you the understanding you need to be well-informed and confident as you evaluate your ideas\, providing a clear expectation of the road ahead as you embark on your journey to business ownership. \nTo kick off the series\, SCORE RGV will present this session to help participants understand entrepreneurship. \nDiscover and Learn:\n\nMyths and Realities of Entrepreneurship\nCritical Success Factors/Management\nComponents of Business Ownership\nMaking it Legal\nFunding and Cash Management\n\nThe U.S. Small Business Administration provides programs and services on a nondiscriminatory basis. Moreover\, SBA can make reasonable arrangements for persons with disabilities if requested at least two weeks in advance. \nThe SBA’s participation does not endorse any opinion\, product\, or service of the organizations in attendance. The SBA organizes informational workshops for business development purposes only. \nRegister online.
URL:https://valleybusinessreport.com/event/business-startup-basics-lets-talk-business-series-session-1/
LOCATION:SBA Lower Rio Grande Valley District Office \, 2422 E. Tyler Ave.\, Suite E\, Harlingen\, TX\, 78550\, United States
CATEGORIES:Seminars and Workshops
ATTACH;FMTTYPE=image/jpeg:https://valleybusinessreport.com/wp-content/uploads/2024/12/Business-Startup-Basics.jpg
ORGANIZER;CN="Veronica Z. Ortega%2C SBA":MAILTO:veronica.ortega@sba.gov
END:VEVENT
BEGIN:VEVENT
DTSTART;TZID=America/Chicago:20250131T090000
DTEND;TZID=America/Chicago:20250131T110000
DTSTAMP:20260423T071350
CREATED:20241229T151832Z
LAST-MODIFIED:20241229T151832Z
UID:10001224-1738314000-1738321200@valleybusinessreport.com
SUMMARY:Credits\, Deductions and Taxes for your Business: Let’s Talk Business Series Session 2
DESCRIPTION:Introducing the “Let’s Talk Business Series\,” a 12-part program connecting entrepreneurs with federal\, state and local small business resources.  Whether you’re a budding entrepreneur or want to grow your business\, this series presents essential business topics\, provides a forum for networking\, and promotes success in today’s dynamic business environment.  Participants may attend one\, two\, six or all sessions. \nSession 2 – Credits\, Deductions and Taxes for Your Business\nBusiness owners often look for ways to minimize their company’s tax liability. Understanding your tax obligation is one key to business success. Entrepreneurs should plan for their business taxes from day one to maintain accurate records and reduce the risk of tax penalties down the line. Knowing how to avoid tax mistakes is imperative to your business. \nThis session is presented by the U.S. Internal Revenue Service and will help you understand credits\, taxes and deductions for your business. \nSession 2 Topics:\n\nFiguring out if your business is subject to the self-employment tax\, income tax or both\nThe different forms of taxable and nontaxable income that come from money\, property or services\nWhat you can and can’t deduct as a business expense\nBusiness tax credits for your business\nIs your business considered a hobby?\n\nThe U.S. Small Business Administration provides programs and services on a nondiscriminatory basis. Moreover\, SBA can make reasonable arrangements for persons with disabilities if requested at least two weeks in advance. \nThe SBA’s participation does not endorse any opinion\, product\, or service of the organizations in attendance. The SBA organizes informational workshops for business development purposes only. \nRegister online.
URL:https://valleybusinessreport.com/event/credits-deductions-and-taxes-for-your-business-lets-talk-business-series-session-2/
LOCATION:SBA Lower Rio Grande Valley District Office \, 2422 E. Tyler Ave.\, Suite E\, Harlingen\, TX\, 78550\, United States
CATEGORIES:Seminars and Workshops
ATTACH;FMTTYPE=image/jpeg:https://valleybusinessreport.com/wp-content/uploads/2024/12/CreditsDeductions.jpg
ORGANIZER;CN="Veronica Z. Ortega%2C SBA":MAILTO:veronica.ortega@sba.gov
END:VEVENT
END:VCALENDAR