BEGIN:VCALENDAR
VERSION:2.0
PRODID:-//VBR - ECPv6.15.17.1//NONSGML v1.0//EN
CALSCALE:GREGORIAN
METHOD:PUBLISH
X-WR-CALNAME:VBR
X-ORIGINAL-URL:https://valleybusinessreport.com
X-WR-CALDESC:Events for VBR
REFRESH-INTERVAL;VALUE=DURATION:PT1H
X-Robots-Tag:noindex
X-PUBLISHED-TTL:PT1H
BEGIN:VTIMEZONE
TZID:America/Chicago
BEGIN:DAYLIGHT
TZOFFSETFROM:-0600
TZOFFSETTO:-0500
TZNAME:CDT
DTSTART:20240310T080000
END:DAYLIGHT
BEGIN:STANDARD
TZOFFSETFROM:-0500
TZOFFSETTO:-0600
TZNAME:CST
DTSTART:20241103T070000
END:STANDARD
BEGIN:DAYLIGHT
TZOFFSETFROM:-0600
TZOFFSETTO:-0500
TZNAME:CDT
DTSTART:20250309T080000
END:DAYLIGHT
BEGIN:STANDARD
TZOFFSETFROM:-0500
TZOFFSETTO:-0600
TZNAME:CST
DTSTART:20251102T070000
END:STANDARD
BEGIN:DAYLIGHT
TZOFFSETFROM:-0600
TZOFFSETTO:-0500
TZNAME:CDT
DTSTART:20260308T080000
END:DAYLIGHT
BEGIN:STANDARD
TZOFFSETFROM:-0500
TZOFFSETTO:-0600
TZNAME:CST
DTSTART:20261101T070000
END:STANDARD
END:VTIMEZONE
BEGIN:VEVENT
DTSTART;TZID=America/Chicago:20250207T090000
DTEND;TZID=America/Chicago:20250207T110000
DTSTAMP:20260422T175425
CREATED:20250201T224210Z
LAST-MODIFIED:20250201T224210Z
UID:10001248-1738918800-1738926000@valleybusinessreport.com
SUMMARY:The Importance of a Business Plan - Let's Talk Business Series
DESCRIPTION:A good business plan guides you through each stage of starting and managing your business. You’ll use your plan as a roadmap for how to structure\, run and grow your new business. It’s a way to think through the key elements of your business. \nBusiness plans can help you get funding or bring on new business partners. Investors want to feel confident they’ll see a return on their investment. \n“The Importance of a Business Plan” on Feb. 7 at the SBA Lower Rio Grande Valley District Office provides information on the power of planning and why it’s important to prepare a business plan. \nA sound business plan will:\n\nDefine and focus on your business objective\nBe an essential part of the loan application process\nBe used to obtain advice from experts\nUncover omissions and/or weaknesses in the business idea & planning process\nThe key components of a business plan\n\nRegister online.
URL:https://valleybusinessreport.com/event/the-importance-of-a-business-plan-lets-talk-business-series/
LOCATION:SBA Lower Rio Grande Valley District Office \, 2422 E. Tyler Ave.\, Suite E\, Harlingen\, TX\, 78550\, United States
CATEGORIES:Seminars and Workshops
ATTACH;FMTTYPE=image/jpeg:https://valleybusinessreport.com/wp-content/uploads/2025/02/businessPlan_LetsTalk.jpg
ORGANIZER;CN="Veronica Z. Ortega%2C SBA":MAILTO:veronica.ortega@sba.gov
END:VEVENT
BEGIN:VEVENT
DTSTART;TZID=America/Chicago:20250211T090000
DTEND;TZID=America/Chicago:20250211T100000
DTSTAMP:20260422T175425
CREATED:20250201T221448Z
LAST-MODIFIED:20250201T221448Z
UID:10001245-1739264400-1739268000@valleybusinessreport.com
SUMMARY:Healthcare Sector Training & Grant Opportunities
DESCRIPTION:Join Weslaco Economic Development Corporation and Workforce Solutions on Feb. 11 for an insightful session on training and grants for the healthcare sector utilizing funding available from the Texas Workforce Commission. \nLearn how you can access valuable resources to enhance your workforce in healthcare. To get an accurate count for coffee and pastries\, RSVP online.
URL:https://valleybusinessreport.com/event/healthcare-sector-training-grant-opportunities/
LOCATION:Weslaco BVEC Conference Room\, 275 S. Kansas Ave.\, Weslaco\, United States
CATEGORIES:Seminars and Workshops
ATTACH;FMTTYPE=image/png:https://valleybusinessreport.com/wp-content/uploads/2025/02/Healthcare-Sector-Training.png
END:VEVENT
BEGIN:VEVENT
DTSTART;TZID=America/Chicago:20250219T100000
DTEND;TZID=America/Chicago:20250219T120000
DTSTAMP:20260422T175425
CREATED:20250201T224805Z
LAST-MODIFIED:20250201T224805Z
UID:10001249-1739959200-1739966400@valleybusinessreport.com
SUMMARY:Show Me the Money! Small Business Financing Options
DESCRIPTION:Are you planning to start or grow your business? Do you require funding to kick off your entrepreneurial journey or elevate your business to the next stage? \nJoin the the UTRGV SBDC on Feb. 19 for a “Show Me the Money! Small Business Financing Options\,” a forum focused on financing options available for small businesses. \nGuest speakers include those from: \n\nU.S. Small Business Administration\nPeopleFund\nLiftFund\nLone Star National Bank\n\nThis in-person session is presented by the UTRGV SBDC and hosted by the Rio Grande City Economic Development Corporation\, Rio Grande City Greater Chamber of Commerce\, Rio Grande City Public Library\, RGV Hispanic Chamber of Commerce\, and Starr County Industrial Foundation. \nRegister online.
URL:https://valleybusinessreport.com/event/show-me-the-money-small-business-financing-options-2/
LOCATION:UTRGV at Starr County Campus\, 138 N FM 3167\, Rio Grande City\, TX\, 78582\, United States
CATEGORIES:Seminars and Workshops
ATTACH;FMTTYPE=image/jpeg:https://valleybusinessreport.com/wp-content/uploads/2020/07/grant-money.jpg
ORGANIZER;CN="UTRGV Small Business Development Center":MAILTO:sbdc@utrgv.edu
END:VEVENT
BEGIN:VEVENT
DTSTART;TZID=America/Chicago:20250227T100000
DTEND;TZID=America/Chicago:20250227T140000
DTSTAMP:20260422T175425
CREATED:20250201T225743Z
LAST-MODIFIED:20250201T225743Z
UID:10001250-1740650400-1740664800@valleybusinessreport.com
SUMMARY:SBDC Smart Start
DESCRIPTION:Do you have a business idea? Are you interested in starting your own business? Join SBDC Smart Start on Feb. 27 to receive information and learn the steps necessary for a smart start. The session also gets attendees ready for one-to-one\, business advisement sessions for ongoing assistance’ \nThis in-person session is presented by the UTRGV Small Business Development Center and hosted by the Pharr Global Business Hub. \nRegister online.
URL:https://valleybusinessreport.com/event/sbdc-smart-start-4/
LOCATION:Pharr Global Business Hub\, 301 South Cage Blvd.\, Pharr\, United States
CATEGORIES:Seminars and Workshops
ATTACH;FMTTYPE=image/png:https://valleybusinessreport.com/wp-content/uploads/2017/06/SBDC.png
ORGANIZER;CN="UTRGV Small Business Development Center":MAILTO:sbdc@utrgv.edu
END:VEVENT
END:VCALENDAR