BEGIN:VCALENDAR
VERSION:2.0
PRODID:-//VBR - ECPv6.15.17.1//NONSGML v1.0//EN
CALSCALE:GREGORIAN
METHOD:PUBLISH
X-ORIGINAL-URL:https://valleybusinessreport.com
X-WR-CALDESC:Events for VBR
REFRESH-INTERVAL;VALUE=DURATION:PT1H
X-Robots-Tag:noindex
X-PUBLISHED-TTL:PT1H
BEGIN:VTIMEZONE
TZID:America/Chicago
BEGIN:DAYLIGHT
TZOFFSETFROM:-0600
TZOFFSETTO:-0500
TZNAME:CDT
DTSTART:20240310T080000
END:DAYLIGHT
BEGIN:STANDARD
TZOFFSETFROM:-0500
TZOFFSETTO:-0600
TZNAME:CST
DTSTART:20241103T070000
END:STANDARD
BEGIN:DAYLIGHT
TZOFFSETFROM:-0600
TZOFFSETTO:-0500
TZNAME:CDT
DTSTART:20250309T080000
END:DAYLIGHT
BEGIN:STANDARD
TZOFFSETFROM:-0500
TZOFFSETTO:-0600
TZNAME:CST
DTSTART:20251102T070000
END:STANDARD
BEGIN:DAYLIGHT
TZOFFSETFROM:-0600
TZOFFSETTO:-0500
TZNAME:CDT
DTSTART:20260308T080000
END:DAYLIGHT
BEGIN:STANDARD
TZOFFSETFROM:-0500
TZOFFSETTO:-0600
TZNAME:CST
DTSTART:20261101T070000
END:STANDARD
END:VTIMEZONE
BEGIN:VEVENT
DTSTART;TZID=America/Chicago:20251024T110000
DTEND;TZID=America/Chicago:20251024T130000
DTSTAMP:20260421T101120
CREATED:20251013T154127Z
LAST-MODIFIED:20251013T154127Z
UID:10001326-1761303600-1761310800@valleybusinessreport.com
SUMMARY:Real Talk: Marketing In Healthcare
DESCRIPTION:The Edinburg Chamber of Commerce partners with The Code(SM) Group to present Real Talk: Marketing in Healthcare on Oct. 24. The seminar\, focusing on healthcare and marketing professionals\, includes a panel discussion on today’s healthcare marketing landscape. Learn what’s working\, what’s changing\, and how organizations are driving patient acquisition in real time. \nFeatured Panelists:\nTom Castañeda – South Texas Health System – Edinburg\nPriscilla Gabrielle Duran – Mission Regional Medical Center\nPablo Treviño – XO Physical Therapy\nAlicia Cruz – MedCare EMS \nDon’t miss this opportunity to connect\, collaborate and gain insights from some of the region’s leading healthcare marketing professionals. Expand your network while discovering strategies that can make a real impact. \nRegister online.
URL:https://valleybusinessreport.com/event/real-talk-marketing-in-healthcare/
LOCATION:Region One Education Service Center\, 2022 West Schunior Street\, Edinburg\, 78541\, United States
CATEGORIES:Seminars and Workshops
ATTACH;FMTTYPE=image/jpeg:https://valleybusinessreport.com/wp-content/uploads/2025/10/tmp_7247-scaled.jpg
ORGANIZER;CN="Edinburg Chamber of Commerce":MAILTO:chamber@edinburg.com
END:VEVENT
END:VCALENDAR