BEGIN:VCALENDAR
VERSION:2.0
PRODID:-//VBR - ECPv6.15.17.1//NONSGML v1.0//EN
CALSCALE:GREGORIAN
METHOD:PUBLISH
X-WR-CALNAME:VBR
X-ORIGINAL-URL:https://valleybusinessreport.com
X-WR-CALDESC:Events for VBR
REFRESH-INTERVAL;VALUE=DURATION:PT1H
X-Robots-Tag:noindex
X-PUBLISHED-TTL:PT1H
BEGIN:VTIMEZONE
TZID:America/Chicago
BEGIN:DAYLIGHT
TZOFFSETFROM:-0600
TZOFFSETTO:-0500
TZNAME:CDT
DTSTART:20220313T080000
END:DAYLIGHT
BEGIN:STANDARD
TZOFFSETFROM:-0500
TZOFFSETTO:-0600
TZNAME:CST
DTSTART:20221106T070000
END:STANDARD
BEGIN:DAYLIGHT
TZOFFSETFROM:-0600
TZOFFSETTO:-0500
TZNAME:CDT
DTSTART:20230312T080000
END:DAYLIGHT
BEGIN:STANDARD
TZOFFSETFROM:-0500
TZOFFSETTO:-0600
TZNAME:CST
DTSTART:20231105T070000
END:STANDARD
BEGIN:DAYLIGHT
TZOFFSETFROM:-0600
TZOFFSETTO:-0500
TZNAME:CDT
DTSTART:20240310T080000
END:DAYLIGHT
BEGIN:STANDARD
TZOFFSETFROM:-0500
TZOFFSETTO:-0600
TZNAME:CST
DTSTART:20241103T070000
END:STANDARD
END:VTIMEZONE
BEGIN:VEVENT
DTSTART;TZID=America/Chicago:20230321T100000
DTEND;TZID=America/Chicago:20230321T120000
DTSTAMP:20260425T221040
CREATED:20230314T000125Z
LAST-MODIFIED:20230314T000125Z
UID:10000921-1679392800-1679400000@valleybusinessreport.com
SUMMARY:Show Me the Money! Small Business Financing Options
DESCRIPTION:Are you looking to launch or expand your business? Do you need funding to get started or to move to the next level? \nJoin the the UTRGV SBDC on March 21 for “Show Me the Money! Small Business Financing Options\,” a forum on financing options for small businesses. \nGuest speakers include:\n\nU.S. Small Business Administration\nPeopleFund\nLiftFund\nLone Star National Bank\n\nThis event also includes a mini-fair and an opportunity to set a one-to-one appointment with the UTRGV Small Business Development Center for no-cost business advisement. \nThis in-person session is presented by the UTRGV SBDC and hosted by the Rio Grande City Economic Development Corporation\, Rio Grande City Greater Chamber of Commerce\, Rio Grande City Public Library\, RGV Hispanic Chamber of Commerce\, and Starr County Industrial Foundation. \nRegister online.
URL:https://valleybusinessreport.com/event/show-me-the-money-small-business-financing-options/
LOCATION:UTRGV at Starr County Campus\, 138 N FM 3167\, Rio Grande City\, TX\, 78582\, United States
CATEGORIES:Seminars and Workshops
ATTACH;FMTTYPE=image/jpeg:https://valleybusinessreport.com/wp-content/uploads/2019/03/dollars_finances.jpg
ORGANIZER;CN="UTRGV Small Business Development Center":MAILTO:sbdc@utrgv.edu
END:VEVENT
END:VCALENDAR