BEGIN:VCALENDAR
VERSION:2.0
PRODID:-//VBR - ECPv6.15.17.1//NONSGML v1.0//EN
CALSCALE:GREGORIAN
METHOD:PUBLISH
X-ORIGINAL-URL:https://valleybusinessreport.com
X-WR-CALDESC:Events for VBR
REFRESH-INTERVAL;VALUE=DURATION:PT1H
X-Robots-Tag:noindex
X-PUBLISHED-TTL:PT1H
BEGIN:VTIMEZONE
TZID:America/Chicago
BEGIN:DAYLIGHT
TZOFFSETFROM:-0600
TZOFFSETTO:-0500
TZNAME:CDT
DTSTART:20220313T080000
END:DAYLIGHT
BEGIN:STANDARD
TZOFFSETFROM:-0500
TZOFFSETTO:-0600
TZNAME:CST
DTSTART:20221106T070000
END:STANDARD
BEGIN:DAYLIGHT
TZOFFSETFROM:-0600
TZOFFSETTO:-0500
TZNAME:CDT
DTSTART:20230312T080000
END:DAYLIGHT
BEGIN:STANDARD
TZOFFSETFROM:-0500
TZOFFSETTO:-0600
TZNAME:CST
DTSTART:20231105T070000
END:STANDARD
BEGIN:DAYLIGHT
TZOFFSETFROM:-0600
TZOFFSETTO:-0500
TZNAME:CDT
DTSTART:20240310T080000
END:DAYLIGHT
BEGIN:STANDARD
TZOFFSETFROM:-0500
TZOFFSETTO:-0600
TZNAME:CST
DTSTART:20241103T070000
END:STANDARD
END:VTIMEZONE
BEGIN:VEVENT
DTSTART;TZID=America/Chicago:20230621T080000
DTEND;TZID=America/Chicago:20230621T170000
DTSTAMP:20260425T132719
CREATED:20230613T202309Z
LAST-MODIFIED:20230613T202309Z
UID:10000942-1687334400-1687366800@valleybusinessreport.com
SUMMARY:Entrepreneurship Bootcamp
DESCRIPTION:The Brownsville Chamber of Commerce in partnership with Workforce Solutions Cameron hosts 2023 Entrepreneurship Bootcamp on June 21 at the Brownsville Events Center. \nThe Entrepreneurship Bootcamp is an intensive full day of learning from business experts broken-down into three breakout sessions covering topics in entrepreneurship\, financial literacy and marketing. Each of these courses will be offered in basic\, intermediate\, advanced and Spanish training sessions. \nThe 2023 Entrepreneurship Bootcamp is available as an in-person event and as a virtual live stream. All attendees will receive the recorded training sessions along with digital copies of the presentations. \nScholarships are available for those who meet the following requirements: \n\nBe a current business owner\nBe a Texas resident\nBe a parent of a child under the age of 18 years old\nMust provide a copy of acceptable verifying eligibility criteria \n\nCall the Brownsville Chamber of Commerce to register for a scholarship. \nIndividual tickets are $150 per person and include access to the in-person event and its business experts\, digital recording of the live-streamed courses\, lunch and networking opportunities. Live stream access is available for $75 per person and includes access to the live-streamed courses of your selection (you will receive the link to access the live stream before the event) and access to the digital recording of the live-streamed courses. Live stream access does not grant access to the in-person event.​ \nRegister online.
URL:https://valleybusinessreport.com/event/entrepreneurship-bootcamp/
LOCATION:Brownsville Events Center\, 1 Events Center Blvd.\, Brownsville\, TX\, United States
CATEGORIES:Seminars and Workshops
ATTACH;FMTTYPE=image/png:https://valleybusinessreport.com/wp-content/uploads/2023/06/6.21.23EntrepreneurshipBootcamp.png
ORGANIZER;CN="Brownsville Chamber of Commerce":MAILTO:info@brownsvillechamber.com
END:VEVENT
BEGIN:VEVENT
DTSTART;TZID=America/Chicago:20230621T083000
DTEND;TZID=America/Chicago:20230621T103000
DTSTAMP:20260425T132719
CREATED:20230613T195829Z
LAST-MODIFIED:20230613T195829Z
UID:10000940-1687336200-1687343400@valleybusinessreport.com
SUMMARY:Small Business Branding
DESCRIPTION:Why is branding important for a new business? Successful branding begins at the start of your business journey. \nWith “Small Business Branding” on June 21\, learn to develop a structure that is unique to your business and recognizable to your customer. \nSession Highlights:\n\nWhat is a brand?\nThe importance of branding?\nThe three branding principles.\nSteps to branding development.\nProtecting and maintaining a successful brand.\n\nThis seminar is presented by the UTRGV SBDC in partnership with the Edinburg Chamber of Commerce. \nRegister online.
URL:https://valleybusinessreport.com/event/small-business-branding/
LOCATION:Edinburg Chamber of Commerce\, 602 W University Drive\, Edinburg\, TX\, 78539\, United States
CATEGORIES:Seminars and Workshops
ATTACH;FMTTYPE=image/jpeg:https://valleybusinessreport.com/wp-content/uploads/2019/04/BuildBrand.jpg
ORGANIZER;CN="Esperanza Delgado":MAILTO:esperanza.delgado@utrgv.edu
END:VEVENT
END:VCALENDAR