BEGIN:VCALENDAR
VERSION:2.0
PRODID:-//VBR - ECPv6.15.17.1//NONSGML v1.0//EN
CALSCALE:GREGORIAN
METHOD:PUBLISH
X-WR-CALNAME:VBR
X-ORIGINAL-URL:https://valleybusinessreport.com
X-WR-CALDESC:Events for VBR
REFRESH-INTERVAL;VALUE=DURATION:PT1H
X-Robots-Tag:noindex
X-PUBLISHED-TTL:PT1H
BEGIN:VTIMEZONE
TZID:America/Chicago
BEGIN:DAYLIGHT
TZOFFSETFROM:-0600
TZOFFSETTO:-0500
TZNAME:CDT
DTSTART:20220313T080000
END:DAYLIGHT
BEGIN:STANDARD
TZOFFSETFROM:-0500
TZOFFSETTO:-0600
TZNAME:CST
DTSTART:20221106T070000
END:STANDARD
BEGIN:DAYLIGHT
TZOFFSETFROM:-0600
TZOFFSETTO:-0500
TZNAME:CDT
DTSTART:20230312T080000
END:DAYLIGHT
BEGIN:STANDARD
TZOFFSETFROM:-0500
TZOFFSETTO:-0600
TZNAME:CST
DTSTART:20231105T070000
END:STANDARD
BEGIN:DAYLIGHT
TZOFFSETFROM:-0600
TZOFFSETTO:-0500
TZNAME:CDT
DTSTART:20240310T080000
END:DAYLIGHT
BEGIN:STANDARD
TZOFFSETFROM:-0500
TZOFFSETTO:-0600
TZNAME:CST
DTSTART:20241103T070000
END:STANDARD
END:VTIMEZONE
BEGIN:VEVENT
DTSTART;TZID=America/Chicago:20230718T100000
DTEND;TZID=America/Chicago:20230718T120000
DTSTAMP:20260425T071852
CREATED:20230711T220347Z
LAST-MODIFIED:20230711T220740Z
UID:10000956-1689674400-1689681600@valleybusinessreport.com
SUMMARY:Small Business Branding
DESCRIPTION:Why is branding important for a new business? \nSuccessful branding begins at the start of your business journey. Learn at ‘Small Business Branding” on July 18 how to develop a structure that is unique to your business and recognizable to your customer. \nSession Highlights:\n\nWhat is a brand?\nThe importance of branding?\nThe three branding principles.\nSteps to branding development.\nProtecting and maintaining a successful brand.\n\nThis in-person session is hosted by the UTRGV SBDC in partnership with the Harlingen Economic Development Corporation. \nRegister online.
URL:https://valleybusinessreport.com/event/small-business-branding-2/
LOCATION:UTRGV Small Business Development Center\, 1407 E Freddy Gonzalez Drive\, Edinburg\, TX\, 78542\, United States
CATEGORIES:Seminars and Workshops
ATTACH;FMTTYPE=image/jpeg:https://valleybusinessreport.com/wp-content/uploads/2023/07/Small-Business-Branding.jpg
ORGANIZER;CN="UTRGV Small Business Development Center":MAILTO:sbdc@utrgv.edu
END:VEVENT
END:VCALENDAR