BEGIN:VCALENDAR
VERSION:2.0
PRODID:-//VBR - ECPv6.15.17.1//NONSGML v1.0//EN
CALSCALE:GREGORIAN
METHOD:PUBLISH
X-ORIGINAL-URL:https://valleybusinessreport.com
X-WR-CALDESC:Events for VBR
REFRESH-INTERVAL;VALUE=DURATION:PT1H
X-Robots-Tag:noindex
X-PUBLISHED-TTL:PT1H
BEGIN:VTIMEZONE
TZID:America/Chicago
BEGIN:DAYLIGHT
TZOFFSETFROM:-0600
TZOFFSETTO:-0500
TZNAME:CDT
DTSTART:20220313T080000
END:DAYLIGHT
BEGIN:STANDARD
TZOFFSETFROM:-0500
TZOFFSETTO:-0600
TZNAME:CST
DTSTART:20221106T070000
END:STANDARD
BEGIN:DAYLIGHT
TZOFFSETFROM:-0600
TZOFFSETTO:-0500
TZNAME:CDT
DTSTART:20230312T080000
END:DAYLIGHT
BEGIN:STANDARD
TZOFFSETFROM:-0500
TZOFFSETTO:-0600
TZNAME:CST
DTSTART:20231105T070000
END:STANDARD
BEGIN:DAYLIGHT
TZOFFSETFROM:-0600
TZOFFSETTO:-0500
TZNAME:CDT
DTSTART:20240310T080000
END:DAYLIGHT
BEGIN:STANDARD
TZOFFSETFROM:-0500
TZOFFSETTO:-0600
TZNAME:CST
DTSTART:20241103T070000
END:STANDARD
END:VTIMEZONE
BEGIN:VEVENT
DTSTART;TZID=America/Chicago:20230721T090000
DTEND;TZID=America/Chicago:20230721T110000
DTSTAMP:20260425T083451
CREATED:20230717T115055Z
LAST-MODIFIED:20230717T115055Z
UID:10000959-1689930000-1689937200@valleybusinessreport.com
SUMMARY:OSHA Safety & Health For Texas Employers
DESCRIPTION:SBA’s Lower Rio Grande Valley District Office hosts “OSHA Safety & Health For Texas Employers” on July 21 about OSHA obligations\, reporting and more. \nUsing a no-cost consultation service largely funded by OSHA\, employers can find out about potential hazards at their worksites\, improve their safety and health programs\, and even qualify for a one-year exemption from routine OSHA inspections. Primarily targeted for smaller businesses\, this safety and health consultation program is completely separate from the OSHA inspection effort. In addition\, no citations are issued or penalties proposed. \nThe Occupational Safety Consultation program is a free and confidential service available to private sector Texas employers through the Texas Department of Insurance\, Division of Workers’ Compensation. OSHCON’s professional safety and health consultants\, across the state\, are available to help employers understand OSHA rules and identify and eliminate occupation hazards in their workplace. \nDiscover and Learn:\n\nEmployer Obligation to OSHA Regulations and Standards\nOSHA Injury and Illness Recording & Reporting\nTypes of OSHA Inspections\nMost frequently cited serious violations in General Industry and Construction FY 2021\nOSHCON Consultation\nCOVID-19 Updates\nNo Cost Workplace Safety Resources\n\nRegister online.
URL:https://valleybusinessreport.com/event/osha-safety-health-for-texas-employers/
LOCATION:SBA Lower Rio Grande Valley District Office \, 2422 E. Tyler Ave.\, Suite E\, Harlingen\, TX\, 78550\, United States
CATEGORIES:Seminars and Workshops
ATTACH;FMTTYPE=image/jpeg:https://valleybusinessreport.com/wp-content/uploads/2023/07/OSHA.jpg
ORGANIZER;CN="Veronica Z. Ortega%2C SBA":MAILTO:veronica.ortega@sba.gov
END:VEVENT
END:VCALENDAR