BEGIN:VCALENDAR
VERSION:2.0
PRODID:-//VBR - ECPv6.15.17.1//NONSGML v1.0//EN
CALSCALE:GREGORIAN
METHOD:PUBLISH
X-ORIGINAL-URL:https://valleybusinessreport.com
X-WR-CALDESC:Events for VBR
REFRESH-INTERVAL;VALUE=DURATION:PT1H
X-Robots-Tag:noindex
X-PUBLISHED-TTL:PT1H
BEGIN:VTIMEZONE
TZID:America/Chicago
BEGIN:DAYLIGHT
TZOFFSETFROM:-0600
TZOFFSETTO:-0500
TZNAME:CDT
DTSTART:20220313T080000
END:DAYLIGHT
BEGIN:STANDARD
TZOFFSETFROM:-0500
TZOFFSETTO:-0600
TZNAME:CST
DTSTART:20221106T070000
END:STANDARD
BEGIN:DAYLIGHT
TZOFFSETFROM:-0600
TZOFFSETTO:-0500
TZNAME:CDT
DTSTART:20230312T080000
END:DAYLIGHT
BEGIN:STANDARD
TZOFFSETFROM:-0500
TZOFFSETTO:-0600
TZNAME:CST
DTSTART:20231105T070000
END:STANDARD
BEGIN:DAYLIGHT
TZOFFSETFROM:-0600
TZOFFSETTO:-0500
TZNAME:CDT
DTSTART:20240310T080000
END:DAYLIGHT
BEGIN:STANDARD
TZOFFSETFROM:-0500
TZOFFSETTO:-0600
TZNAME:CST
DTSTART:20241103T070000
END:STANDARD
END:VTIMEZONE
BEGIN:VEVENT
DTSTART;TZID=America/Chicago:20231114T113000
DTEND;TZID=America/Chicago:20231114T133000
DTSTAMP:20260424T222102
CREATED:20231102T151529Z
LAST-MODIFIED:20231102T151529Z
UID:10001040-1699961400-1699968600@valleybusinessreport.com
SUMMARY:Small Business Academy - Legal Landmines
DESCRIPTION:“Navigating Legal Landmines: Essential Legal Considerations for Small Businesses” on Nov. 14 provides small business owners with crucial insights into legal aspects of running a business. \nLimited seats available for this seminar presented by the UTRGV Small Business Development Center. \nFor registration and more information\, contact the RGV Hispanic Chamber of Commerce.
URL:https://valleybusinessreport.com/event/small-business-academy-legal-landmines/
LOCATION:UTRGV Small Business Development Center\, 1407 E Freddy Gonzalez Drive\, Edinburg\, TX\, 78542\, United States
CATEGORIES:Seminars and Workshops
ATTACH;FMTTYPE=image/jpeg:https://valleybusinessreport.com/wp-content/uploads/2023/11/Small-Business-Academy.jpg
END:VEVENT
END:VCALENDAR