BEGIN:VCALENDAR
VERSION:2.0
PRODID:-//VBR - ECPv6.15.17.1//NONSGML v1.0//EN
CALSCALE:GREGORIAN
METHOD:PUBLISH
X-WR-CALNAME:VBR
X-ORIGINAL-URL:https://valleybusinessreport.com
X-WR-CALDESC:Events for VBR
REFRESH-INTERVAL;VALUE=DURATION:PT1H
X-Robots-Tag:noindex
X-PUBLISHED-TTL:PT1H
BEGIN:VTIMEZONE
TZID:America/Chicago
BEGIN:DAYLIGHT
TZOFFSETFROM:-0600
TZOFFSETTO:-0500
TZNAME:CDT
DTSTART:20230312T080000
END:DAYLIGHT
BEGIN:STANDARD
TZOFFSETFROM:-0500
TZOFFSETTO:-0600
TZNAME:CST
DTSTART:20231105T070000
END:STANDARD
BEGIN:DAYLIGHT
TZOFFSETFROM:-0600
TZOFFSETTO:-0500
TZNAME:CDT
DTSTART:20240310T080000
END:DAYLIGHT
BEGIN:STANDARD
TZOFFSETFROM:-0500
TZOFFSETTO:-0600
TZNAME:CST
DTSTART:20241103T070000
END:STANDARD
BEGIN:DAYLIGHT
TZOFFSETFROM:-0600
TZOFFSETTO:-0500
TZNAME:CDT
DTSTART:20250309T080000
END:DAYLIGHT
BEGIN:STANDARD
TZOFFSETFROM:-0500
TZOFFSETTO:-0600
TZNAME:CST
DTSTART:20251102T070000
END:STANDARD
END:VTIMEZONE
BEGIN:VEVENT
DTSTART;TZID=America/Chicago:20240112T090000
DTEND;TZID=America/Chicago:20240112T110000
DTSTAMP:20260424T231354
CREATED:20240106T004311Z
LAST-MODIFIED:20240106T004311Z
UID:10001065-1705050000-1705057200@valleybusinessreport.com
SUMMARY:How to Really Start Your Own Business - Let's Talk Business Series
DESCRIPTION:SCORE RGV kicks off the “Let’s Talk Business Series” on Jan. 12 with “How to Really Start Your Own Business\,” a session developed to help participants better understand small business ownership. \nWhile starting a business is an exciting venture\, it can be intimidating and overwhelming without proper planning\, knowledge and execution. \nIf you’re considering starting a small business\, this session will help you understand the process of getting started the confidence to move forward with your idea. \n Session 1 Topics:\n\nMyths and Realities of Entrepreneurship\nDo you have what it takes?\nComponents of Business Ownership\nMaking it Legal\nBusiness Plan Basics\n\nRegister online. \nAbout the Series – Organized by the SBA Lower Rio Grande Valley District Office\nIntroducing the “Let’s Talk Business Series\,” a 12-part program connecting entrepreneurs with federal\, state and local small business resources. Whether you’re a budding entrepreneur or want to grow your business\, this series presents essential business topics\, provides a forum for networking and promotes success in today’s dynamic business environment. Participants may attend one\, two\, six or all sessions.
URL:https://valleybusinessreport.com/event/how-to-really-start-your-own-business-lets-talk-business-series/
LOCATION:SBA Lower Rio Grande Valley District Office \, 2422 E. Tyler Ave.\, Suite E\, Harlingen\, TX\, 78550\, United States
CATEGORIES:Seminars and Workshops
ATTACH;FMTTYPE=image/jpeg:https://valleybusinessreport.com/wp-content/uploads/2024/01/lets-talk-business.jpg
ORGANIZER;CN="Veronica Z. Ortega%2C SBA":MAILTO:veronica.ortega@sba.gov
END:VEVENT
END:VCALENDAR