BEGIN:VCALENDAR
VERSION:2.0
PRODID:-//VBR - ECPv6.15.17.1//NONSGML v1.0//EN
CALSCALE:GREGORIAN
METHOD:PUBLISH
X-WR-CALNAME:VBR
X-ORIGINAL-URL:https://valleybusinessreport.com
X-WR-CALDESC:Events for VBR
REFRESH-INTERVAL;VALUE=DURATION:PT1H
X-Robots-Tag:noindex
X-PUBLISHED-TTL:PT1H
BEGIN:VTIMEZONE
TZID:America/Chicago
BEGIN:DAYLIGHT
TZOFFSETFROM:-0600
TZOFFSETTO:-0500
TZNAME:CDT
DTSTART:20230312T080000
END:DAYLIGHT
BEGIN:STANDARD
TZOFFSETFROM:-0500
TZOFFSETTO:-0600
TZNAME:CST
DTSTART:20231105T070000
END:STANDARD
BEGIN:DAYLIGHT
TZOFFSETFROM:-0600
TZOFFSETTO:-0500
TZNAME:CDT
DTSTART:20240310T080000
END:DAYLIGHT
BEGIN:STANDARD
TZOFFSETFROM:-0500
TZOFFSETTO:-0600
TZNAME:CST
DTSTART:20241103T070000
END:STANDARD
BEGIN:DAYLIGHT
TZOFFSETFROM:-0600
TZOFFSETTO:-0500
TZNAME:CDT
DTSTART:20250309T080000
END:DAYLIGHT
BEGIN:STANDARD
TZOFFSETFROM:-0500
TZOFFSETTO:-0600
TZNAME:CST
DTSTART:20251102T070000
END:STANDARD
END:VTIMEZONE
BEGIN:VEVENT
DTSTART;TZID=America/Chicago:20240119T090000
DTEND;TZID=America/Chicago:20240119T110000
DTSTAMP:20260424T231400
CREATED:20240110T144003Z
LAST-MODIFIED:20240110T144356Z
UID:10001069-1705654800-1705662000@valleybusinessreport.com
SUMMARY:Friday Informational Session - SBA Assistance to Small Business
DESCRIPTION:Thinking about starting a small business\, but have no idea where to start? Wondering if small business ownership is for you? Starting a business is an exciting proposition but it’s also an incredibly challenging undertaking. \nAre you an existing business and is your business needing to grow? Are you needing working capital to expand? Have you considered business certifications or government contracting? \nJoin the SBA on Jan. 19 for “SBA Assistance to Small Business” to learn about the technical and financial resources available to help start and grow a small business. \nFor more information\, contact Veronica Z. Ortega. \nRegister online.
URL:https://valleybusinessreport.com/event/friday-informational-session-sba-assistance-to-small-business/
LOCATION:SBA Lower Rio Grande Valley District Office \, 2422 E. Tyler Ave.\, Suite E\, Harlingen\, TX\, 78550\, United States
CATEGORIES:Seminars and Workshops
ORGANIZER;CN="Veronica Z. Ortega%2C SBA":MAILTO:veronica.ortega@sba.gov
END:VEVENT
END:VCALENDAR