BEGIN:VCALENDAR
VERSION:2.0
PRODID:-//VBR - ECPv6.15.17.1//NONSGML v1.0//EN
CALSCALE:GREGORIAN
METHOD:PUBLISH
X-WR-CALNAME:VBR
X-ORIGINAL-URL:https://valleybusinessreport.com
X-WR-CALDESC:Events for VBR
REFRESH-INTERVAL;VALUE=DURATION:PT1H
X-Robots-Tag:noindex
X-PUBLISHED-TTL:PT1H
BEGIN:VTIMEZONE
TZID:America/Chicago
BEGIN:DAYLIGHT
TZOFFSETFROM:-0600
TZOFFSETTO:-0500
TZNAME:CDT
DTSTART:20230312T080000
END:DAYLIGHT
BEGIN:STANDARD
TZOFFSETFROM:-0500
TZOFFSETTO:-0600
TZNAME:CST
DTSTART:20231105T070000
END:STANDARD
BEGIN:DAYLIGHT
TZOFFSETFROM:-0600
TZOFFSETTO:-0500
TZNAME:CDT
DTSTART:20240310T080000
END:DAYLIGHT
BEGIN:STANDARD
TZOFFSETFROM:-0500
TZOFFSETTO:-0600
TZNAME:CST
DTSTART:20241103T070000
END:STANDARD
BEGIN:DAYLIGHT
TZOFFSETFROM:-0600
TZOFFSETTO:-0500
TZNAME:CDT
DTSTART:20250309T080000
END:DAYLIGHT
BEGIN:STANDARD
TZOFFSETFROM:-0500
TZOFFSETTO:-0600
TZNAME:CST
DTSTART:20251102T070000
END:STANDARD
END:VTIMEZONE
BEGIN:VEVENT
DTSTART;TZID=America/Chicago:20240228T113000
DTEND;TZID=America/Chicago:20240228T130000
DTSTAMP:20260424T163839
CREATED:20240221T204453Z
LAST-MODIFIED:20240221T204453Z
UID:10001092-1709119800-1709125200@valleybusinessreport.com
SUMMARY:Protection in the Digital Age Presented by Frost Bank
DESCRIPTION:The Brownsville Chamber of Commerce in partnership with Frost Bank and the Business Development Fund of Texas present “Protection in the Digital Age” on Feb. 29. \nThe workshop focuses on cyber fraud and how it impacts businesses. Explore cyber business attacks like phishing\, ransomware and malware\, business email compromise and how to protect your business. Guest speaker is Jami Palmer\, vice president of Frost Loss Prevention. \nLunch will be provided. Limited seating\, no more than two representatives per company. \nRSVP by Feb. 27 to Jose Aleman at 956-702-6696 or jose.aleman@frostbank.com\, or register online.
URL:https://valleybusinessreport.com/event/protection-in-the-digital-age-presented-by-frost-bank/
LOCATION:Brownsville Chamber of Commerce\, 1600 University Blvd.\, Brownsville\, TX\, 78520\, United States
CATEGORIES:Seminars and Workshops
ATTACH;FMTTYPE=image/png:https://valleybusinessreport.com/wp-content/uploads/2024/02/2.28.24ProtectionintheDigitalAge_FrostBank.png
ORGANIZER;CN="Brownsville Chamber of Commerce":MAILTO:info@brownsvillechamber.com
GEO:25.8979742;-97.4945709
X-APPLE-STRUCTURED-LOCATION;VALUE=URI;X-ADDRESS=Brownsville Chamber of Commerce 1600 University Blvd. Brownsville TX 78520 United States;X-APPLE-RADIUS=500;X-TITLE=1600 University Blvd.:geo:-97.4945709,25.8979742
END:VEVENT
END:VCALENDAR