BEGIN:VCALENDAR
VERSION:2.0
PRODID:-//VBR - ECPv6.15.17.1//NONSGML v1.0//EN
CALSCALE:GREGORIAN
METHOD:PUBLISH
X-WR-CALNAME:VBR
X-ORIGINAL-URL:https://valleybusinessreport.com
X-WR-CALDESC:Events for VBR
REFRESH-INTERVAL;VALUE=DURATION:PT1H
X-Robots-Tag:noindex
X-PUBLISHED-TTL:PT1H
BEGIN:VTIMEZONE
TZID:America/Chicago
BEGIN:DAYLIGHT
TZOFFSETFROM:-0600
TZOFFSETTO:-0500
TZNAME:CDT
DTSTART:20230312T080000
END:DAYLIGHT
BEGIN:STANDARD
TZOFFSETFROM:-0500
TZOFFSETTO:-0600
TZNAME:CST
DTSTART:20231105T070000
END:STANDARD
BEGIN:DAYLIGHT
TZOFFSETFROM:-0600
TZOFFSETTO:-0500
TZNAME:CDT
DTSTART:20240310T080000
END:DAYLIGHT
BEGIN:STANDARD
TZOFFSETFROM:-0500
TZOFFSETTO:-0600
TZNAME:CST
DTSTART:20241103T070000
END:STANDARD
BEGIN:DAYLIGHT
TZOFFSETFROM:-0600
TZOFFSETTO:-0500
TZNAME:CDT
DTSTART:20250309T080000
END:DAYLIGHT
BEGIN:STANDARD
TZOFFSETFROM:-0500
TZOFFSETTO:-0600
TZNAME:CST
DTSTART:20251102T070000
END:STANDARD
END:VTIMEZONE
BEGIN:VEVENT
DTSTART;TZID=America/Chicago:20240417T113000
DTEND;TZID=America/Chicago:20240417T130000
DTSTAMP:20260424T133615
CREATED:20240410T162418Z
LAST-MODIFIED:20240410T162418Z
UID:10001117-1713353400-1713358800@valleybusinessreport.com
SUMMARY:Lunch & Learn: Organizational Ethics
DESCRIPTION:Dive into uncharted territories of organizational ethics with Dr. Ruben G. Flores and ADN Laura E. Garcia from South Texas College at the Mission Chamber of Commerce’s Lunch & Learn on April 17. This “Organizational Ethics” seminar goes beyond conventional boundaries\, questioning what you know about ethics and debunking myths. \n\nExplore ethics\, morality\, personality\, and character.\nAnalyze recent ethical failures and examine diverse ethical systems.\nLearn practical strategies to cultivate an ethical workplace.\n\nFree for all GMCC members\, non-members are $15. RSVP to candace@missionchamber.com or register online.
URL:https://valleybusinessreport.com/event/lunch-learn-organizational-ethics/
LOCATION:Center for Education and Economic Development (CEED)\, 801 North Bryan Road\, Mission\, TX\, 78572\, United States
CATEGORIES:Seminars and Workshops
ATTACH;FMTTYPE=image/png:https://valleybusinessreport.com/wp-content/uploads/2024/04/LunchandLearnFlyer14.png
END:VEVENT
END:VCALENDAR