BEGIN:VCALENDAR
VERSION:2.0
PRODID:-//VBR - ECPv6.15.17.1//NONSGML v1.0//EN
CALSCALE:GREGORIAN
METHOD:PUBLISH
X-WR-CALNAME:VBR
X-ORIGINAL-URL:https://valleybusinessreport.com
X-WR-CALDESC:Events for VBR
REFRESH-INTERVAL;VALUE=DURATION:PT1H
X-Robots-Tag:noindex
X-PUBLISHED-TTL:PT1H
BEGIN:VTIMEZONE
TZID:America/Chicago
BEGIN:DAYLIGHT
TZOFFSETFROM:-0600
TZOFFSETTO:-0500
TZNAME:CDT
DTSTART:20230312T080000
END:DAYLIGHT
BEGIN:STANDARD
TZOFFSETFROM:-0500
TZOFFSETTO:-0600
TZNAME:CST
DTSTART:20231105T070000
END:STANDARD
BEGIN:DAYLIGHT
TZOFFSETFROM:-0600
TZOFFSETTO:-0500
TZNAME:CDT
DTSTART:20240310T080000
END:DAYLIGHT
BEGIN:STANDARD
TZOFFSETFROM:-0500
TZOFFSETTO:-0600
TZNAME:CST
DTSTART:20241103T070000
END:STANDARD
BEGIN:DAYLIGHT
TZOFFSETFROM:-0600
TZOFFSETTO:-0500
TZNAME:CDT
DTSTART:20250309T080000
END:DAYLIGHT
BEGIN:STANDARD
TZOFFSETFROM:-0500
TZOFFSETTO:-0600
TZNAME:CST
DTSTART:20251102T070000
END:STANDARD
END:VTIMEZONE
BEGIN:VEVENT
DTSTART;TZID=America/Chicago:20240712T090000
DTEND;TZID=America/Chicago:20240712T110000
DTSTAMP:20260424T104127
CREATED:20240709T163019Z
LAST-MODIFIED:20240709T163019Z
UID:10001140-1720774800-1720782000@valleybusinessreport.com
SUMMARY:Let’s Talk Business - Money Smart for Small Business: Building Credit
DESCRIPTION:“Money Smart for Small Business-Building Credit” on July 12 discusses what your credit reveals and how to assure you are ready “credit-wise” before you approach a lender for financing. Business owners need to understand how their credit profile works and how that affects them when approaching a lender for financing. \nDiscover and Learn:\n\nCredit Reporting and your business\nImpact of Personal Credit on your business\nBusiness Credit Reporting\nHow Lenders Evaluate your Creditworthiness\nCredit Reporting and Business Operations\n\nSBA realizes that understanding your finances is critical to running a business\, and they are here to help. The SBA is dedicated to helping entrepreneurs secure a stable financial future by providing counseling and training from our resource partners and SBA’s Learning Center. Its online learning center has various courses at no cost to you on financing your business\, accounting\, pricing and more. \nFor more information\, contact Veronica Z. Ortega. Register online. \nAbout the Series – Organized by the SBA Lower Rio Grande Valley District Office\nIntroducing the “Let’s Talk Business Series\,” a 12-part program connecting entrepreneurs with federal\, state\, and local small business resources.  Whether you’re a budding entrepreneur or want to grow your business\, this series presents essential business topics\, provides a forum for networking\, and promotes success in today’s dynamic business environment.  Participants may attend one\, two\, six\, or all sessions.
URL:https://valleybusinessreport.com/event/lets-talk-business-money-smart-for-small-business-building-credit/
LOCATION:SBA Lower Rio Grande Valley District Office \, 2422 E. Tyler Ave.\, Suite E\, Harlingen\, TX\, 78550\, United States
CATEGORIES:Seminars and Workshops
ATTACH;FMTTYPE=image/jpeg:https://valleybusinessreport.com/wp-content/uploads/2019/01/credit-card.jpg
ORGANIZER;CN="Veronica Z. Ortega%2C SBA":MAILTO:veronica.ortega@sba.gov
END:VEVENT
END:VCALENDAR