BEGIN:VCALENDAR
VERSION:2.0
PRODID:-//VBR - ECPv6.15.17.1//NONSGML v1.0//EN
CALSCALE:GREGORIAN
METHOD:PUBLISH
X-WR-CALNAME:VBR
X-ORIGINAL-URL:https://valleybusinessreport.com
X-WR-CALDESC:Events for VBR
REFRESH-INTERVAL;VALUE=DURATION:PT1H
X-Robots-Tag:noindex
X-PUBLISHED-TTL:PT1H
BEGIN:VTIMEZONE
TZID:America/Chicago
BEGIN:DAYLIGHT
TZOFFSETFROM:-0600
TZOFFSETTO:-0500
TZNAME:CDT
DTSTART:20230312T080000
END:DAYLIGHT
BEGIN:STANDARD
TZOFFSETFROM:-0500
TZOFFSETTO:-0600
TZNAME:CST
DTSTART:20231105T070000
END:STANDARD
BEGIN:DAYLIGHT
TZOFFSETFROM:-0600
TZOFFSETTO:-0500
TZNAME:CDT
DTSTART:20240310T080000
END:DAYLIGHT
BEGIN:STANDARD
TZOFFSETFROM:-0500
TZOFFSETTO:-0600
TZNAME:CST
DTSTART:20241103T070000
END:STANDARD
BEGIN:DAYLIGHT
TZOFFSETFROM:-0600
TZOFFSETTO:-0500
TZNAME:CDT
DTSTART:20250309T080000
END:DAYLIGHT
BEGIN:STANDARD
TZOFFSETFROM:-0500
TZOFFSETTO:-0600
TZNAME:CST
DTSTART:20251102T070000
END:STANDARD
END:VTIMEZONE
BEGIN:VEVENT
DTSTART;TZID=America/Chicago:20240723T100000
DTEND;TZID=America/Chicago:20240723T110000
DTSTAMP:20260424T091812
CREATED:20240709T164059Z
LAST-MODIFIED:20240709T164149Z
UID:10001141-1721728800-1721732400@valleybusinessreport.com
SUMMARY:Manage Your Online Presence | Grow with Google Workshop
DESCRIPTION:The Brownsville Chamber of Commerce partners with Grow with Google to help the community learn digital skills with a workshop at the eBridge Center on July 23. At “Manage Your Online Presence\,” individuals will learn about social media and building an online presence\, and how to use both to establish or build a career or business. \nThis workshop addresses:\n\nUnderstand the public nature of social media\nExplore different social media platforms\nUnderstand the impact of social media behavior on job search\nLearn social media best practices\n\nRegister online. \nFor more information\, contact the Brownsville Chamber of Commerce.
URL:https://valleybusinessreport.com/event/manage-your-online-presence-grow-with-google-workshop/
LOCATION:eBridge Center for Business & Commercialization\, 1304 E Adams Street\, Brownsville\, TX\, United States
CATEGORIES:Seminars and Workshops
ATTACH;FMTTYPE=image/jpeg:https://valleybusinessreport.com/wp-content/uploads/2024/07/online.jpg
ORGANIZER;CN="Brownsville Chamber of Commerce":MAILTO:info@brownsvillechamber.com
END:VEVENT
END:VCALENDAR