BEGIN:VCALENDAR
VERSION:2.0
PRODID:-//VBR - ECPv6.15.17.1//NONSGML v1.0//EN
CALSCALE:GREGORIAN
METHOD:PUBLISH
X-WR-CALNAME:VBR
X-ORIGINAL-URL:https://valleybusinessreport.com
X-WR-CALDESC:Events for VBR
REFRESH-INTERVAL;VALUE=DURATION:PT1H
X-Robots-Tag:noindex
X-PUBLISHED-TTL:PT1H
BEGIN:VTIMEZONE
TZID:America/Chicago
BEGIN:DAYLIGHT
TZOFFSETFROM:-0600
TZOFFSETTO:-0500
TZNAME:CDT
DTSTART:20230312T080000
END:DAYLIGHT
BEGIN:STANDARD
TZOFFSETFROM:-0500
TZOFFSETTO:-0600
TZNAME:CST
DTSTART:20231105T070000
END:STANDARD
BEGIN:DAYLIGHT
TZOFFSETFROM:-0600
TZOFFSETTO:-0500
TZNAME:CDT
DTSTART:20240310T080000
END:DAYLIGHT
BEGIN:STANDARD
TZOFFSETFROM:-0500
TZOFFSETTO:-0600
TZNAME:CST
DTSTART:20241103T070000
END:STANDARD
BEGIN:DAYLIGHT
TZOFFSETFROM:-0600
TZOFFSETTO:-0500
TZNAME:CDT
DTSTART:20250309T080000
END:DAYLIGHT
BEGIN:STANDARD
TZOFFSETFROM:-0500
TZOFFSETTO:-0600
TZNAME:CST
DTSTART:20251102T070000
END:STANDARD
END:VTIMEZONE
BEGIN:VEVENT
DTSTART;VALUE=DATE:20241014
DTEND;VALUE=DATE:20241016
DTSTAMP:20260424T011820
CREATED:20240916T154114Z
LAST-MODIFIED:20240916T154114Z
UID:10001179-1728864000-1729036799@valleybusinessreport.com
SUMMARY:ServSafe Food Managers Certification
DESCRIPTION:The ServSafe Food Managers Certification on Oct. 14-15 provides the training needed to meet SPI City Ordinances. Certification classes take place once a year and are good for five years. This is a two-day class offered in both English and Spanish\, with the test administered on the second day. \nRegistration is $200 for South Padre Island Chamber of Commerce members\, $225 for prospective members. Registration includes two days of classes\, state exam and lunch on Thursday. Those wishing to keep the instruction book may pay an additional $50 fee. \nDownload the registration form and/or fly\, and register online.
URL:https://valleybusinessreport.com/event/servsafe-food-managers-certification-3/
LOCATION:South Padre Island Chamber of Commerce\, 321 Padre Blvd.\, South Padre Island\, TX\, United States
CATEGORIES:Seminars and Workshops
ATTACH;FMTTYPE=image/jpeg:https://valleybusinessreport.com/wp-content/uploads/2020/09/ServSafe.jpg
ORGANIZER;CN="South Padre Island Chamber of Commerce":MAILTO:info@spichamber.com
END:VEVENT
END:VCALENDAR