BEGIN:VCALENDAR
VERSION:2.0
PRODID:-//VBR - ECPv6.15.17.1//NONSGML v1.0//EN
CALSCALE:GREGORIAN
METHOD:PUBLISH
X-ORIGINAL-URL:https://valleybusinessreport.com
X-WR-CALDESC:Events for VBR
REFRESH-INTERVAL;VALUE=DURATION:PT1H
X-Robots-Tag:noindex
X-PUBLISHED-TTL:PT1H
BEGIN:VTIMEZONE
TZID:America/Chicago
BEGIN:DAYLIGHT
TZOFFSETFROM:-0600
TZOFFSETTO:-0500
TZNAME:CDT
DTSTART:20240310T080000
END:DAYLIGHT
BEGIN:STANDARD
TZOFFSETFROM:-0500
TZOFFSETTO:-0600
TZNAME:CST
DTSTART:20241103T070000
END:STANDARD
BEGIN:DAYLIGHT
TZOFFSETFROM:-0600
TZOFFSETTO:-0500
TZNAME:CDT
DTSTART:20250309T080000
END:DAYLIGHT
BEGIN:STANDARD
TZOFFSETFROM:-0500
TZOFFSETTO:-0600
TZNAME:CST
DTSTART:20251102T070000
END:STANDARD
BEGIN:DAYLIGHT
TZOFFSETFROM:-0600
TZOFFSETTO:-0500
TZNAME:CDT
DTSTART:20260308T080000
END:DAYLIGHT
BEGIN:STANDARD
TZOFFSETFROM:-0500
TZOFFSETTO:-0600
TZNAME:CST
DTSTART:20261101T070000
END:STANDARD
END:VTIMEZONE
BEGIN:VEVENT
DTSTART;VALUE=DATE:20250124
DTEND;VALUE=DATE:20250127
DTSTAMP:20260423T021607
CREATED:20250119T223051Z
LAST-MODIFIED:20250119T223051Z
UID:10001231-1737676800-1737935999@valleybusinessreport.com
SUMMARY:SPI Market Days
DESCRIPTION:The 29th annual SPI Market Days event takes place at the South Padre Island Convention Center on Jan. 24-26 and Feb. 21-23. \nThe shopping experience includes vendors traveling from all over the United States to sell unique items. The day also includes door prizes\, food\, fun and a live guitarist. \nAdmission is $2.
URL:https://valleybusinessreport.com/event/spi-market-days-2/
LOCATION:SPI Convention Center\, 7355 Padre Blvd.\, South Padre Island\, TX\, 78597\, United States
CATEGORIES:Shopping
ATTACH;FMTTYPE=image/jpeg:https://valleybusinessreport.com/wp-content/uploads/2025/01/SPI-Market-Days.jpg
ORGANIZER;CN="South Padre Island Chamber of Commerce":MAILTO:info@spichamber.com
END:VEVENT
END:VCALENDAR