BEGIN:VCALENDAR
VERSION:2.0
PRODID:-//VBR - ECPv6.15.17.1//NONSGML v1.0//EN
CALSCALE:GREGORIAN
METHOD:PUBLISH
X-WR-CALNAME:VBR
X-ORIGINAL-URL:https://valleybusinessreport.com
X-WR-CALDESC:Events for VBR
REFRESH-INTERVAL;VALUE=DURATION:PT1H
X-Robots-Tag:noindex
X-PUBLISHED-TTL:PT1H
BEGIN:VTIMEZONE
TZID:America/Chicago
BEGIN:DAYLIGHT
TZOFFSETFROM:-0600
TZOFFSETTO:-0500
TZNAME:CDT
DTSTART:20230312T080000
END:DAYLIGHT
BEGIN:STANDARD
TZOFFSETFROM:-0500
TZOFFSETTO:-0600
TZNAME:CST
DTSTART:20231105T070000
END:STANDARD
BEGIN:DAYLIGHT
TZOFFSETFROM:-0600
TZOFFSETTO:-0500
TZNAME:CDT
DTSTART:20240310T080000
END:DAYLIGHT
BEGIN:STANDARD
TZOFFSETFROM:-0500
TZOFFSETTO:-0600
TZNAME:CST
DTSTART:20241103T070000
END:STANDARD
BEGIN:DAYLIGHT
TZOFFSETFROM:-0600
TZOFFSETTO:-0500
TZNAME:CDT
DTSTART:20250309T080000
END:DAYLIGHT
BEGIN:STANDARD
TZOFFSETFROM:-0500
TZOFFSETTO:-0600
TZNAME:CST
DTSTART:20251102T070000
END:STANDARD
END:VTIMEZONE
BEGIN:VEVENT
DTSTART;TZID=America/Chicago:20241213T180000
DTEND;TZID=America/Chicago:20241213T210000
DTSTAMP:20260423T165430
CREATED:20241208T170928Z
LAST-MODIFIED:20241208T170928Z
UID:10001218-1734112800-1734123600@valleybusinessreport.com
SUMMARY:"Shop Local" Holiday Market
DESCRIPTION:Join the Greater Mission Chamber of Commerce for the Shop Local Holiday Market on Dec. 13 at Leo Pena Placita Park. \nShop unique gifts from local vendors\, take in live music performances\, and snap selfies with Santa Claus and the Grinch. This event is also pet friendly.
URL:https://valleybusinessreport.com/event/shop-local-holiday-market/
LOCATION:Leo Pena Placita Park\, W. 8th Street\, Mission\, United States
CATEGORIES:Shopping
ATTACH;FMTTYPE=image/png:https://valleybusinessreport.com/wp-content/uploads/2024/12/Holiday-Market-2024-flyer.png
END:VEVENT
END:VCALENDAR