BEGIN:VCALENDAR
VERSION:2.0
PRODID:-//VBR - ECPv6.15.17.1//NONSGML v1.0//EN
CALSCALE:GREGORIAN
METHOD:PUBLISH
X-WR-CALNAME:VBR
X-ORIGINAL-URL:https://valleybusinessreport.com
X-WR-CALDESC:Events for VBR
REFRESH-INTERVAL;VALUE=DURATION:PT1H
X-Robots-Tag:noindex
X-PUBLISHED-TTL:PT1H
BEGIN:VTIMEZONE
TZID:America/Chicago
BEGIN:DAYLIGHT
TZOFFSETFROM:-0600
TZOFFSETTO:-0500
TZNAME:CDT
DTSTART:20240310T080000
END:DAYLIGHT
BEGIN:STANDARD
TZOFFSETFROM:-0500
TZOFFSETTO:-0600
TZNAME:CST
DTSTART:20241103T070000
END:STANDARD
BEGIN:DAYLIGHT
TZOFFSETFROM:-0600
TZOFFSETTO:-0500
TZNAME:CDT
DTSTART:20250309T080000
END:DAYLIGHT
BEGIN:STANDARD
TZOFFSETFROM:-0500
TZOFFSETTO:-0600
TZNAME:CST
DTSTART:20251102T070000
END:STANDARD
BEGIN:DAYLIGHT
TZOFFSETFROM:-0600
TZOFFSETTO:-0500
TZNAME:CDT
DTSTART:20260308T080000
END:DAYLIGHT
BEGIN:STANDARD
TZOFFSETFROM:-0500
TZOFFSETTO:-0600
TZNAME:CST
DTSTART:20261101T070000
END:STANDARD
END:VTIMEZONE
BEGIN:VEVENT
DTSTART;TZID=America/Chicago:20250813T113000
DTEND;TZID=America/Chicago:20250813T130000
DTSTAMP:20260422T174836
CREATED:20250719T210547Z
LAST-MODIFIED:20250719T210547Z
UID:10001305-1755084600-1755090000@valleybusinessreport.com
SUMMARY:Buenas Tardes Luncheon: State of Current Business
DESCRIPTION:Join the Mission Chamber of Commerce on Aug. 13 for the Buenas Tardes Luncheon: State of Current Business. The insightful luncheon highlights updates on the legislative issues shaping the future of the business community. \nRegister online.
URL:https://valleybusinessreport.com/event/buenas-tardes-luncheon-state-of-current-business/
LOCATION:Mission Event Center\, 200 South Shary Road\, Mission\, TX\, 78572\, United States
CATEGORIES:Speakers
ATTACH;FMTTYPE=image/png:https://valleybusinessreport.com/wp-content/uploads/2025/07/2025AUGUSTBTL.png
END:VEVENT
BEGIN:VEVENT
DTSTART;TZID=America/Chicago:20250829T080000
DTEND;TZID=America/Chicago:20250829T093000
DTSTAMP:20260422T174836
CREATED:20250812T212951Z
LAST-MODIFIED:20250812T212951Z
UID:10001310-1756454400-1756459800@valleybusinessreport.com
SUMMARY:Friday with the City | Meet the New Leader Behind the COB Planning & Redevelopment Department
DESCRIPTION:The Brownsville Chamber of Commerce invites you to an exclusive opportunity to learn about the future of the community at Friday with the City on Aug. 29. \nThis month’s session will feature a special introduction to Daniel Leal\, the City of Brownsville’s new Planning & Redevelopment Director\, along with a short presentation from the Planning Department. \nAfter the presentation\, attendees are invited to stay for a city-sponsored meet and greet breakfast\, where you’ll have the opportunity to connect directly with city staff\, ask questions\, and engage in meaningful conversations about Brownsville’s growth and development. \nFriday with the City is an initiative of the Brownsville Chamber of Commerce\, in partnership with the City of Brownsville\, designed to keep the community informed about the city’s ongoing growth\, progress\, and vision for the future. \nSubmit questions for the panelists in advance online. There is no cost to attend if RSVPing in advance. \nFor more information\, contact the Brownsville Chamber of Commerce.
URL:https://valleybusinessreport.com/event/friday-with-the-city-meet-the-new-leader-behind-the-cob-planning-redevelopment-department/
LOCATION:City of Brownsville Communications and Marketing Department / Convention and Visitors Bureau Complex\, 1312 East Adams Street\, Brownsville\, United States
CATEGORIES:Networking,Speakers
ATTACH;FMTTYPE=image/png:https://valleybusinessreport.com/wp-content/uploads/2025/08/Friday-With-The-City.png
ORGANIZER;CN="Brownsville Chamber of Commerce":MAILTO:info@brownsvillechamber.com
END:VEVENT
END:VCALENDAR