BEGIN:VCALENDAR
VERSION:2.0
PRODID:-//VBR - ECPv6.15.17.1//NONSGML v1.0//EN
CALSCALE:GREGORIAN
METHOD:PUBLISH
X-WR-CALNAME:VBR
X-ORIGINAL-URL:https://valleybusinessreport.com
X-WR-CALDESC:Events for VBR
REFRESH-INTERVAL;VALUE=DURATION:PT1H
X-Robots-Tag:noindex
X-PUBLISHED-TTL:PT1H
BEGIN:VTIMEZONE
TZID:America/Chicago
BEGIN:DAYLIGHT
TZOFFSETFROM:-0600
TZOFFSETTO:-0500
TZNAME:CDT
DTSTART:20240310T080000
END:DAYLIGHT
BEGIN:STANDARD
TZOFFSETFROM:-0500
TZOFFSETTO:-0600
TZNAME:CST
DTSTART:20241103T070000
END:STANDARD
BEGIN:DAYLIGHT
TZOFFSETFROM:-0600
TZOFFSETTO:-0500
TZNAME:CDT
DTSTART:20250309T080000
END:DAYLIGHT
BEGIN:STANDARD
TZOFFSETFROM:-0500
TZOFFSETTO:-0600
TZNAME:CST
DTSTART:20251102T070000
END:STANDARD
BEGIN:DAYLIGHT
TZOFFSETFROM:-0600
TZOFFSETTO:-0500
TZNAME:CDT
DTSTART:20260308T080000
END:DAYLIGHT
BEGIN:STANDARD
TZOFFSETFROM:-0500
TZOFFSETTO:-0600
TZNAME:CST
DTSTART:20261101T070000
END:STANDARD
END:VTIMEZONE
BEGIN:VEVENT
DTSTART;TZID=America/Chicago:20251002T090000
DTEND;TZID=America/Chicago:20251002T100000
DTSTAMP:20260422T085047
CREATED:20250925T010458Z
LAST-MODIFIED:20250925T010458Z
UID:10001320-1759395600-1759399200@valleybusinessreport.com
SUMMARY:Business Over Breakfast with Beacon
DESCRIPTION:Join the Greater Chamber of Harlingen on Oct. 2 for Business Over Breakfast with Dr. Benjamin Clinton\, Founder of Beacon Administrative Consulting. This interactive session\, adapted from John Maxwell’s “Everyone Communicates\, Few Connect”\, will give small business owners\, managers and team leads practical tools to communicate more effectively\, build influence\, and drive results. \nCome ready to learn\, network\, and walk away with strategies you can apply the same day.< \nKey Takeaways\n\nHow to connect with employees and customers in ways that build trust and action\nA simple framework to align teams and move projects forward\nInformation on workforce training grants for small businesses\nNetworking with other Harlingen-area business leaders\n\nRegister online.
URL:https://valleybusinessreport.com/event/business-over-breakfast-with-beacon/
LOCATION:The Greater Chamber of Harlingen\, 311 East Tyler Ave.\, Harlingen\, 78550\, United States
CATEGORIES:Speakers
ATTACH;FMTTYPE=image/png:https://valleybusinessreport.com/wp-content/uploads/2025/09/Breakfast-with-Beacon.png
END:VEVENT
BEGIN:VEVENT
DTSTART;TZID=America/Chicago:20251022T090000
DTEND;TZID=America/Chicago:20251022T103000
DTSTAMP:20260422T085047
CREATED:20251013T150835Z
LAST-MODIFIED:20251013T150835Z
UID:10001324-1761123600-1761129000@valleybusinessreport.com
SUMMARY:Coffee\, Croissants & Commerce
DESCRIPTION:Join the Mission Chamber of Commerce for its first Coffee\, Croissants and Commerce on Oct. 22 to connect with industry leaders and boost your business success. Whether you’re a developer\, real estate broker\, mortgage lender\, insurance broker\, attorney\, or involved in the industry\, this event is for you. \nHear from featured speakers from J&S Construction\, renowned for providing high-quality services in various areas of commercial construction\, including architectural design\, civil engineering\, site work\, and general contracting for new facilities or renovations. \nCoffee\, Croissants and Commerce is free for chamber members\, $20 for non-members. \nRegister online by Oct. 17.
URL:https://valleybusinessreport.com/event/coffee-croissants-commerce/
LOCATION:Casa Palenque\, 606 E. Expressway 83\, McAllen\, 78503\, United States
CATEGORIES:Speakers
ATTACH;FMTTYPE=image/jpeg:https://valleybusinessreport.com/wp-content/uploads/2025/10/Coffee-Croissants-and-Commerce.jpg
END:VEVENT
END:VCALENDAR