BEGIN:VCALENDAR
VERSION:2.0
PRODID:-//VBR - ECPv6.15.17.1//NONSGML v1.0//EN
CALSCALE:GREGORIAN
METHOD:PUBLISH
X-WR-CALNAME:VBR
X-ORIGINAL-URL:https://valleybusinessreport.com
X-WR-CALDESC:Events for VBR
REFRESH-INTERVAL;VALUE=DURATION:PT1H
X-Robots-Tag:noindex
X-PUBLISHED-TTL:PT1H
BEGIN:VTIMEZONE
TZID:America/Chicago
BEGIN:DAYLIGHT
TZOFFSETFROM:-0600
TZOFFSETTO:-0500
TZNAME:CDT
DTSTART:20200308T080000
END:DAYLIGHT
BEGIN:STANDARD
TZOFFSETFROM:-0500
TZOFFSETTO:-0600
TZNAME:CST
DTSTART:20201101T070000
END:STANDARD
BEGIN:DAYLIGHT
TZOFFSETFROM:-0600
TZOFFSETTO:-0500
TZNAME:CDT
DTSTART:20210314T080000
END:DAYLIGHT
BEGIN:STANDARD
TZOFFSETFROM:-0500
TZOFFSETTO:-0600
TZNAME:CST
DTSTART:20211107T070000
END:STANDARD
BEGIN:DAYLIGHT
TZOFFSETFROM:-0600
TZOFFSETTO:-0500
TZNAME:CDT
DTSTART:20220313T080000
END:DAYLIGHT
BEGIN:STANDARD
TZOFFSETFROM:-0500
TZOFFSETTO:-0600
TZNAME:CST
DTSTART:20221106T070000
END:STANDARD
END:VTIMEZONE
BEGIN:VEVENT
DTSTART;TZID=America/Chicago:20210414T110000
DTEND;TZID=America/Chicago:20210414T150000
DTSTAMP:20260419T235007
CREATED:20210406T214206Z
LAST-MODIFIED:20210406T214206Z
UID:10000561-1618398000-1618412400@valleybusinessreport.com
SUMMARY:Winter Texan Market Days
DESCRIPTION:The Greater Mission Chamber of Commerce hosts its Winter Texan Appreciation: Market Days April 14. \nMarket Days is a way to celebrate Winter Texans staying in Mission and throughout the RGV. GMCC will host a day of live music\, business and food vendors as well as free health screenings by event sponsor Mission Regional Medical Center. \nThis event is free and open to the public. \nFor vendor opportunities\, call 956-585-2727 or contact vicepresident@missionchamber.com.
URL:https://valleybusinessreport.com/event/winter-texan-market-days/
LOCATION:Greater Mission Chamber of Commerce\, 202 W Tom Landry Street\, Mission\, TX\, 78572\, United States
CATEGORIES:Festivals and Celebrations
ATTACH;FMTTYPE=image/png:https://valleybusinessreport.com/wp-content/uploads/2021/04/WTMarketDays-e1617745219599.png
END:VEVENT
BEGIN:VEVENT
DTSTART;TZID=America/Chicago:20210414T100000
DTEND;TZID=America/Chicago:20210414T100000
DTSTAMP:20260419T235007
CREATED:20210407T173011Z
LAST-MODIFIED:20210407T173011Z
UID:10000562-1618394400-1618394400@valleybusinessreport.com
SUMMARY:“Anatomy of Cyber Attacks” Webinar
DESCRIPTION:The Edinburg Chamber of Commerce will be hosting its “Anatomy of Cyber Attacks” webinar April 14. Cyber security expert Tom Ervin\, a computer scientist at FBI Headquarters San Antonio\, will conduct the presentation. \nErvin will discuss various cyber threats.This presentation will have a live demonstration of multiple malware\, threat vectors and provide examples of the ease at which attackers can compromise your data. \nAbout Tom Ervin\nErvin has been supporting the FBI with cyber forensics analysis for the past eight years. He specializes in computer intrusions and the dissection of computer viruses and worms. In 2000\, Ervin helped establish the FBI’s first malicious code laboratory at FBI Headquarters in Washington\, D.C.  He has been working at the San Antonio Division since 2010\, supporting the Cyber Squad on criminal and national security investigations. Ervin holds BS and MS degrees in Electrical Engineering. \nTo register for the event\, visit edinburg.com or call 956-383-4974.
URL:https://valleybusinessreport.com/event/anatomy-of-cyber-attacks-webinar/
LOCATION:Webinar
CATEGORIES:Seminars and Workshops
ATTACH;FMTTYPE=image/jpeg:https://valleybusinessreport.com/wp-content/uploads/2017/11/cyber.jpg
ORGANIZER;CN="Edinburg Chamber of Commerce":MAILTO:chamber@edinburg.com
END:VEVENT
BEGIN:VEVENT
DTSTART;TZID=America/Chicago:20210409T083000
DTEND;TZID=America/Chicago:20210409T093000
DTSTAMP:20260419T235007
CREATED:20210330T175947Z
LAST-MODIFIED:20210330T175947Z
UID:10000560-1617957000-1617960600@valleybusinessreport.com
SUMMARY:Harlingen Business Over Breakfast Connections
DESCRIPTION:Meet\, exchange and share contact information in a positive environment over breakfast at Business Over Breakfast April 9. Luis Garcia serves as keynote speaker as participants also have the opportunity to share ideas and knowledge with one another. \nAttendees must RSVP.
URL:https://valleybusinessreport.com/event/harlingen-business-over-breakfast-connections/
LOCATION:Harlingen Area Chamber of Commerce\, 311 E. Tyler Ave.\, Harlingen\, TX\, 78550\, United States
CATEGORIES:Networking
ATTACH;FMTTYPE=image/png:https://valleybusinessreport.com/wp-content/uploads/2021/03/business-breakfast.png
GEO:26.1899536;-97.6928673
X-APPLE-STRUCTURED-LOCATION;VALUE=URI;X-ADDRESS=Harlingen Area Chamber of Commerce 311 E. Tyler Ave. Harlingen TX 78550 United States;X-APPLE-RADIUS=500;X-TITLE=311 E. Tyler Ave.:geo:-97.6928673,26.1899536
END:VEVENT
BEGIN:VEVENT
DTSTART;TZID=America/Chicago:20210407T140000
DTEND;TZID=America/Chicago:20210407T160000
DTSTAMP:20260419T235007
CREATED:20210330T175236Z
LAST-MODIFIED:20210330T175236Z
UID:10000559-1617804000-1617811200@valleybusinessreport.com
SUMMARY:Capacity Management
DESCRIPTION:The “Capacity Management” webinar on April 7 supports fine-tuning of the businesses output. Participants receive guidance in capacity management to help maximize production activities and output at all times under all conditions. \nThe webinar includes examples and learning how to calculate the business’ capacity that can represent its potential achievement\, production and sales level. Learn how to determine the business’ capacity which is vital in balancing production and need and by this means maximizing output. \nLearn to: \n\nMaximize Production & Output Under all Conditions\nCalculate the Business’ Capacity Potentials\nDetermine the Right Type of Capacity for Your Needs\n\nThis session is offered as part of the“Operational Excellence Series\,” a selection of interactive webinars designed to help business owners enhance the efficiency and function of their businesses. Improving the operations of a business through cost reductions\, savings and or increased sales can positively impact their bottom line. \nRegister online. \nFor more information\, contact JD Garza.
URL:https://valleybusinessreport.com/event/capacity-management/
LOCATION:Online\, TX\, United States
CATEGORIES:Seminars and Workshops
ATTACH;FMTTYPE=image/png:https://valleybusinessreport.com/wp-content/uploads/2021/03/capacity-management.png
ORGANIZER;CN="JD Garza":MAILTO:jd.garza@utrgv.edu
END:VEVENT
END:VCALENDAR