BEGIN:VCALENDAR
VERSION:2.0
PRODID:-//VBR - ECPv6.15.17.1//NONSGML v1.0//EN
CALSCALE:GREGORIAN
METHOD:PUBLISH
X-WR-CALNAME:VBR
X-ORIGINAL-URL:https://valleybusinessreport.com
X-WR-CALDESC:Events for VBR
REFRESH-INTERVAL;VALUE=DURATION:PT1H
X-Robots-Tag:noindex
X-PUBLISHED-TTL:PT1H
BEGIN:VTIMEZONE
TZID:America/Chicago
BEGIN:DAYLIGHT
TZOFFSETFROM:-0600
TZOFFSETTO:-0500
TZNAME:CDT
DTSTART:20200308T080000
END:DAYLIGHT
BEGIN:STANDARD
TZOFFSETFROM:-0500
TZOFFSETTO:-0600
TZNAME:CST
DTSTART:20201101T070000
END:STANDARD
BEGIN:DAYLIGHT
TZOFFSETFROM:-0600
TZOFFSETTO:-0500
TZNAME:CDT
DTSTART:20210314T080000
END:DAYLIGHT
BEGIN:STANDARD
TZOFFSETFROM:-0500
TZOFFSETTO:-0600
TZNAME:CST
DTSTART:20211107T070000
END:STANDARD
BEGIN:DAYLIGHT
TZOFFSETFROM:-0600
TZOFFSETTO:-0500
TZNAME:CDT
DTSTART:20220313T080000
END:DAYLIGHT
BEGIN:STANDARD
TZOFFSETFROM:-0500
TZOFFSETTO:-0600
TZNAME:CST
DTSTART:20221106T070000
END:STANDARD
END:VTIMEZONE
BEGIN:VEVENT
DTSTART;TZID=America/Chicago:20210701T170000
DTEND;TZID=America/Chicago:20210701T193000
DTSTAMP:20260422T165456
CREATED:20210623T041359Z
LAST-MODIFIED:20210623T041359Z
UID:10000584-1625158800-1625167800@valleybusinessreport.com
SUMMARY:Freedom Celebration Mixer Presented by Texas Regional Bank
DESCRIPTION:The Brownsville Chamber of Commerce hosts the return of the Freedom Celebration Mixer Presented by Texas Regional Bank July 1 at 5 p.m. Join the chamber for live music\, food\, snacks and drinks. Network with colleagues and friends. \nMembers of the chamber can register for $20 and nonmembers may register for $25 per person. \nRegister online.
URL:https://valleybusinessreport.com/event/freedom-celebration-mixer-presented-by-texas-regional-bank-2/
LOCATION:Texas Regional Bank – Brownsville\, 3450 Pablo Kisel Blvd.\, Brownsville\, TX\, 78526\, United States
CATEGORIES:Networking
ATTACH;FMTTYPE=image/png:https://valleybusinessreport.com/wp-content/uploads/2021/06/Freedom-Celebration-Mixer.png
ORGANIZER;CN="Brownsville Chamber of Commerce":MAILTO:info@brownsvillechamber.com
END:VEVENT
BEGIN:VEVENT
DTSTART;VALUE=DATE:20210703
DTEND;VALUE=DATE:20210704
DTSTAMP:20260422T165456
CREATED:20210623T044646Z
LAST-MODIFIED:20210623T044723Z
UID:10000587-1625270400-1625356799@valleybusinessreport.com
SUMMARY:McAllen Independence Day Celebration
DESCRIPTION:The McAllen Independence Day Celebration takes place July 3 with an early morning patriotic program. Immediately following is the Main Street Parade and then the family-friendly Freedom Festival at Archer Park. Music\, food and games will be some of the highlights of the event. \nIndependence Day 4K Run\nThe Independence Day 4K Run starts at 7 a.m. The City of McAllen Parks and Recreation Department has partnered with Team Red White and Blue\, a national veterans’ organization whose mission it is to enrich the lives of America’s veterans by connecting them to their community through physical and social activity.  The race\, which is just under 2.5 miles\, is open to anyone ages 7 years and up. The event takes place at McAllen Municipal Park\, 1921 North Bicentennial Boulevard\, with the race starting and ending at the park. \nThe registration fee is $20. The first 300 runners will also receive a runner’s shirt and a finisher medal. All proceeds from the race will benefit the local chapter of Team RWB. \nTo learn more or to register for the race\, visit www.mcallenparks.net or call the City of McAllen Parks Department at 956-681-3333. \nMore Event Activities\nOther activities scheduled for the day include the Patriotic Program\, which will begin at 8 a.m. from Archer Park\, located at 101 North Main Street. Immediately following is the Main Street Parade which will run along Main Street from Houston Avenue to Beech Avenue. Attendees can then enjoy the festivities at Freedom Festival at Archer Park from 10 a.m. to 2 p.m.\, featuring classic family fun\, music\, food and games. \nLater in the day\, from 6-10 p.m. Municipal Park is the site for food\, live music and entertainment. Starting at 9 p.m.\, the Concert in the Sky fireworks extravaganza will go live from Municipal Park. \nThe public can listen to the fireworks set to patriotic music by tuning in to 710-AM KURV. The fireworks will also broadcast live on MCN 1300 on Spectrum Cable for McAllen residents and at mcallen.net. The public may also view via the McAllen mobile 3-1-1 app or over the air antenna channel 57.1 KAZH-LP. \nThe McAllen Independence Day Celebration is presented by H-E-B.  Other sponsors include Lack’s\, Driscoll Health Plan\, Driscoll Health System\, Reliant\, Stripes Laredo Taco Company and Clark Chevrolet.
URL:https://valleybusinessreport.com/event/mcallen-independence-day-celebration/
LOCATION:Archer Park\, 101 North Main Street\, McAllen\, TX\, United States
CATEGORIES:Festivals and Celebrations
ATTACH;FMTTYPE=image/jpeg:https://valleybusinessreport.com/wp-content/uploads/2021/06/July-4.jpg
END:VEVENT
BEGIN:VEVENT
DTSTART;TZID=America/Chicago:20210703T160000
DTEND;TZID=America/Chicago:20210703T230000
DTSTAMP:20260422T165456
CREATED:20210627T134528Z
LAST-MODIFIED:20210627T134528Z
UID:10000485-1625328000-1625353200@valleybusinessreport.com
SUMMARY:San Benito Resaca Fest 2021
DESCRIPTION:The 13th annual San Benito Resacafest is a family-friendly day of food\, craft vendors\, games and family activities July 3. An evening concert under the stars and a fireworks display cap off the evening. \nResacafest supports the City of San Benito’s efforts to boost tourism by promoting the city’s unique history through family-friendly cultural events and programming. \nAdmission is free.
URL:https://valleybusinessreport.com/event/san-benito-resaca-fest-2021/
LOCATION:W.H. Heavin Memorial Park\, 705 N. Bowie Street\, San Benito\, TX\, United States
CATEGORIES:Festivals and Celebrations
ATTACH;FMTTYPE=image/jpeg:https://valleybusinessreport.com/wp-content/uploads/2021/06/ResacaFest21.jpg
END:VEVENT
BEGIN:VEVENT
DTSTART;VALUE=DATE:20210704
DTEND;VALUE=DATE:20210705
DTSTAMP:20260422T165456
CREATED:20210623T043703Z
LAST-MODIFIED:20210623T044007Z
UID:10000586-1625356800-1625443199@valleybusinessreport.com
SUMMARY:Texas Cook’ Em: High Steaks
DESCRIPTION:Texas Cook’ Em: High Steaks makes its return July 4 in Edinburg\, complete with vendors\, live music\, car show\, a children’s fun area and its state championship barbecue competition. The event is free. \nTexas Cook’Em is one of Texas’s biggest BBQ purse\, awarding $16\,000 to the winners. Competitors battle it out to cook the best chicken\, ribs\, pork brisket and rib-eye for money and bragging rights. \nA performance by Def Leggend\, a tribute to Def Leppard\, will kick-off the free concert. At sunset\, a fireworks display will commence\, followed by the performance of American Country Award winner Easton Corbin. \n 
URL:https://valleybusinessreport.com/event/texas-cook-em-high-steaks/
LOCATION:Ebony Hills Golf Course\, 300 W. Palm Drive\, Edinburg\, TX\, United States
CATEGORIES:Festivals and Celebrations
ATTACH;FMTTYPE=image/jpeg:https://valleybusinessreport.com/wp-content/uploads/2021/06/texas-cook-em.jpg
ORGANIZER;CN="Edinburg Chamber of Commerce":MAILTO:chamber@edinburg.com
END:VEVENT
BEGIN:VEVENT
DTSTART;TZID=America/Chicago:20210705T073000
DTEND;TZID=America/Chicago:20210705T083000
DTSTAMP:20260422T165456
CREATED:20210623T042358Z
LAST-MODIFIED:20210623T042358Z
UID:10000585-1625470200-1625473800@valleybusinessreport.com
SUMMARY:Coffee With the President
DESCRIPTION:Harlingen Chamber’s Javier De Leon has a personal face-to-face sit-down with members of the community July 5 at 7:30 a.m. De Leon will talk about what the Harlingen Chamber offers. Attendees an also learn of some of the chamber’s initiatives and how to properly utilize chamber membership. \nThis event is open to the entire community and is free.
URL:https://valleybusinessreport.com/event/coffee-with-the-president-2/
LOCATION:Harlingen Area Chamber of Commerce\, 311 E. Tyler Ave.\, Harlingen\, TX\, 78550\, United States
CATEGORIES:Networking
ATTACH;FMTTYPE=image/png:https://valleybusinessreport.com/wp-content/uploads/2021/06/Coffee-With-the-President.png
GEO:26.1899536;-97.6928673
X-APPLE-STRUCTURED-LOCATION;VALUE=URI;X-ADDRESS=Harlingen Area Chamber of Commerce 311 E. Tyler Ave. Harlingen TX 78550 United States;X-APPLE-RADIUS=500;X-TITLE=311 E. Tyler Ave.:geo:-97.6928673,26.1899536
END:VEVENT
BEGIN:VEVENT
DTSTART;TZID=America/Chicago:20210707T100000
DTEND;TZID=America/Chicago:20210707T113000
DTSTAMP:20260422T165456
CREATED:20210623T135403Z
LAST-MODIFIED:20210623T135403Z
UID:10000590-1625652000-1625657400@valleybusinessreport.com
SUMMARY:SBA Federal Contracting Series: Women-Owned Small Business Program + PTAC Services
DESCRIPTION:As part of the Federal Contracting Series\, the Brownsville Chamber of Commerce collaborates with the U.S. Small Business Administration for the Women-Owned Small Business Program online workshop July 7. \nThe federal government’s goal is to award at least five percent of all federal contracting dollars to women-owned small businesses each year. \nAt this workshop\, attendees will learn about the Woman-Owned Small Business and the Economically Disadvantaged Woman Owned Small Business Program. They will also receive information on the benefits of being a WOSB certified firm. \nIn addition\, attendees will learn about WOSB’s application process and if they qualify for the programs. \nIf your business is owned and controlled by a woman\, and you have a product or service you can sell to the federal government\, and you want to take advantage of federal contracting opportunities\, then this workshop is for you. This is a no-cost informational session. \nRegister online.
URL:https://valleybusinessreport.com/event/sba-federal-contracting-series-women-owned-small-business-program-ptac-services/
LOCATION:Zoom
CATEGORIES:Seminars and Workshops
ATTACH;FMTTYPE=image/png:https://valleybusinessreport.com/wp-content/uploads/2021/06/WOSBPTAC.png
ORGANIZER;CN="Brownsville Chamber of Commerce":MAILTO:info@brownsvillechamber.com
END:VEVENT
BEGIN:VEVENT
DTSTART;TZID=America/Chicago:20210708T120000
DTEND;TZID=America/Chicago:20210708T130000
DTSTAMP:20260422T165456
CREATED:20210623T134411Z
LAST-MODIFIED:20210623T134411Z
UID:10000589-1625745600-1625749200@valleybusinessreport.com
SUMMARY:Women Empowering Women - Bonnie Villarreal
DESCRIPTION:The Harlingen Area Chamber of Commerce presents “Women Empowering Women” July 8 with Dr. Bonnie Villarreal\, co-owner of Rio Vista Dentistry. \nAttendees must RSVP to attend. \nEmail lcampbell@harlingen.com or call 956-423-5440.
URL:https://valleybusinessreport.com/event/women-empowering-women-bonnie-villarreal/
LOCATION:Harlingen Area Chamber of Commerce\, 311 E. Tyler Ave.\, Harlingen\, TX\, 78550\, United States
CATEGORIES:Networking
ATTACH;FMTTYPE=image/png:https://valleybusinessreport.com/wp-content/uploads/2021/06/Women-Empowering-Women-Bonnie-V.png
GEO:26.1899536;-97.6928673
X-APPLE-STRUCTURED-LOCATION;VALUE=URI;X-ADDRESS=Harlingen Area Chamber of Commerce 311 E. Tyler Ave. Harlingen TX 78550 United States;X-APPLE-RADIUS=500;X-TITLE=311 E. Tyler Ave.:geo:-97.6928673,26.1899536
END:VEVENT
BEGIN:VEVENT
DTSTART;TZID=America/Chicago:20210710T110000
DTEND;TZID=America/Chicago:20210710T140000
DTSTAMP:20260422T165456
CREATED:20210427T161425Z
LAST-MODIFIED:20210626T133236Z
UID:10000552-1625914800-1625925600@valleybusinessreport.com
SUMMARY:Mission Lions Market Days
DESCRIPTION:Join friends and neighbors for Mission Lions Market Days July 10. The market includes arts and crafts\, antiques\, jewelry\, clothing\, food and music. Free community bingo is also part of the event. \nThe market takes place every month on the second Saturday.
URL:https://valleybusinessreport.com/event/mission-lions-market-days/2021-07-10/
LOCATION:Mission Market Square\, 200 West Tom Landry\, Mission\, TX\, 78572\, United States
CATEGORIES:Shopping
ATTACH;FMTTYPE=image/jpeg:https://valleybusinessreport.com/wp-content/uploads/2021/04/mission-lions.jpg
END:VEVENT
BEGIN:VEVENT
DTSTART;TZID=America/Chicago:20210714T140000
DTEND;TZID=America/Chicago:20210714T153000
DTSTAMP:20260422T165456
CREATED:20210623T140409Z
LAST-MODIFIED:20210623T140409Z
UID:10000606-1626271200-1626276600@valleybusinessreport.com
SUMMARY:SBA Federal Contracting Series: Federal HUBZone Program + Texas HUB Program Certification
DESCRIPTION:As part of the Federal Contracting Series\, the Brownsville Chamber of Commerce collaborates with the U.S. Small Business Administration and the UTRGV Procurement Technical Assistance Center for the Federal HUBZone Certification Program + Texas HUB Program Certification webinar July 14. \nThe federal government uses special programs to help small businesses win at least at 23 percent of all federal contracting dollars each year. \nTo help provide a level playing field for small businesses located in a HUBZone area the government limits competition for certain contracts to businesses that participate in the Federal HUBZone Programs. \nThe government’s goal is to award at least three percent of all contracting dollars to HUBZone-certified small businesses each year. The presenters will also cover the Texas HUB Program certification. \nDiscover and learn:\n\nIf government contracting is for you.\nThe benefits for being a certified firm.\nIf you qualify for the program.\nIf you are in a designated area.\nSteps on how to do business with the federal government.\n\nRegister online.
URL:https://valleybusinessreport.com/event/sba-federal-contracting-series-federal-hubzone-program-texas-hub-program-certification/
LOCATION:Zoom
CATEGORIES:Seminars and Workshops
ATTACH;FMTTYPE=image/png:https://valleybusinessreport.com/wp-content/uploads/2021/06/FederalHUBZoneTexasHUB.png
ORGANIZER;CN="Brownsville Chamber of Commerce":MAILTO:info@brownsvillechamber.com
END:VEVENT
BEGIN:VEVENT
DTSTART;TZID=America/Chicago:20210715T083000
DTEND;TZID=America/Chicago:20210715T093000
DTSTAMP:20260422T165456
CREATED:20210623T133508Z
LAST-MODIFIED:20210623T133658Z
UID:10000588-1626337800-1626341400@valleybusinessreport.com
SUMMARY:Business Over Breakfast - Dr. Stephen Robinson
DESCRIPTION:The Harlingen Area Chamber of Commerce is back for Business Over Breakfast July 15. This month’s guest speaker is Dr. Stephen Robinson with Culture of Life Ministries. \nAttendees must RSVP for the event to attend. \nFor more information or to RSVP\, email lcampbell@harlingen.com or call 956-423-5440.
URL:https://valleybusinessreport.com/event/business-over-breakfast-dr-stephen-robinson/
LOCATION:Harlingen Area Chamber of Commerce\, 311 E. Tyler Ave.\, Harlingen\, TX\, 78550\, United States
CATEGORIES:Networking
ATTACH;FMTTYPE=image/png:https://valleybusinessreport.com/wp-content/uploads/2021/06/Business-Over-Breakfast-Dr.-Stephen-Robinson.png
GEO:26.1899536;-97.6928673
X-APPLE-STRUCTURED-LOCATION;VALUE=URI;X-ADDRESS=Harlingen Area Chamber of Commerce 311 E. Tyler Ave. Harlingen TX 78550 United States;X-APPLE-RADIUS=500;X-TITLE=311 E. Tyler Ave.:geo:-97.6928673,26.1899536
END:VEVENT
BEGIN:VEVENT
DTSTART;TZID=America/Chicago:20210716T200000
DTEND;TZID=America/Chicago:20210716T220000
DTSTAMP:20260422T165456
CREATED:20210301T202750Z
LAST-MODIFIED:20210627T152839Z
UID:10000543-1626465600-1626472800@valleybusinessreport.com
SUMMARY:Food Park Unplugged
DESCRIPTION:Food Park Unplugged takes place July 16 at McAllen Food Park. Every third Friday of the month\, enjoy the sounds of local crooners while feasting on dishes by Food Truck chefs. Take a stroll and do some shopping from local craft and collectibles vendors. This event is family- and pet-friendly. \nFree admission into the park.
URL:https://valleybusinessreport.com/event/food-park-unplugged-7-16-21/
LOCATION:McAllen Food Park\, 10 N. Broadway\, McAllen\, 78501\, United States
CATEGORIES:Entertainment
ATTACH;FMTTYPE=image/jpeg:https://valleybusinessreport.com/wp-content/uploads/2019/05/McAllenFoodPark.jpg
ORGANIZER;CN="McAllen Chamber of Commerce":MAILTO:bcardenas@mcallenchamber.com
END:VEVENT
BEGIN:VEVENT
DTSTART;VALUE=DATE:20210717
DTEND;VALUE=DATE:20210718
DTSTAMP:20260422T165456
CREATED:20210714T183755Z
LAST-MODIFIED:20210714T185328Z
UID:10000488-1626480000-1626566399@valleybusinessreport.com
SUMMARY:Health Wellness Seminar
DESCRIPTION:Sarah Koudouzian\nReady to commit to a healthy lifestyle? Join South Texas Health System to hear from celebrity personal trainer and author Sarah Koudiuzian at this seminar July 17. The seminar takes place in two sessions\, one in person and another on Zoom. The live program includes a special exercise routine and a live cooking demonstration\, as well as a mini health expo. \nThe live session one takes place 10-11 a.m.\, while in-person and Zoom is 1-2:30 p.m. \nRegistration is required for in-person sessions.
URL:https://valleybusinessreport.com/event/health-wellness-seminar/
LOCATION:South Texas Heart System Health Clinics\, 500 East Ridge Road\, McAllen\, TX\, 78503\, United States
CATEGORIES:Seminars and Workshops
ATTACH;FMTTYPE=image/jpeg:https://valleybusinessreport.com/wp-content/uploads/2021/07/Sarah-Koudouzian.jpg
ORGANIZER;CN="Kassandra Rodriguez":MAILTO:kassandra.rodriguez@ubsrgv.com
END:VEVENT
BEGIN:VEVENT
DTSTART;TZID=America/Chicago:20210717T130000
DTEND;TZID=America/Chicago:20210717T170000
DTSTAMP:20260422T165456
CREATED:20210714T184925Z
LAST-MODIFIED:20210714T184925Z
UID:10000489-1626526800-1626541200@valleybusinessreport.com
SUMMARY:Mental Health Festival
DESCRIPTION:The Mental Health Festival by Mental Monarchs takes place July 17 with activities for the entire family. The event includes live music\, pop-up shops\, butterfly parade\, a farmers market and children’s activities. A best-dressed doggy pageant also takes place at 3 p.m.
URL:https://valleybusinessreport.com/event/mental-health-festival/
LOCATION:Mural Lane\, 101 South 17th Street\, McAllen\, TX\, 78501\, United States
CATEGORIES:Festivals and Celebrations
ATTACH;FMTTYPE=image/jpeg:https://valleybusinessreport.com/wp-content/uploads/2021/07/Mental-Monarchs.jpg
END:VEVENT
BEGIN:VEVENT
DTSTART;TZID=America/Chicago:20210721T100000
DTEND;TZID=America/Chicago:20210721T120000
DTSTAMP:20260422T165456
CREATED:20210714T182424Z
LAST-MODIFIED:20210714T182424Z
UID:10000487-1626861600-1626868800@valleybusinessreport.com
SUMMARY:The HR Process
DESCRIPTION:The HR Process webinar on July 21 covers the appropriate steps to take when planning for human resources in a small business. This includes what each step entails and its importance. \nThe UTRGV SBDC presents this webinar with promotional support from local chambers of commerce. These include Brownsville\, Greater Mission\, RGV Hispanic and San Benito. \nRegister online.
URL:https://valleybusinessreport.com/event/the-hr-process-7/
LOCATION:Webinar
CATEGORIES:Seminars and Workshops
ATTACH;FMTTYPE=image/png:https://valleybusinessreport.com/wp-content/uploads/2019/03/HR-Process-e1553091383527.png
ORGANIZER;CN="Esperanza P. Delgado":MAILTO:esperanza.delgado@utrgv.edu
END:VEVENT
BEGIN:VEVENT
DTSTART;TZID=America/Chicago:20210727T100000
DTEND;TZID=America/Chicago:20210727T110000
DTSTAMP:20260422T165456
CREATED:20210721T132205Z
LAST-MODIFIED:20210721T132205Z
UID:10000491-1627380000-1627383600@valleybusinessreport.com
SUMMARY:Chamber Connect +: 84th Anniversary Celebration
DESCRIPTION:The Brownsville Chamber of Commerce celebrates its 84th anniversary as an incorporated nonprofit on July 27 with Chamber Connect +. \nJoin the chamber to learn more about its history. Get to know what your local chamber of commerce can do for you and your business. \nAttendees will learn how to:\n\ntake advantage of membership benefits\njoin a committee\nstay connected with the members-only online portal\nset up a membership profile\n\nThis event is free and open to the public. \nRegister online.
URL:https://valleybusinessreport.com/event/chamber-connect-84th-anniversary-celebration/
LOCATION:Brownsville Chamber of Commerce\, 1600 University Blvd.\, Brownsville\, TX\, 78520\, United States
CATEGORIES:Networking
ATTACH;FMTTYPE=image/png:https://valleybusinessreport.com/wp-content/uploads/2021/07/Brownsville-84thAnniversary.png
ORGANIZER;CN="Brownsville Chamber of Commerce":MAILTO:info@brownsvillechamber.com
GEO:25.8979742;-97.4945709
X-APPLE-STRUCTURED-LOCATION;VALUE=URI;X-ADDRESS=Brownsville Chamber of Commerce 1600 University Blvd. Brownsville TX 78520 United States;X-APPLE-RADIUS=500;X-TITLE=1600 University Blvd.:geo:-97.4945709,25.8979742
END:VEVENT
BEGIN:VEVENT
DTSTART;TZID=America/Chicago:20210727T140000
DTEND;TZID=America/Chicago:20210727T160000
DTSTAMP:20260422T165456
CREATED:20210721T192618Z
LAST-MODIFIED:20210721T192618Z
UID:10000492-1627394400-1627401600@valleybusinessreport.com
SUMMARY:E-Commerce Roadmap: Strategic Selling II
DESCRIPTION:The “E-Commerce Roadmap: Strategic Selling II” online training July 27 assists any small business owner who is searching for the proper tips and tools to participate successfully in electronic commerce. \nSession Topics:\n\nSelling on social media\nDetermining your social media audience\nDefining engaging social content\nUnderstanding marketing automation\n\nRegister online.
URL:https://valleybusinessreport.com/event/e-commerce-roadmap-strategic-selling-ii/
LOCATION:Online\, TX\, United States
CATEGORIES:Seminars and Workshops
ATTACH;FMTTYPE=image/jpeg:https://valleybusinessreport.com/wp-content/uploads/2021/07/ecommerce.jpg
ORGANIZER;CN="UTRGV Small Business Development Center":MAILTO:sbdc@utrgv.edu
END:VEVENT
BEGIN:VEVENT
DTSTART;TZID=America/Chicago:20210729T120000
DTEND;TZID=America/Chicago:20210729T130000
DTSTAMP:20260422T165456
CREATED:20210721T131234Z
LAST-MODIFIED:20210721T131450Z
UID:10000490-1627560000-1627563600@valleybusinessreport.com
SUMMARY:Lunch & Learn: Weathering a Financial Emergency
DESCRIPTION:Join the Brownsville Chamber of Commerce and BBVA for a financial education workshop July 29. Financial experts will provide information\, tips and resources to help you with your everyday finances and long-term financial goals. \nIn this workshop\, participants will:\n\nUnderstand the risks small businesses may face during a financial emergency.\nPrepare for financial emergencies by creating a personalized plan.\nSeek out and access resources provided specifically for small businesses.\n\nThis event is free and open to the community. \nRegister online.
URL:https://valleybusinessreport.com/event/lunch-learn-weathering-a-financial-emergency/
LOCATION:Brownsville Chamber of Commerce\, 1600 University Blvd.\, Brownsville\, TX\, 78520\, United States
CATEGORIES:Seminars and Workshops
ATTACH;FMTTYPE=image/png:https://valleybusinessreport.com/wp-content/uploads/2021/07/7.29.21WeatheringaFinancialEmergency.png
ORGANIZER;CN="Brownsville Chamber of Commerce":MAILTO:info@brownsvillechamber.com
GEO:25.8979742;-97.4945709
X-APPLE-STRUCTURED-LOCATION;VALUE=URI;X-ADDRESS=Brownsville Chamber of Commerce 1600 University Blvd. Brownsville TX 78520 United States;X-APPLE-RADIUS=500;X-TITLE=1600 University Blvd.:geo:-97.4945709,25.8979742
END:VEVENT
BEGIN:VEVENT
DTSTART;VALUE=DATE:20210731
DTEND;VALUE=DATE:20210801
DTSTAMP:20260422T165456
CREATED:20210721T193752Z
LAST-MODIFIED:20210721T194121Z
UID:10000608-1627689600-1627775999@valleybusinessreport.com
SUMMARY:San Benito Chamber of Commerce 1st Annual Scholarship Golf Tournament
DESCRIPTION:Enjoy a day of golf supporting the San Benito Chamber of Commerce at the 2021 Scholarship Golf Tournament July 31 at the River Bend Resort & Golf Club. \nThe tournament raises funds for student scholarships\, enhancing the local workforce\, and making the community a better place to live and work. This scholarship will benefit a graduating San Benito junior/senior pursuing business administration or a related field.  \nEach participant will receive a goodie bag\, breakfast and lunch. Cash prizes will go for first- ($700)\, second- ($500) and third- ($300) place winners. \nPlatinum Partner Boswell Elliff Ford is sponsoring a Hole in One Contest with a $25\,000 vehicle credit. Other hole in one prizes will be available \n\n\nFor more information contact Dafne Maldonado at 956-361-9111 or info@chamberofsanbenito.com.
URL:https://valleybusinessreport.com/event/san-benito-chamber-of-commerce-1st-annual-scholarship-golf-tournament/
LOCATION:River Bend Resort & Golf Club\, 4541 Military Highway 281\, Brownsville\, TX\, 78520\, United States
CATEGORIES:Fundraisers,Recreation
ATTACH;FMTTYPE=image/jpeg:https://valleybusinessreport.com/wp-content/uploads/2019/08/golf.jpg
ORGANIZER;CN="San Benito Chamber of Commerce":MAILTO:info@chamberofsanbenito.com
END:VEVENT
END:VCALENDAR