BEGIN:VCALENDAR
VERSION:2.0
PRODID:-//VBR - ECPv6.15.17.1//NONSGML v1.0//EN
CALSCALE:GREGORIAN
METHOD:PUBLISH
X-ORIGINAL-URL:https://valleybusinessreport.com
X-WR-CALDESC:Events for VBR
REFRESH-INTERVAL;VALUE=DURATION:PT1H
X-Robots-Tag:noindex
X-PUBLISHED-TTL:PT1H
BEGIN:VTIMEZONE
TZID:America/Chicago
BEGIN:DAYLIGHT
TZOFFSETFROM:-0600
TZOFFSETTO:-0500
TZNAME:CDT
DTSTART:20210314T080000
END:DAYLIGHT
BEGIN:STANDARD
TZOFFSETFROM:-0500
TZOFFSETTO:-0600
TZNAME:CST
DTSTART:20211107T070000
END:STANDARD
BEGIN:DAYLIGHT
TZOFFSETFROM:-0600
TZOFFSETTO:-0500
TZNAME:CDT
DTSTART:20220313T080000
END:DAYLIGHT
BEGIN:STANDARD
TZOFFSETFROM:-0500
TZOFFSETTO:-0600
TZNAME:CST
DTSTART:20221106T070000
END:STANDARD
BEGIN:DAYLIGHT
TZOFFSETFROM:-0600
TZOFFSETTO:-0500
TZNAME:CDT
DTSTART:20230312T080000
END:DAYLIGHT
BEGIN:STANDARD
TZOFFSETFROM:-0500
TZOFFSETTO:-0600
TZNAME:CST
DTSTART:20231105T070000
END:STANDARD
END:VTIMEZONE
BEGIN:VEVENT
DTSTART;TZID=America/Chicago:20220903T120000
DTEND;TZID=America/Chicago:20220903T235900
DTSTAMP:20260422T215056
CREATED:20220808T162350Z
LAST-MODIFIED:20220912T214019Z
UID:10000638-1662206400-1662249540@valleybusinessreport.com
SUMMARY:14th annual Texas Street Festival
DESCRIPTION:The City of Mercedes hosts its 14th annual Texas Street Festival on Sept. 3 in historic downtown Mercedes. The day includes live music\, food and drinks\, children’s activities\, crafts\, professional wrestling and a car show. Live performers include Control and Bobby Pulido. \nProceeds from the festival will help support the Mercedes Chamber of Commerce Scholarship Program benefiting students from all Mercedes high schools.
URL:https://valleybusinessreport.com/event/14th-annual-texas-street-festival/
LOCATION:Downtown Mercedes\, 200 S. Texas Avenue\, Mercedes\, TX\, United States
CATEGORIES:Festivals and Celebrations
ATTACH;FMTTYPE=image/jpeg:https://valleybusinessreport.com/wp-content/uploads/2022/07/TSF_WEB.jpg
END:VEVENT
BEGIN:VEVENT
DTSTART;TZID=America/Chicago:20220913T090000
DTEND;TZID=America/Chicago:20220913T110000
DTSTAMP:20260422T215056
CREATED:20220907T182538Z
LAST-MODIFIED:20220912T213830Z
UID:10000822-1663059600-1663066800@valleybusinessreport.com
SUMMARY:Business Training Center - Harlingen EDC
DESCRIPTION:Harlingen EDC’s Beverly Loftus introduces a slew of resources that small businesses and entrepreneurs are able to utilize to help start and grow their business. \nThis event is free\, but RSVP is required by emailing aalvarez@harlingen.com.
URL:https://valleybusinessreport.com/event/business-training-center-harlingen-edc/
LOCATION:Harlingen Area Chamber of Commerce\, 311 E. Tyler Ave.\, Harlingen\, TX\, 78550\, United States
CATEGORIES:Seminars and Workshops
ATTACH;FMTTYPE=image/png:https://valleybusinessreport.com/wp-content/uploads/2022/09/CCEED-PROJECT.png
GEO:26.1899536;-97.6928673
X-APPLE-STRUCTURED-LOCATION;VALUE=URI;X-ADDRESS=Harlingen Area Chamber of Commerce 311 E. Tyler Ave. Harlingen TX 78550 United States;X-APPLE-RADIUS=500;X-TITLE=311 E. Tyler Ave.:geo:-97.6928673,26.1899536
END:VEVENT
BEGIN:VEVENT
DTSTART;TZID=America/Chicago:20220914T113000
DTEND;TZID=America/Chicago:20220914T130000
DTSTAMP:20260422T215056
CREATED:20220907T183356Z
LAST-MODIFIED:20220912T213902Z
UID:10000824-1663155000-1663160400@valleybusinessreport.com
SUMMARY:Growth With Intention
DESCRIPTION:Ivette Mayo\, CEO of YoSoyIam LLC\, speaks on Growth with Intention on Sept. 14 at the Brownsville Events Center. \nAs much as you desire to get things done\, it seems difficult at times. You may feel weighed down by the uncertainty and constant change in the world. Even though you push forward\, you still lack the satisfaction one should feel when an important task is completed. Know that you are not alone in feeling this way. It is time to pivot and begin each day by setting an intention for your personal success. \nThis event is presented by AARP in Brownsville and the Brownsville Chamber of Commerce. It is free of charge and open to the community. \nRSVP by calling 1-877-926-8300 or online.
URL:https://valleybusinessreport.com/event/growth-with-intention/
LOCATION:Brownsville Event Center\, 1 Event Center\, Brownsville\, 78526\, United States
CATEGORIES:Speakers
ATTACH;FMTTYPE=image/png:https://valleybusinessreport.com/wp-content/uploads/2022/09/9.14.22GrowthWithIntention.png
ORGANIZER;CN="Brownsville Chamber of Commerce":MAILTO:info@brownsvillechamber.com
GEO:25.9621367;-97.4880968
X-APPLE-STRUCTURED-LOCATION;VALUE=URI;X-ADDRESS=Brownsville Event Center 1 Event Center Brownsville 78526 United States;X-APPLE-RADIUS=500;X-TITLE=1 Event Center:geo:-97.4880968,25.9621367
END:VEVENT
BEGIN:VEVENT
DTSTART;TZID=America/Chicago:20220914T180000
DTEND;TZID=America/Chicago:20220914T180000
DTSTAMP:20260422T215056
CREATED:20220907T181622Z
LAST-MODIFIED:20220912T213905Z
UID:10000820-1663178400-1663178400@valleybusinessreport.com
SUMMARY:Rio Grande City Greater Chamber of Commerce Mixer
DESCRIPTION:Join the Rio Grande City Greater Chamber of Commerce for an open mixer event on Sept. 14. Connect\, network and grow. The event takes place at 6 p.m. at Rio Brewing Company. Refreshments will be served.
URL:https://valleybusinessreport.com/event/rio-grande-city-greater-chamber-of-commerce-mixer/
LOCATION:Rio Brewing Company\, 602 East Main Street\, Rio Grande City\, TX\, 78582\, United States
CATEGORIES:Networking
ATTACH;FMTTYPE=image/jpeg:https://valleybusinessreport.com/wp-content/uploads/2022/09/Rio-Grande-City-Greater-Chamber-of-Commerce-mixer.jpg
END:VEVENT
BEGIN:VEVENT
DTSTART;TZID=America/Chicago:20220915T113000
DTEND;TZID=America/Chicago:20220915T130000
DTSTAMP:20260422T215056
CREATED:20220907T173845Z
LAST-MODIFIED:20220912T213907Z
UID:10000819-1663241400-1663246800@valleybusinessreport.com
SUMMARY:Good Day McAllen Luncheon
DESCRIPTION:Join emcees Jim Darling and Tony Forina at the Good Day McAllen Luncheon on Sept. 15 as they introduce the newest McAllen Chamber of Commerce members. Connect with new chamber members and rekindle with existing members. \nThe event includes door prizes and lunch. One attendee will win the $1\,600 cash prize. \nRSVP by calling 956-682-2871.
URL:https://valleybusinessreport.com/event/good-day-mcallen-luncheon-9/
LOCATION:DoubleTree Suites by Hilton\, 1800 S 2nd Street\, McAllen\, TX\, 78503\, United States
CATEGORIES:Networking
ATTACH;FMTTYPE=image/png:https://valleybusinessreport.com/wp-content/uploads/2022/09/GoodDay_0922.png
ORGANIZER;CN="McAllen Chamber of Commerce":MAILTO:bcardenas@mcallenchamber.com
END:VEVENT
BEGIN:VEVENT
DTSTART;TZID=America/Chicago:20220916T090000
DTEND;TZID=America/Chicago:20220916T160000
DTSTAMP:20260422T215056
CREATED:20220913T152433Z
LAST-MODIFIED:20220913T152433Z
UID:10000849-1663318800-1663344000@valleybusinessreport.com
SUMMARY:Latina Leadership Conference 2022
DESCRIPTION:The Latina Leadership Conference on Sept. 16 in Edinburg is for all women who are looking to grow within themselves and to become leaders in their respective business communities. \nSeminars include “How to Navigate the Work Place\,” “Building an Brand Image\,” “Social Media Tips\,” Life/Work Balance” and more. \nFurther information and registration is available online.
URL:https://valleybusinessreport.com/event/latina-leadership-conference-2022/
LOCATION:Edinburg Conference Center at Renaissance\, 118 Paseo del Prado\, Edinburg\, 78539\, United States
CATEGORIES:Conferences and Summits
ATTACH;FMTTYPE=image/png:https://valleybusinessreport.com/wp-content/uploads/2022/09/Latina-Leadership_2022.png
END:VEVENT
BEGIN:VEVENT
DTSTART;TZID=America/Chicago:20220916T100000
DTEND;TZID=America/Chicago:20220916T160000
DTSTAMP:20260422T215056
CREATED:20220829T190933Z
LAST-MODIFIED:20220912T213644Z
UID:10000816-1663322400-1663344000@valleybusinessreport.com
SUMMARY:Dies y Seis de Septiembre
DESCRIPTION:The Weslaco Museum invites everyone to come and celebrate “Dies y Seis de Septiembre“ on Sept. 16 during museum hours\, 10 a.m. to 4 p.m. The museum dress up for the fiesta and celebrates Priest Miguel Hidalgo’s determination for Mexico to have its freedom from both Spain and France.  \nThe event includes food\, aguas\, loteria\, music\, history and celebration. Attendees are invited to “put on your huipil (colorful Mexican dress)\, blusa y falda (blouse and skirt)\, guayabera con pantalones (shirt and pants)\, and zapatos (shoes)” and join the Weslaco Museum in celebrating this day of independence. \nStandard admission fees apply.
URL:https://valleybusinessreport.com/event/dies-y-seis-de-septiembre/
LOCATION:Weslaco Museum\, 500 South Texas Blvd.\, Weslaco\, TX\, 78596 At this address\, United States
CATEGORIES:Festivals and Celebrations
ATTACH;FMTTYPE=image/png:https://valleybusinessreport.com/wp-content/uploads/2022/08/Dies-y-Seis-de-Septiembre.png
END:VEVENT
BEGIN:VEVENT
DTSTART;TZID=America/Chicago:20220917T070000
DTEND;TZID=America/Chicago:20220917T120000
DTSTAMP:20260422T215056
CREATED:20220913T153030Z
LAST-MODIFIED:20220913T153030Z
UID:10000809-1663398000-1663416000@valleybusinessreport.com
SUMMARY:Summer Causeway Run & Fitness Walk
DESCRIPTION:The Port Isabel Chamber of Commerce hosts its seventh annual Summer Causeway Run & Fitness Walk on Sept. 17. \nThe 5K Walk and 10K Run will feature thousands of participants starting in Port Isabel and crossing the causeway. Walkers will end at the Padre Balli statue on the South Padre Island\, while runners will continue to the finish line at Louie’s Backyard. The run will start promptly at 7 a.m. at the Port Isabel Community Center at 213 Yturria Street in Port Isabel. Walkers will start approximately 15 minutes later. \nMore information.
URL:https://valleybusinessreport.com/event/summer-causeway-run-fitness-walk/
LOCATION:Port Isabel Chamber of Commerce\, 421 Queen Isabella Blvd.\, Port Isabel\, TX\, 78578\, United States
CATEGORIES:Recreation
ATTACH;FMTTYPE=image/jpeg:https://valleybusinessreport.com/wp-content/uploads/2021/07/CausewayRun.jpg
ORGANIZER;CN="Port Isabel Chamber of Commerce":MAILTO:director@portisabel.org
END:VEVENT
BEGIN:VEVENT
DTSTART;TZID=America/Chicago:20220922T163000
DTEND;TZID=America/Chicago:20220922T190000
DTSTAMP:20260422T215056
CREATED:20220914T162343Z
LAST-MODIFIED:20220914T162343Z
UID:10000846-1663864200-1663873200@valleybusinessreport.com
SUMMARY:Vaqueros Mean Business” Networking Mixer
DESCRIPTION:Meet the new UTRGV coaches\, learn about UTRGV affiliate programs and promote your business. The Edinburg Chamber of Commerce and UTRGV Athletics programs host a collaborative “Vaqueros Mean Business” networking mixer on Sept. 22 at the Wingbarn – McColl. \nDuring the mixer\, business professionals will have the opportunity to network and learn about different business opportunities the UTRGV affiliation program has to offer. \nThose planning to attend must RSVP to the Edinburg Chamber of Commerce at 956-383-4974.
URL:https://valleybusinessreport.com/event/vaqueros-mean-business-networking-mixer/
LOCATION:Wingbarn\, 1303 South McColl Road\, Suite I-J\, Edinburg\, TX\, 78539\, United States
CATEGORIES:Networking
ATTACH;FMTTYPE=image/jpeg:https://valleybusinessreport.com/wp-content/uploads/2022/09/09.22.22-Vaqueros-Mean-Business.jpg
ORGANIZER;CN="Edinburg Chamber of Commerce":MAILTO:chamber@edinburg.com
END:VEVENT
BEGIN:VEVENT
DTSTART;TZID=America/Chicago:20220922T173000
DTEND;TZID=America/Chicago:20220922T190000
DTSTAMP:20260422T215056
CREATED:20220919T191410Z
LAST-MODIFIED:20220919T191410Z
UID:10000848-1663867800-1663873200@valleybusinessreport.com
SUMMARY:RGVHCC Membership Social
DESCRIPTION:The RGVHCC and the Hilton Garden Inn Harlingen host a chamber Membership Social on Sept. 22 with food\, beverages\, entertainment and door prizes donated by members. \nThe chamber recommends members bring plenty of business cards for networking.
URL:https://valleybusinessreport.com/event/rgvhcc-membership-social/
LOCATION:Hilton Garden Inn Harlingen Convention Center\, 751 Harlingen Heights Drive\, Harlingen\, TX\, 78552\, United States
CATEGORIES:Networking
ATTACH;FMTTYPE=image/jpeg:https://valleybusinessreport.com/wp-content/uploads/2022/09/RGVHCC_Membership-social.jpg
END:VEVENT
BEGIN:VEVENT
DTSTART;TZID=America/Chicago:20220922T180000
DTEND;TZID=America/Chicago:20220922T180000
DTSTAMP:20260422T215056
CREATED:20220913T160419Z
LAST-MODIFIED:20220913T160419Z
UID:10000843-1663869600-1663869600@valleybusinessreport.com
SUMMARY:Make a Fun and Simple Backyard Habitat
DESCRIPTION:Allen Williams\nTransform a portion of your yard into a welcoming place for birds and butterflies this fall. Allen Williams\, landscape habitat specialist at PSJA ISD\, goes over the key components that you need to address to do so on Sept. 22 at Quinta Mazatlan. To help you grow your “edible” garden for wildlife\, the native nursery “Blue Mockingbird” will also be selling native plants to take home. \nWilliams became the first landscape habitat specialist for Pharr-San Juan-Alamo ISD in 2013. His land stewardship career spans over 20 years. Williams is passionate about creating gardens that connect young minds to the wonders of nature. His specialty is butterfly gardens where students can gain first-hand knowledge from an “outdoor living classroom.” \nAny lawn\, large or small can be turned into a wildlife habitat\, because some habitat is better than none.  Adding native plants to a garden will assist in attracting a large variety of birds and butterflies.  Furthermore\, the local wildlife is more familiar with native plants and will put them to good use for food and shelter. At a minimum\, choose plants that are native to your state or country. \nCome early to walk the trails and visit the nature gift store with a new stock of hummingbird feeders\, bird shirts and more. \nTickets are available online at quintamazatlan.ticketleap.com for $3.
URL:https://valleybusinessreport.com/event/make-a-fun-and-simple-backyard-habitat/
LOCATION:Quinta Mazatlan\, 600 Sunset Drive\, McAllen\, TX\, 78503\, United States
CATEGORIES:Recreation,Speakers
ATTACH;FMTTYPE=image/jpeg:https://valleybusinessreport.com/wp-content/uploads/2022/09/Allen-Williams.jpg
END:VEVENT
BEGIN:VEVENT
DTSTART;TZID=America/Chicago:20220926T100000
DTEND;TZID=America/Chicago:20220926T110000
DTSTAMP:20260422T215056
CREATED:20220919T192403Z
LAST-MODIFIED:20220919T192403Z
UID:10000850-1664186400-1664190000@valleybusinessreport.com
SUMMARY:Brownsville Chamber Connect +
DESCRIPTION:Join the Brownsville Chamber of Commerce on Sept. 26 at Chamber Connect + to learn about what the chamber of commerce can do for you or to receive a refresher on membership benefits. \nAttendees will learn how to:\n\ntake advantage of membership benefits\njoin a committee\nstay connected with members-only online portal\nset up membership profile\n\nThis event is free and open to the community. \nFor more information\, contact Brownsville Chamber.
URL:https://valleybusinessreport.com/event/brownsville-chamber-connect/
LOCATION:Brownsville Chamber of Commerce\, 1600 University Blvd.\, Brownsville\, TX\, 78520\, United States
CATEGORIES:Seminars and Workshops
ATTACH;FMTTYPE=image/png:https://valleybusinessreport.com/wp-content/uploads/2022/01/ChamberConnect.png
ORGANIZER;CN="Brownsville Chamber of Commerce":MAILTO:info@brownsvillechamber.com
GEO:25.8979742;-97.4945709
X-APPLE-STRUCTURED-LOCATION;VALUE=URI;X-ADDRESS=Brownsville Chamber of Commerce 1600 University Blvd. Brownsville TX 78520 United States;X-APPLE-RADIUS=500;X-TITLE=1600 University Blvd.:geo:-97.4945709,25.8979742
END:VEVENT
BEGIN:VEVENT
DTSTART;TZID=America/Chicago:20220927T113000
DTEND;TZID=America/Chicago:20220927T130000
DTSTAMP:20260422T215056
CREATED:20220913T150825Z
LAST-MODIFIED:20220913T150825Z
UID:10000828-1664278200-1664283600@valleybusinessreport.com
SUMMARY:AAF-RGV Luncheon Featuring Sean Thompson
DESCRIPTION:Join the American Advertising Federation – Rio Grande Valley for a luncheon on Sept. 27 featuring Sean Thompson\, the co-founder of lookthinkmake. Thompson will speak on “Turning Spaces Into Places: Building Brands for Community Destinations.” \nFrom remarkable buildings to beloved neighborhoods\, and city districts to community parks\, we all have places we love to be. But how do those places get their start? This luncheon addresses the elements that create place-based brands — including naming\, identity design\, wayfinding\, and websites — and how to bring people\, places\, and ideas together in the process. \nThompson’s lookthinkmake is an Austin-based agency focuses on creating brands and marketing campaigns for places\, spaces\, tourism\, parks\, nonprofits and community wellness initiatives. \nRegistration is required with payment due in full in advance or at the event. Fees are $25 for AAF-RGV members and corporate members\, $30 for non-members\, and $20 for students. \nRegister online.
URL:https://valleybusinessreport.com/event/aaf-rgv-sean-thompson/
LOCATION:Embassy Suites by Hilton\, 800 Convention Center Blvd.\, McAllen\, TX\, 78501\, United States
CATEGORIES:Speakers
ATTACH;FMTTYPE=image/png:https://valleybusinessreport.com/wp-content/uploads/2022/09/Sean_Thompson_AAF.png
ORGANIZER;CN="American Advertising Federation - Rio Grande Valley":MAILTO:aafrgv@rgv.rr.com
END:VEVENT
BEGIN:VEVENT
DTSTART;TZID=America/Chicago:20220929T080000
DTEND;TZID=America/Chicago:20220929T170000
DTSTAMP:20260422T215056
CREATED:20220929T185250Z
LAST-MODIFIED:20220929T185250Z
UID:10000854-1664438400-1664470800@valleybusinessreport.com
SUMMARY:McAllen Business Power Network Showcase
DESCRIPTION:McAllen Chamber of Commerce members may join the chamber for its members-only Business Power Network Showcase on Oct. 11. This event connects chamber members one to one with developing leads\, marketing businesses and building relationships. \nSponsored by Heartland Payment Systems. \nMembers may contact Andrea at 956-682-2871 for more information or to reserve a spot.
URL:https://valleybusinessreport.com/event/mcallen-business-power-network-showcase-2/
LOCATION:McAllen Chamber of Commerce\, 1200 Ash Ave.\, McAllen\, TX\, 78501\, United States
CATEGORIES:Networking
ORGANIZER;CN="McAllen Chamber of Commerce":MAILTO:bcardenas@mcallenchamber.com
END:VEVENT
END:VCALENDAR