BEGIN:VCALENDAR
VERSION:2.0
PRODID:-//VBR - ECPv6.15.17.1//NONSGML v1.0//EN
CALSCALE:GREGORIAN
METHOD:PUBLISH
X-WR-CALNAME:VBR
X-ORIGINAL-URL:https://valleybusinessreport.com
X-WR-CALDESC:Events for VBR
REFRESH-INTERVAL;VALUE=DURATION:PT1H
X-Robots-Tag:noindex
X-PUBLISHED-TTL:PT1H
BEGIN:VTIMEZONE
TZID:America/Chicago
BEGIN:DAYLIGHT
TZOFFSETFROM:-0600
TZOFFSETTO:-0500
TZNAME:CDT
DTSTART:20210314T080000
END:DAYLIGHT
BEGIN:STANDARD
TZOFFSETFROM:-0500
TZOFFSETTO:-0600
TZNAME:CST
DTSTART:20211107T070000
END:STANDARD
BEGIN:DAYLIGHT
TZOFFSETFROM:-0600
TZOFFSETTO:-0500
TZNAME:CDT
DTSTART:20220313T080000
END:DAYLIGHT
BEGIN:STANDARD
TZOFFSETFROM:-0500
TZOFFSETTO:-0600
TZNAME:CST
DTSTART:20221106T070000
END:STANDARD
BEGIN:DAYLIGHT
TZOFFSETFROM:-0600
TZOFFSETTO:-0500
TZNAME:CDT
DTSTART:20230312T080000
END:DAYLIGHT
BEGIN:STANDARD
TZOFFSETFROM:-0500
TZOFFSETTO:-0600
TZNAME:CST
DTSTART:20231105T070000
END:STANDARD
END:VTIMEZONE
BEGIN:VEVENT
DTSTART;TZID=America/Chicago:20221001T090000
DTEND;TZID=America/Chicago:20221001T140000
DTSTAMP:20260422T214922
CREATED:20220823T143023Z
LAST-MODIFIED:20220912T213817Z
UID:10000834-1664614800-1664632800@valleybusinessreport.com
SUMMARY:Sisters in Service: Women Veterans Seminar
DESCRIPTION:Join SBA Lower Rio Grande Valley District Office District Director Angela Burton as she hosts a panel on Oct. 1 on how women veterans can become entrepreneurs. This event will provide information\, resources and an opportunity to network with fellow women veterans in the Rio Grande Valley. \nRegistration and a full schedule is available online.
URL:https://valleybusinessreport.com/event/sisters-in-service-women-veterans-seminar/
LOCATION:Tropical Texas Behavioral Health – Weslaco Conference Center\, 2215 West Business 83\, Weslaco\, TX\, 78596\, United States
CATEGORIES:Seminars and Workshops
END:VEVENT
BEGIN:VEVENT
DTSTART;TZID=America/Chicago:20221005T113000
DTEND;TZID=America/Chicago:20221005T133000
DTSTAMP:20260422T214922
CREATED:20220913T154900Z
LAST-MODIFIED:20220913T154900Z
UID:10000840-1664969400-1664976600@valleybusinessreport.com
SUMMARY:Weslaco Chamber Networking Lunch Mob
DESCRIPTION:Join the Weslaco Chamber Of Commerce for its monthly Networking Lunch Mob on Oct. 5. This event is an opportunity to support local business and network over lunch. \nRegister online to receive event instructions and location. \nRSVP online.
URL:https://valleybusinessreport.com/event/weslaco-chamber-networking-lunch-mob/
LOCATION:TBA
CATEGORIES:Networking
ORGANIZER;CN="Weslaco Area Chamber of Commerce":MAILTO:chamber@weslaco.com
END:VEVENT
BEGIN:VEVENT
DTSTART;TZID=America/Chicago:20221006T180000
DTEND;TZID=America/Chicago:20221006T190000
DTSTAMP:20260422T214922
CREATED:20220928T192314Z
LAST-MODIFIED:20220928T194628Z
UID:10000852-1665079200-1665082800@valleybusinessreport.com
SUMMARY:Native Plant Sale & Talk With Mike Heep
DESCRIPTION:Mike Heep\nQuinta Mazatlan kicks off Native Plant Month in Texas on Oct. 6 with a native plant sale and Mike Heep’s presentation\, “Landscaping with Native Plants.” \nHeep will focus on a wide variety of the Rio Grande Valley’s native plants and information on how to diversify your garden with local specialties that help sustain the ecological and biodiversity of the region. \nSouth Texas native plants are the ecological basis upon which life depends on in the Rio Grande Valley. All terrestrial animals\, in one way or another\, depend on these plants for food\, shelter and nesting. With an educational background in botany\, agriculture and chemistry\, Heep turned his passion into a business and opened Heep’s LRGV Native Plant Nursery in Harlingen in 1978. Heep grows more than 150 native plants and enjoys sharing his knowledge on how to design bird- and butterfly-friendly native gardens with the community. \nHeep also works closely with Quinta Mazatlán\, restoring and preserving the native habitat in “the big backyard\,” which can serve as a demonstration site for your garden. \nPre-purchased tickets are online at quintamazatlan.ticketleap.com. Tickets are $3 per person.
URL:https://valleybusinessreport.com/event/native-plant-sale-talk-with-mike-heep/
LOCATION:Quinta Mazatlan\, 600 Sunset Drive\, McAllen\, TX\, 78503\, United States
CATEGORIES:Speakers
ATTACH;FMTTYPE=image/jpeg:https://valleybusinessreport.com/wp-content/uploads/2022/09/Prickly-Pear-Social-2018-5.jpg
END:VEVENT
BEGIN:VEVENT
DTSTART;TZID=America/Chicago:20221009T130000
DTEND;TZID=America/Chicago:20221009T170000
DTSTAMP:20260422T214922
CREATED:20220912T153842Z
LAST-MODIFIED:20220912T213823Z
UID:10000826-1665320400-1665334800@valleybusinessreport.com
SUMMARY:Día De Los Muertos Festival & Market At The Museum
DESCRIPTION:Join the International Museum of Art & Science for its annual Día de los Muertos Festival on Oct. 9. This lively event includes performances\, a display of altares created by community organizations\, and a Market at the Museum featuring regional artists and artisans. \nActivities include a candle painting\, exhibit tours and a sugar skull decorating. Each activity is an additional $3 each. \nIMAS Día de los Muertos Festival is presented by H-E-B Helping Here with additional support from Humanities Texas.
URL:https://valleybusinessreport.com/event/dia-de-los-muertos-festival-market-at-the-museum/
LOCATION:International Museum of Art & Science\, 1900 W. Nolana Ave.\, McAllen\, TX\, 78504\, United States
CATEGORIES:Festivals and Celebrations
ATTACH;FMTTYPE=image/jpeg:https://valleybusinessreport.com/wp-content/uploads/2022/09/Dia-de-los-Muertos-Festival.jpg
END:VEVENT
BEGIN:VEVENT
DTSTART;TZID=America/Chicago:20221013T090000
DTEND;TZID=America/Chicago:20221013T100000
DTSTAMP:20260422T214922
CREATED:20220929T190044Z
LAST-MODIFIED:20220929T190306Z
UID:10000856-1665651600-1665655200@valleybusinessreport.com
SUMMARY:SPI Coffee & Conversation
DESCRIPTION:The South Padre Island Chamber of Commerce hosts its Coffee and Conversation on Oct. 13 with guest speaker Teri Capistran\, superintendent of Point Isabel ISD. Explore the opportunities to engage with students and educators to meet the workforce needs of businesses. \nCoffee and Conversation will also be on Facebook live @spichamber.
URL:https://valleybusinessreport.com/event/spi-coffee-conversation/
LOCATION:Padre Island Brewing Company\, 3400 Padre Blvd.\, South Padre Island\, TX\, 78597\, United States
CATEGORIES:Speakers
ORGANIZER;CN="South Padre Island Chamber of Commerce":MAILTO:info@spichamber.com
END:VEVENT
BEGIN:VEVENT
DTSTART;TZID=America/Chicago:20221018T173000
DTEND;TZID=America/Chicago:20221018T190000
DTSTAMP:20260422T214922
CREATED:20221010T175959Z
LAST-MODIFIED:20221010T175959Z
UID:10000664-1666114200-1666119600@valleybusinessreport.com
SUMMARY:SPI Chamber Fall Member Showcase
DESCRIPTION:Join the South Padre Island Chamber of Commerce on Oct. 18 for its Fall Member Showcase. Visit with more than 50 chamber members. \nAdmission is free and includes one drink coupon.
URL:https://valleybusinessreport.com/event/spi-chamber-fall-member-showcase/
LOCATION:SPI Convention Center\, 7355 Padre Blvd.\, South Padre Island\, TX\, 78597\, United States
CATEGORIES:Festivals and Celebrations
ATTACH;FMTTYPE=image/png:https://valleybusinessreport.com/wp-content/uploads/2022/10/ShowcaseOct2022.png
ORGANIZER;CN="South Padre Island Chamber of Commerce":MAILTO:info@spichamber.com
END:VEVENT
BEGIN:VEVENT
DTSTART;TZID=America/Chicago:20221018T173000
DTEND;TZID=America/Chicago:20221018T193000
DTSTAMP:20260422T214922
CREATED:20221010T174238Z
LAST-MODIFIED:20221010T174238Z
UID:10000662-1666114200-1666121400@valleybusinessreport.com
SUMMARY:Texas Chamber of Commerce Week Cameron County Business After-Hours Networking Mixer
DESCRIPTION:Texas Chamber of Commerce Week is a celebration of the contributions and dedication of chambers of commerce and the professional staff that serve them. This year\, Texas Chamber of Commerce Week takes place Oct. 17-21. \nIn honor of the chamber members supporting their local chamber of commerce every day\, the Brownsville Chamber of Commerce\, Greater Harlingen Chamber of Commerce\, Los Fresnos Chamber of Commerce\, Port Isabel Chamber of Commerce and the San Benito Chamber of Commerce host a joint Cameron County Business After-Hours Networking Mixer on Oct. 18. \nThis Cameron County Business After-Hours Networking Mixer is presented by Rancho Viejo Resort & Country Club. Admission is free for members of participating Cameron County chambers of commerce. \nRegister online or by contacting the Brownsville Chamber of Commerce.
URL:https://valleybusinessreport.com/event/texas-chamber-of-commerce-week-cameron-county-business-after-hours-networking-mixer/
LOCATION:Rancho Viejo Resort & Country Club\, 1 Rancho Viejo Drive\, Rancho Viejo\, TX\, 78575\, United States
CATEGORIES:Networking
ATTACH;FMTTYPE=image/png:https://valleybusinessreport.com/wp-content/uploads/2022/10/10.18.22TexasChamberofCommerceWeekCameronCountyBusinessAfter-Hours.png
ORGANIZER;CN="Brownsville Chamber of Commerce":MAILTO:info@brownsvillechamber.com
END:VEVENT
BEGIN:VEVENT
DTSTART;VALUE=DATE:20221019
DTEND;VALUE=DATE:20221021
DTSTAMP:20260422T214922
CREATED:20221010T180932Z
LAST-MODIFIED:20221010T180932Z
UID:10000666-1666137600-1666310399@valleybusinessreport.com
SUMMARY:ServSafe Food Managers Certification
DESCRIPTION:The ServSafe Food Managers Certification on Oct. 18-19 provides the training needed to meet SPI City Ordinances. Certification classes take place once a year and are good for five years. This is a two-day class offered in both English and Spanish\, with the test administered on the second day. \nRegistration is $200 for South Padre Island Chamber of Commerce members\, $225 for prospective members. Registration includes two days of classes\, state exam and lunch on Tuesday. Those wishing to keep the instruction book may pay an additional $40 fee. \nThe English class takes place at 321 Padre Blvd.\, while the Spanish class is at 610 Padre Blvd. \nDownload the registration form and/or fly\, and register online.
URL:https://valleybusinessreport.com/event/servsafe-food-managers-certification-2/
LOCATION:Multiple sites\, South Padre Island
CATEGORIES:Seminars and Workshops
ATTACH;FMTTYPE=image/jpeg:https://valleybusinessreport.com/wp-content/uploads/2020/09/ServSafe.jpg
ORGANIZER;CN="South Padre Island Chamber of Commerce":MAILTO:info@spichamber.com
END:VEVENT
BEGIN:VEVENT
DTSTART;VALUE=DATE:20221021
DTEND;VALUE=DATE:20221024
DTSTAMP:20260422T214922
CREATED:20220823T150640Z
LAST-MODIFIED:20220912T213536Z
UID:10000831-1666310400-1666569599@valleybusinessreport.com
SUMMARY:Fiesta de Palmas 2022
DESCRIPTION:This year’s Fiesta de Palmas includes fun family activities and an exciting music line up during the annual celebration of all cultures of McAllen Oct. 21-23. \nFiesta de Palmas provides activities for all to enjoy inside the McAllen Convention Center and all around the grounds\, including Oval Park\, the Reflecting Pond and the Amphitheater. \nFor more information\, visit Fiesta De Palmas Set For Oct. 21-23.
URL:https://valleybusinessreport.com/event/fiesta-de-palmas-2022/
LOCATION:McAllen Convention Center\, 700 Convention Center Boulevard\, McAllen\, TX\, United States
CATEGORIES:Festivals and Celebrations
ATTACH;FMTTYPE=image/jpeg:https://valleybusinessreport.com/wp-content/uploads/2022/08/Fiesta-Des-Palmas-calendar.jpg
END:VEVENT
BEGIN:VEVENT
DTSTART;TZID=America/Chicago:20221021T180000
DTEND;TZID=America/Chicago:20221021T210000
DTSTAMP:20260422T214922
CREATED:20221004T171134Z
LAST-MODIFIED:20221004T171447Z
UID:10000858-1666375200-1666386000@valleybusinessreport.com
SUMMARY:Noche del Vino
DESCRIPTION:Fiesta de Palmas presents Noche del Vino by H-E-B on Oct. 21\, its first ever wine and food festival benefitting Make-A-Wish Foundation – Rio Grande Valley. The evening includes premium wines along with food tastings provided by H-E-B and live music. \nTickets are available at Ticketmaster.com\, McAllen Performing Arts Center Box Office or Fiestadepalmas.com.
URL:https://valleybusinessreport.com/event/noche-del-vino/
LOCATION:McAllen Convention Center\, 700 Convention Center Boulevard\, McAllen\, TX\, United States
CATEGORIES:Festivals and Celebrations
ATTACH;FMTTYPE=image/jpeg:https://valleybusinessreport.com/wp-content/uploads/2022/10/Noche-del-Vino.jpg
END:VEVENT
BEGIN:VEVENT
DTSTART;TZID=America/Chicago:20221025T113000
DTEND;TZID=America/Chicago:20221025T133000
DTSTAMP:20260422T214922
CREATED:20221012T211308Z
LAST-MODIFIED:20221012T211542Z
UID:10000668-1666697400-1666704600@valleybusinessreport.com
SUMMARY:State of the Chamber & Leadership Luncheon
DESCRIPTION:The Brownsville Chamber of Commerce hosts its State of the Chamber & Leadership Luncheon on Oct. 25 at the Brownsville Events Center. The event brings the business community together to reflect upon the accomplishments and challenges of the past year and look ahead at moving the community forward. \nThe Brownsville Chamber of Commerce Chairman of the Board Avi Schwarcz and President/CEO Esmeralda Villarreal will speak on the Chamber’s Strategic Plan and Vision for the coming year\, and the newly elected board members will be sworn in. Immediate Past Chairman of the Board Richard Abete will honor all outgoing board members and reflect upon his accomplishments throughout the last year. \nTickets are $50 each. This event is open to chamber members and non-members. \nRSVP in advance\, seating is limited.
URL:https://valleybusinessreport.com/event/state-of-the-chamber-leadership-luncheon/
LOCATION:Brownsville Event Center\, 1 Event Center\, Brownsville\, 78526\, United States
CATEGORIES:Networking
ATTACH;FMTTYPE=image/png:https://valleybusinessreport.com/wp-content/uploads/2022/10/10.25.22StateoftheChamberLeadershipLuncheon.png
ORGANIZER;CN="Brownsville Chamber of Commerce":MAILTO:info@brownsvillechamber.com
GEO:25.9621367;-97.4880968
X-APPLE-STRUCTURED-LOCATION;VALUE=URI;X-ADDRESS=Brownsville Event Center 1 Event Center Brownsville 78526 United States;X-APPLE-RADIUS=500;X-TITLE=1 Event Center:geo:-97.4880968,25.9621367
END:VEVENT
BEGIN:VEVENT
DTSTART;TZID=America/Chicago:20221029T110000
DTEND;TZID=America/Chicago:20221029T160000
DTSTAMP:20260422T214922
CREATED:20221025T182438Z
LAST-MODIFIED:20221025T182438Z
UID:10000672-1667041200-1667059200@valleybusinessreport.com
SUMMARY:Not-So-Scary Halloween Bash
DESCRIPTION:Join the Children’s Museum of Brownsville on Oct. 29 for a Not-So-Scary Halloween Bash featuring games\, spooky arts and crafts\, and many creepy crawly surprises. Goodie bags are also available. \nKids will be able to participate in fun science-based activities like making slime and building spooky light circuits\, among other creepy activities. \nAll activities and supplies are included with paid admission of $9 per person.
URL:https://valleybusinessreport.com/event/not-so-scary-halloween-bash/
LOCATION:Children’s Museum of Brownsville\, 501 E Ringgold Street #5 Dean Porter\, Brownsville\, TX\, 78520\, United States
CATEGORIES:Festivals and Celebrations
ATTACH;FMTTYPE=image/png:https://valleybusinessreport.com/wp-content/uploads/2022/10/NSSHalloweenBash.png
ORGANIZER;CN="Children's Museum of Brownsville":MAILTO:guestrelations@cmofbrownsville.com
END:VEVENT
END:VCALENDAR