BEGIN:VCALENDAR
VERSION:2.0
PRODID:-//VBR - ECPv6.15.17.1//NONSGML v1.0//EN
CALSCALE:GREGORIAN
METHOD:PUBLISH
X-WR-CALNAME:VBR
X-ORIGINAL-URL:https://valleybusinessreport.com
X-WR-CALDESC:Events for VBR
REFRESH-INTERVAL;VALUE=DURATION:PT1H
X-Robots-Tag:noindex
X-PUBLISHED-TTL:PT1H
BEGIN:VTIMEZONE
TZID:America/Chicago
BEGIN:DAYLIGHT
TZOFFSETFROM:-0600
TZOFFSETTO:-0500
TZNAME:CDT
DTSTART:20230312T080000
END:DAYLIGHT
BEGIN:STANDARD
TZOFFSETFROM:-0500
TZOFFSETTO:-0600
TZNAME:CST
DTSTART:20231105T070000
END:STANDARD
BEGIN:DAYLIGHT
TZOFFSETFROM:-0600
TZOFFSETTO:-0500
TZNAME:CDT
DTSTART:20240310T080000
END:DAYLIGHT
BEGIN:STANDARD
TZOFFSETFROM:-0500
TZOFFSETTO:-0600
TZNAME:CST
DTSTART:20241103T070000
END:STANDARD
BEGIN:DAYLIGHT
TZOFFSETFROM:-0600
TZOFFSETTO:-0500
TZNAME:CDT
DTSTART:20250309T080000
END:DAYLIGHT
BEGIN:STANDARD
TZOFFSETFROM:-0500
TZOFFSETTO:-0600
TZNAME:CST
DTSTART:20251102T070000
END:STANDARD
END:VTIMEZONE
BEGIN:VEVENT
DTSTART;TZID=America/Chicago:20241102T110000
DTEND;TZID=America/Chicago:20241102T170000
DTSTAMP:20260425T183106
CREATED:20241012T203509Z
LAST-MODIFIED:20241012T203509Z
UID:10001197-1730545200-1730566800@valleybusinessreport.com
SUMMARY:31st Annual Shrimp Cook-off & Seafood Festival
DESCRIPTION:Indulge your taste buds and immerse yourself in a day of gastronomic delight at the 31st annual Shrimp Cook-Off and Seafood Festival on Nov. 2. \nSample an array of shrimp dishes crafted by competitors from all corners of Texas\, showcasing their finest recipes featuring local Gulf shrimp. Explore booths offering everything from unique clothing to a diverse selection of food. Cast your vote for your favorite shrimp dish and help crown the People’s Choice winner. \nThe day also includes live performances by local school groups.
URL:https://valleybusinessreport.com/event/31st-annual-shrimp-cook-off-seafood-festival/
LOCATION:Sutherlands\, 1723 TX-100\, Port Isabel\, TX\, 78578\, United States
CATEGORIES:Festivals and Celebrations
ATTACH;FMTTYPE=image/jpeg:https://valleybusinessreport.com/wp-content/uploads/2024/10/Shrimp-Cook-Off-and-Seafood-Festival.jpg
ORGANIZER;CN="Port Isabel Chamber of Commerce":MAILTO:director@portisabel.org
END:VEVENT
BEGIN:VEVENT
DTSTART;TZID=America/Chicago:20241103T110000
DTEND;TZID=America/Chicago:20241103T150000
DTSTAMP:20260425T183106
CREATED:20241025T120203Z
LAST-MODIFIED:20241025T120538Z
UID:10001203-1730631600-1730646000@valleybusinessreport.com
SUMMARY:H-E-B 34th Feast of Sharing
DESCRIPTION:With this year’s H-E-B Feast of Sharing dinner\, H-E-B\, with the help from its Mobile Kitchens\, will serve traditional Texas-style meals at all its dinner locations in the state. Each event is filled with music\, activities for the family and a variety of free services such as health and wellness screenings and flu vaccinations. Some gatherings even get a visit from Santa! Additionally\, in select cities\, H-E-B Partners (employees) and other volunteers will deliver holiday meals to homebound seniors and others who are unable to attend the event. \nThe H-E-B Feast of Sharing is a series of festive gatherings that include more than 340\,000 meals served during 34 dinners throughout Texas and Mexico. Filled with food\, music\, and good cheer\, these free holiday feasts are open to the public and bring together family\, friends and neighbors. Launched in 1989\, the H-E-B Feast of Sharing gives the company an opportunity to give thanks to its loyal customers and invites everyone to our holiday dinner table. In the more than three decades H-E-B has held the celebrations\, more than 375\,000 volunteers have helped serve nearly four million meals. \nThis initiative is an important part of H-E-B’s Hunger Relief Program\, which works year-round to prevent hunger. Last year\, H-E-B’s Hunger Relief Program donated 34 million pounds of food to families in need. Since 1982\, the year the program was founded\, H-E-B has donated more than 1 billion pounds of food to 5\,500 non-profit organizations in Texas and Mexico. \nVolunteer sign-up is online.
URL:https://valleybusinessreport.com/event/h-e-b-34th-feast-of-sharing/
LOCATION:McAllen Convention Center\, 700 Convention Center Boulevard\, McAllen\, TX\, United States
CATEGORIES:Festivals and Celebrations
ATTACH;FMTTYPE=image/png:https://valleybusinessreport.com/wp-content/uploads/2024/10/Feast-of-Sharing.png
END:VEVENT
BEGIN:VEVENT
DTSTART;TZID=America/Chicago:20241106T090000
DTEND;TZID=America/Chicago:20241106T110000
DTSTAMP:20260425T183106
CREATED:20241012T204213Z
LAST-MODIFIED:20241012T204436Z
UID:10001198-1730883600-1730890800@valleybusinessreport.com
SUMMARY:Latina Hope
DESCRIPTION:The McAllen Chamber of Commerce hosts its November session of Latina Hope on Nov 6. The competitive pitch program facilitates training\, networking and micro business development for Spanish-speaking women. \nThe program offers business workshops\, as well as specialized skill training in making candles\, cards\, jewelry\, soaps\, toys and wreaths. Latina Hope also offers classes in knitting/crocheting\, quilting\, sewing and alterations. \nAfter attending the training\, participants are given the opportunity to prepare and pitch a project plan for competition. The winner is awarded $250 in materials to support her micro business. \nFor more information\, contact the McAllen Chamber.
URL:https://valleybusinessreport.com/event/latina-hope-4/
LOCATION:Calvary Baptist Church\, 1600 Harvey Drive\, McAllen\, 78501\, United States
CATEGORIES:Networking
ATTACH;FMTTYPE=image/jpeg:https://valleybusinessreport.com/wp-content/uploads/2024/08/Latina-Hope.jpg
ORGANIZER;CN="McAllen Chamber of Commerce":MAILTO:bcardenas@mcallenchamber.com
END:VEVENT
BEGIN:VEVENT
DTSTART;TZID=America/Chicago:20241106T113000
DTEND;TZID=America/Chicago:20241106T131500
DTSTAMP:20260425T183106
CREATED:20241025T121049Z
LAST-MODIFIED:20241026T023213Z
UID:10001204-1730892600-1730898900@valleybusinessreport.com
SUMMARY:Networking Lunch Mob
DESCRIPTION:Join the Weslaco Area Chamber of Commerce for its monthly Networking Lunch Mob on Nov. 6 at a location to be announced. \nRules: \n\nEach participant will pay their own lunch\nDuring lunch\, there will be some networking questions to get the conversation started.\nTable Tents have instructions on what to do to help promote the restaurant being supported.\nOther than that\, just enjoy lunch and meet someone new and have a great time.\nDon’t forget your business cards.\n\nTo participate with the chamber group you must be a member of the chamber. If you are a “NOT YET MEMBER” there is a $5 fee. \nStay updated on the chamber’s Facebook page.
URL:https://valleybusinessreport.com/event/networking-lunch-mob-3/
LOCATION:TBA
CATEGORIES:Networking
ATTACH;FMTTYPE=image/png:https://valleybusinessreport.com/wp-content/uploads/2023/01/LunchMOB_2.1.23.png
ORGANIZER;CN="Weslaco Area Chamber of Commerce":MAILTO:chamber@weslaco.com
END:VEVENT
BEGIN:VEVENT
DTSTART;TZID=America/Chicago:20241107T180000
DTEND;TZID=America/Chicago:20241107T223000
DTSTAMP:20260425T183106
CREATED:20241012T205629Z
LAST-MODIFIED:20241012T205629Z
UID:10001200-1731002400-1731018600@valleybusinessreport.com
SUMMARY:San Benito Chamber of Commerce Casino Night 2024
DESCRIPTION:The San Benito Chamber of Commerce hosts Casino Night 2024\, the largest casino night ever held in the city of San Benito\, on Nov. 7. The evening includes music\, games\, raffles and more. \nA significant portion of the funds raised during this event will be reinvested into the San Benito community. These contributions support local small businesses and assist young high school students in San Benito in furthering their education.
URL:https://valleybusinessreport.com/event/san-benito-chamber-of-commerce-casino-night-2024/
LOCATION:Oak Hill Event Center\, 1780 US-77\, San Benito\, TX\, 78586\, United States
CATEGORIES:Fundraisers
ATTACH;FMTTYPE=image/jpeg:https://valleybusinessreport.com/wp-content/uploads/2024/10/San-Benito-Casino-Night.jpg
ORGANIZER;CN="San Benito Chamber of Commerce":MAILTO:info@chamberofsanbenito.com
END:VEVENT
BEGIN:VEVENT
DTSTART;TZID=America/Chicago:20241107T183000
DTEND;TZID=America/Chicago:20241107T220000
DTSTAMP:20260425T183106
CREATED:20241012T204845Z
LAST-MODIFIED:20241012T204845Z
UID:10001199-1731004200-1731016800@valleybusinessreport.com
SUMMARY:McAllen Man & Woman of the Year Annual Banquet
DESCRIPTION:Join the McAllen Chamber of Commerce for its 69th annual Man & Woman of the Year Annual Banquet on Nov. 7. The signature event recognizes and honors the exemplary service and volunteerism of two individuals who make a significant contribution to the City of McAllen. \nThe annual banquet  promises to bring a night of glamour with a sit-down dinner\, drinks\, an auction with one-of-a-kind packages and more. \nFor more information\, please Vice President of Development & Operations Blanca Cardenas at bcardenas@mcallenchamber.com.
URL:https://valleybusinessreport.com/event/mcallen-man-woman-of-the-year-annual-banquet/
LOCATION:Embassy Suites by Hilton\, 800 Convention Center Blvd.\, McAllen\, TX\, 78501\, United States
CATEGORIES:Awards and Recognitions
ATTACH;FMTTYPE=image/jpeg:https://valleybusinessreport.com/wp-content/uploads/2024/10/McAllen-Man-Woman-of-the-Year.jpg
ORGANIZER;CN="McAllen Chamber of Commerce":MAILTO:bcardenas@mcallenchamber.com
END:VEVENT
BEGIN:VEVENT
DTSTART;TZID=America/Chicago:20241109T080000
DTEND;TZID=America/Chicago:20241109T100000
DTSTAMP:20260425T183106
CREATED:20241012T210204Z
LAST-MODIFIED:20241012T210411Z
UID:10001201-1731139200-1731146400@valleybusinessreport.com
SUMMARY:Veterans Day in the Old City Cemetery
DESCRIPTION:Honor the veterans buried at the Old City Cemetery on Nov. 9 by placing U.S. flags on the graves. \nMore than 450 identified veterans representing wars from the Indian Wars\, World War I & II and the Persian Gulf War are buried in the Old City Cemetery. Those buried also represent both Union and Confederate soldiers and several from the Mexican Revolution. \nIf you would like to volunteer by placing flags on veteran graves\, call David Parsons at 956-541-5560.
URL:https://valleybusinessreport.com/event/veterans-day-in-the-old-city-cemetery/
LOCATION:Old City Cemetery\, E. 5th Street and E. Madison Street\, Brownsville\, TX\, United States
CATEGORIES:Festivals and Celebrations
ATTACH;FMTTYPE=image/jpeg:https://valleybusinessreport.com/wp-content/uploads/2019/02/american-flag.jpg
END:VEVENT
BEGIN:VEVENT
DTSTART;TZID=America/Chicago:20241111T100000
DTEND;TZID=America/Chicago:20241111T110000
DTSTAMP:20260425T183106
CREATED:20241026T120607Z
LAST-MODIFIED:20241026T120607Z
UID:10001205-1731319200-1731322800@valleybusinessreport.com
SUMMARY:Veteran's Day Celebration hosted by Weslaco Rotary Club and WISD
DESCRIPTION:The Rotary Club of Weslaco and Weslaco ISD remember and honor the nation’s veterans with the Veterans Day Celebration on Nov. 11. \nThe free community event is open to the public to help honor all who have served.
URL:https://valleybusinessreport.com/event/veterans-day-celebration-hosted-by-weslaco-rotary-club-and-wisd/
LOCATION:Bobby Lackey Stadium\, 784 N Westgate Drive\, Weslaco\, TX\, United States
CATEGORIES:Festivals and Celebrations
ATTACH;FMTTYPE=image/png:https://valleybusinessreport.com/wp-content/uploads/2024/10/Weslaco-Veterans.png
END:VEVENT
BEGIN:VEVENT
DTSTART;TZID=America/Chicago:20241112T110000
DTEND;TZID=America/Chicago:20241112T150000
DTSTAMP:20260425T183106
CREATED:20241026T121405Z
LAST-MODIFIED:20241026T121708Z
UID:10001206-1731409200-1731423600@valleybusinessreport.com
SUMMARY:H-E-B Feast of Sharing 2024 - Weslaco
DESCRIPTION:Join H-E-B for the 20th annual Feast of Sharing Holiday dinner on Nov. 12 in Weslaco. In addition to a free\, delicious meal\, Feast of Sharing guests will also enjoy live music\, arts and crafts\, children’s activities and entertainment for the whole family throughout the day. \nFor a full schedule of Feast of Sharing events\, visit heb.com/feast.
URL:https://valleybusinessreport.com/event/h-e-b-feast-of-sharing-2024-weslaco/
LOCATION:St Joan of Arc Parish Hall\, 200 S Illinois\, Weslaco\, TX\, United States
CATEGORIES:Festivals and Celebrations
ATTACH;FMTTYPE=image/jpeg:https://valleybusinessreport.com/wp-content/uploads/2024/10/FeastofSharing-Weslaco.jpg
END:VEVENT
BEGIN:VEVENT
DTSTART;TZID=America/Chicago:20241113T090000
DTEND;TZID=America/Chicago:20241113T100000
DTSTAMP:20260425T183106
CREATED:20241012T210729Z
LAST-MODIFIED:20241012T210933Z
UID:10001202-1731488400-1731492000@valleybusinessreport.com
SUMMARY:1 Million Cups
DESCRIPTION:Join the McAllen Chamber of Commerce on Nov. 13 for its monthly installment of 1 Million Cups. The local monthly offering is part of a free\, national program designed to educate\, engage and connect entrepreneurs. This program encourages entrepreneurs to discover solutions and network while sharing over a million cups of coffee.
URL:https://valleybusinessreport.com/event/1-million-cups-10/
LOCATION:McAllen Creative Incubator\, 601 N Main Street\, McAllen\, TX\, 78504\, United States
CATEGORIES:Networking
ATTACH;FMTTYPE=image/jpeg:https://valleybusinessreport.com/wp-content/uploads/2019/02/million-cups-logo.jpg
ORGANIZER;CN="McAllen Chamber of Commerce":MAILTO:bcardenas@mcallenchamber.com
END:VEVENT
BEGIN:VEVENT
DTSTART;TZID=America/Chicago:20241113T113000
DTEND;TZID=America/Chicago:20241113T130000
DTSTAMP:20260425T183106
CREATED:20241026T122425Z
LAST-MODIFIED:20241026T122724Z
UID:10001207-1731497400-1731502800@valleybusinessreport.com
SUMMARY:State of the County Luncheon
DESCRIPTION:Join the Greater Chamber of Harlingen for the State of the County Luncheon on Nov. 13 at the Harlingen Convention Center. This is your chance to hear from the county’s leadership as they discuss key initiatives\, recent developments and the future of Cameron County. \nSpeakers include: \n\nCameron County Judge\, Eddie Treviño Jr.\nCameron County Commissioner Pct. 1\, Sofia Benavides\nCameron County Commissioner Pct. 2\, Joey Lopez\nCameron County Commissioner Pct. 3\, David Garza\nCameron County Commissioner Pct. 4\, Gus Ruiz\n\nThis luncheon provides an opportunity to connect with local leaders\, business professionals and community members. \nFor table reservations or sponsorship inquiries\, email amarez@harlingen.com or call 956-423-5440.
URL:https://valleybusinessreport.com/event/state-of-the-county-luncheon/
LOCATION:Harlingen Convention Center\, 701 Harlingen Heights Drive\, Harlingen\, TX\, 78552\, United States
CATEGORIES:Speakers
ATTACH;FMTTYPE=image/jpeg:https://valleybusinessreport.com/wp-content/uploads/2024/10/state-of-the-county.jpg
END:VEVENT
BEGIN:VEVENT
DTSTART;TZID=America/Chicago:20241113T113000
DTEND;TZID=America/Chicago:20241113T130000
DTSTAMP:20260425T183106
CREATED:20241026T124232Z
LAST-MODIFIED:20241026T124232Z
UID:10001209-1731497400-1731502800@valleybusinessreport.com
SUMMARY:Lunch & Learn
DESCRIPTION:Ready to take your leadership skills to the next level? Join the Greater Mission Chamber of Commerce for its Lunch & Learn on Nov. 13 with Orlando Buentello. \nBuentello\, an OLLU alum and experienced leader\, will focus on leadership and organizational development tailored for businesses and organizations. \nLearn how to: \n\nLead effectively\nCoach your team for success\nAddress job turnover\nSet and achieve goals\n\nThrough practical exercises and real conversations\, attendees will gain the tools to build a united\, results-driven team and foster long-term success. \nThis event is free for GMCC members\, $15 for non-members. Register by emailing candace@missionchamber.com or online as spots are limited.
URL:https://valleybusinessreport.com/event/lunch-learn/
LOCATION:Center for Education and Economic Development (CEED)\, 801 North Bryan Road\, Mission\, TX\, 78572\, United States
CATEGORIES:Seminars and Workshops
ATTACH;FMTTYPE=image/png:https://valleybusinessreport.com/wp-content/uploads/2024/10/LunchandLearn.png
END:VEVENT
BEGIN:VEVENT
DTSTART;TZID=America/Chicago:20241115T080000
DTEND;TZID=America/Chicago:20241115T170000
DTSTAMP:20260425T183106
CREATED:20241027T140252Z
LAST-MODIFIED:20241027T140252Z
UID:10001210-1731657600-1731690000@valleybusinessreport.com
SUMMARY:SBA Boots to Business Reboot - Pharr
DESCRIPTION:Boots to Business Reboot on Nov. 15 in Pharr is a two-step training program that provides those interested in exploring business ownership or other self-employment opportunities by leading participants through the key steps for evaluating business concepts and providing foundational knowledge required to develop a business plan. \nParticipants are introduced to a broad spectrum of entrepreneurial business concepts and resources available to access start-up capital\, technical assistance\, contracting opportunities\, and more. \nStep one is the Introduction to Entrepreneurship course eligible to Veterans of all eras\, service members (including members of the National Guard and Reserve) and their spouses. This course is instructed by SBA and its partners\, who are skilled business advisors. \nStep two is one of the online follow-on courses instructed by a consortium of professors and skilled business advisors from the SBA Network. If you’ve already attended an in-person Boots to Business or Reboot class\, visit https://sbavets.force.com/(Link is external to sign up for one of the online B2B follow-on courses. \nRegister online. \nFor more information contact Josh Patton. \nTo join the B2B community: https://sbavets.force.com/s/login/SelfRegister(Link is external) \nVeterans of all eras\, Active-Duty Service members (including National Guard and Reserve)\, and spouses are eligible to participate.
URL:https://valleybusinessreport.com/event/sba-boots-to-business-reboot-pharr/
LOCATION:Global Business Hub at Pharr\, 301 S. Cage Blvd.\, Pharr\, TX\, United States
CATEGORIES:Seminars and Workshops
ATTACH;FMTTYPE=image/jpeg:https://valleybusinessreport.com/wp-content/uploads/2024/10/Boots-to-Business-Reboot.jpg
ORGANIZER;CN="Joshua Patton":MAILTO:joshua.patton@sba.gov
END:VEVENT
BEGIN:VEVENT
DTSTART;TZID=America/Chicago:20241116T090000
DTEND;TZID=America/Chicago:20241116T150000
DTSTAMP:20260425T183106
CREATED:20241106T011010Z
LAST-MODIFIED:20241106T011010Z
UID:10001213-1731747600-1731769200@valleybusinessreport.com
SUMMARY:ReFest
DESCRIPTION:Sky King’s Falconry\nDid you know that vultures protect both wildlife and human communities? These birds of prey are known as scavengers who feed on dead animals or carrion\, which plays a crucial role in maintaining the health of our ecosystems. Meet Nature’s Clean-up Crew at ReFest with Sky King’s Falconry on Nov. 16 at Quinta Mazatlán. \nReFest\, sponsored by H-E-B\, celebrates Texas Recycles Day. Bring your plastic bag or bottle to be recycled at the festival for a free ticket thanks to H-E-B’s commitment to recycling. Guests will enjoy an Upcycled Marketplace with vendors\, sustainable trade show and native plants for sale. The children will have fun playing in the Cardboard Playscape\, tinker in the Recycled Tech Space\, create recycled art and have fun learning. \nSky King’s Falconry offers three shows\, 10:30 a.m.\, 12:30 p.m. and 2 p.m. at ReFest. They will introduce vultures and other birds of prey\, including a residential Crested Caracara\, in the falcon family whom behave similar to vultures in consuming carcasses. Their scavenging activity controls spread of disease\, helps to recycle nutrients back into the soil\, and acts as natural waste management. The presence of Nature’s Clean Up Crew supports biodiversity and enhances ecosystem resilience which all life is dependent on. \nAdmission is $5\, or bring a plastic bag or water bottle to get in free. Tickets are available at quintamazatlan.ticketleap.com. \nFree offsite parking and charter bus service is available at 1400 Wichita Avenue near La Plaza Mall. \nSky King’s Falconry invites you to meet natures cleanup crew at ReFest on Saturday\, Nov. 16th\, from 9 am to 3 pm.  All ages will enjoy the upcycled marketplace\, trade show\, art exhibit\, native plant sale\, food and fun!  Go green and ride the free shuttle located at 1400 Wichita Avenue near La Plaza Mall.
URL:https://valleybusinessreport.com/event/refest/
LOCATION:Quinta Mazatlan\, 600 Sunset Drive\, McAllen\, TX\, 78503\, United States
CATEGORIES:Festivals and Celebrations
ATTACH;FMTTYPE=image/jpeg:https://valleybusinessreport.com/wp-content/uploads/2024/11/vulture-natures-recycler.jpg
END:VEVENT
BEGIN:VEVENT
DTSTART;TZID=America/Chicago:20241116T183000
DTEND;TZID=America/Chicago:20241116T183000
DTSTAMP:20260425T183106
CREATED:20241026T123359Z
LAST-MODIFIED:20241026T123425Z
UID:10001208-1731781800-1731781800@valleybusinessreport.com
SUMMARY:Edinburg Chamber Installation & Awards Banquet
DESCRIPTION:The Edinburg Chamber of Commerce hosts its 92nd annual Installation & Awards Banquet on Nov. 16\, honoring Immediate Past President Kelly Rivera Salazar and welcoming Ruben James De Jesus as the new president of the board. \nThe event will celebrate a year of achievements and recognize outstanding community leaders. \nFor more information\, contact the chamber.
URL:https://valleybusinessreport.com/event/edinburg-chamber-installation-awards-banquet-3/
LOCATION:Memorial Event Center\, 300 E Canton Road\, Edinburg\, TX\, United States
CATEGORIES:Awards and Recognitions
ATTACH;FMTTYPE=image/jpeg:https://valleybusinessreport.com/wp-content/uploads/2024/10/edinburg-banquet-2024.jpg
ORGANIZER;CN="Edinburg Chamber of Commerce":MAILTO:chamber@edinburg.com
END:VEVENT
BEGIN:VEVENT
DTSTART;TZID=America/Chicago:20241116T183000
DTEND;TZID=America/Chicago:20241116T223000
DTSTAMP:20260425T183106
CREATED:20241027T141406Z
LAST-MODIFIED:20241027T141406Z
UID:10001211-1731781800-1731796200@valleybusinessreport.com
SUMMARY:University DraftHouse Beer Fest
DESCRIPTION:University DraftHouse BeerFest on Nov. 16 allow attendees 24 beer tastings from brewery favorites\, from the classics to the craftiest. RGV restaurants will also be on hand to serve up their top tier delights. \nTickets are $60 in advance and $75 at the door. \nBuy tickets online\, call 956.453.1357\, or swing by any University Draft House location\, the Edinburg Chamber or the Edinburg Library.
URL:https://valleybusinessreport.com/event/university-drafthouse-beer-fest-2/
LOCATION:Edinburg Food Truck Park\, 201 N 7th Ave.\, Edinburg\, 78541\, United States
CATEGORIES:Festivals and Celebrations
ATTACH;FMTTYPE=image/jpeg:https://valleybusinessreport.com/wp-content/uploads/2024/10/University-DraftHouse-Beer-Fest.jpg
END:VEVENT
BEGIN:VEVENT
DTSTART;TZID=America/Chicago:20241121T090000
DTEND;TZID=America/Chicago:20241121T103000
DTSTAMP:20260425T183106
CREATED:20241027T182526Z
LAST-MODIFIED:20241027T182701Z
UID:10001212-1732179600-1732185000@valleybusinessreport.com
SUMMARY:GMCC Annual Holiday Breakfast
DESCRIPTION:Join the Greater Mission Chamber of Commerce on Nov. 21 for a special holiday-themed breakfast in support of three local animal organizations and the Persistence Through Adversity Foundation. \nBring a new blanket or pet food and enjoy breakfast on the chamber. \nTo RSVP\, email Candace@missionchamber.com.
URL:https://valleybusinessreport.com/event/gmcc-annual-holiday-breakfast/
LOCATION:Greater Mission Chamber of Commerce\, 202 W Tom Landry Street\, Mission\, TX\, 78572\, United States
CATEGORIES:Festivals and Celebrations
ATTACH;FMTTYPE=image/png:https://valleybusinessreport.com/wp-content/uploads/2024/10/GMCC-Annual-Holiday-Breakfast.png
END:VEVENT
END:VCALENDAR