BEGIN:VCALENDAR
VERSION:2.0
PRODID:-//VBR - ECPv6.15.17.1//NONSGML v1.0//EN
CALSCALE:GREGORIAN
METHOD:PUBLISH
X-WR-CALNAME:VBR
X-ORIGINAL-URL:https://valleybusinessreport.com
X-WR-CALDESC:Events for VBR
REFRESH-INTERVAL;VALUE=DURATION:PT1H
X-Robots-Tag:noindex
X-PUBLISHED-TTL:PT1H
BEGIN:VTIMEZONE
TZID:America/Chicago
BEGIN:DAYLIGHT
TZOFFSETFROM:-0600
TZOFFSETTO:-0500
TZNAME:CDT
DTSTART:20230312T080000
END:DAYLIGHT
BEGIN:STANDARD
TZOFFSETFROM:-0500
TZOFFSETTO:-0600
TZNAME:CST
DTSTART:20231105T070000
END:STANDARD
BEGIN:DAYLIGHT
TZOFFSETFROM:-0600
TZOFFSETTO:-0500
TZNAME:CDT
DTSTART:20240310T080000
END:DAYLIGHT
BEGIN:STANDARD
TZOFFSETFROM:-0500
TZOFFSETTO:-0600
TZNAME:CST
DTSTART:20241103T070000
END:STANDARD
BEGIN:DAYLIGHT
TZOFFSETFROM:-0600
TZOFFSETTO:-0500
TZNAME:CDT
DTSTART:20250309T080000
END:DAYLIGHT
BEGIN:STANDARD
TZOFFSETFROM:-0500
TZOFFSETTO:-0600
TZNAME:CST
DTSTART:20251102T070000
END:STANDARD
END:VTIMEZONE
BEGIN:VEVENT
DTSTART;TZID=America/Chicago:20241202T173000
DTEND;TZID=America/Chicago:20241202T193000
DTSTAMP:20260425T122324
CREATED:20241112T024230Z
LAST-MODIFIED:20241112T024230Z
UID:10001214-1733160600-1733167800@valleybusinessreport.com
SUMMARY:Ugly Christmas Sweater Mixer
DESCRIPTION:Join the RGV Hispanic Chamber of Commerce on Dec. 2 for an Ugly Sweater installment of their signature event\, the Manic Monday Mixer. The networking experience is tailored for business owners and professionals looking to expand their horizons in the community of the Rio Grande Valley. \nBusiness owners can come together to mingle\, foster new connections and cultivate meaningful business leads. Hosted by the RGV Hispanic Chamber\, this monthly event has become a cornerstone for our members to forge valuable relationships across the Rio Grande Valley. \nThose generously donating a door prize receive an extra opportunity to shine\, sharing insights about their business with the audience. All attendees should bring business cards in exchanging information and leaving a lasting impression. \nRegister online.
URL:https://valleybusinessreport.com/event/ugly-christmas-sweater-mixer-2/
LOCATION:Legacy Event Center\, 4610 S. Jackson Road\, Edinburg\, TX\, United States
CATEGORIES:Networking
ATTACH;FMTTYPE=image/jpeg:https://valleybusinessreport.com/wp-content/uploads/2024/11/Ugly-Sweater-Mixer.jpg
END:VEVENT
BEGIN:VEVENT
DTSTART;TZID=America/Chicago:20241204T080000
DTEND;TZID=America/Chicago:20241204T170000
DTSTAMP:20260425T122324
CREATED:20241112T124732Z
LAST-MODIFIED:20241112T124732Z
UID:10001215-1733299200-1733331600@valleybusinessreport.com
SUMMARY:Keep It Ugly Charity Bowling Tournament
DESCRIPTION:Join the American Advertising Federation Rio Grande Valley in striking out hunger at its Keep It Ugly Charity Bowling Tournament on Dec. 4. \nThis benefit for the Food Bank Rio Grande Valley includes prizes for the best ugly team shirts and trophies for the best bowling teams. Non-perishable food items will also be collected for the food bank. \nTeam registration and sponsorships are available online.
URL:https://valleybusinessreport.com/event/keep-it-ugly-charity-bowling-tournament/
LOCATION:Flamingo Bowl\, 3301 N. 23rd Street\, McAllen\, TX\, 78501\, United States
CATEGORIES:Fundraisers,Networking
ATTACH;FMTTYPE=image/png:https://valleybusinessreport.com/wp-content/uploads/2024/11/Keep-It-Ugly-Charity-Bowling-Tournament.png
ORGANIZER;CN="American Advertising Federation - Rio Grande Valley":MAILTO:aafrgv@rgv.rr.com
END:VEVENT
BEGIN:VEVENT
DTSTART;TZID=America/Chicago:20241204T170000
DTEND;TZID=America/Chicago:20241204T200000
DTSTAMP:20260425T122324
CREATED:20241112T125419Z
LAST-MODIFIED:20241112T125559Z
UID:10001216-1733331600-1733342400@valleybusinessreport.com
SUMMARY:Small Business Holiday Marketplace
DESCRIPTION:Celebrate the heart of Brownsville this holiday season by supporting local businesses at the sixth annual Small Business Holiday Marketplace on Dec. 4. The event is a collaborative effort from the Brownsville Chamber of Commerce and the Mexican Consulate in Brownsville. \nThe Brownsville Events Center will become a festive hub for holiday shopping with unique gifts from small businesses in the community. \nContact Astrid Rosales at membership@brownsvillechamber.com for sponsorship options. For more information or assistance with the registration process\, contact the Brownsville Chamber of Commerce office at 956-542-4341 or info@brownsvillechamber.com.
URL:https://valleybusinessreport.com/event/small-business-holiday-marketplace-2/
LOCATION:Brownsville Events Center\, 1 Events Center Blvd.\, Brownsville\, TX\, United States
CATEGORIES:Shopping
ATTACH;FMTTYPE=image/png:https://valleybusinessreport.com/wp-content/uploads/2024/11/SmallBusinessHolidayMarketplace.png
ORGANIZER;CN="Brownsville Chamber of Commerce":MAILTO:info@brownsvillechamber.com
END:VEVENT
BEGIN:VEVENT
DTSTART;TZID=America/Chicago:20241206T190000
DTEND;TZID=America/Chicago:20241206T190000
DTSTAMP:20260425T122324
CREATED:20241205T004530Z
LAST-MODIFIED:20241205T005736Z
UID:10001217-1733511600-1733511600@valleybusinessreport.com
SUMMARY:Night of Lights Parade
DESCRIPTION:Celebrate the start of the holiday season with the Edinburg Chamber of Commerce and the City of Edinburg at the highly anticipated Night of Lights Parade on Dec. 6. Downtown Edinburg transforms into a festive wonderland filled with the spirit of “Country Christmas.” \nBeginning at 7 p.m. along Closner Boulevard\, the Night of Lights Parade will dazzle attendees with beautifully crafted floats that capture the warmth and charm of a country Christmas. From cowboy boots to holiday tunes\, each float will celebrate timeless country traditions blended with the joy of the season. \nFor additional details\, contact the Edinburg Chamber of Commerce.
URL:https://valleybusinessreport.com/event/night-of-lights-parade/
LOCATION:Downtown Edinburg\, 1807 North Closner Blvd.\, Edinburg\, United States
CATEGORIES:Festivals and Celebrations
ATTACH;FMTTYPE=image/jpeg:https://valleybusinessreport.com/wp-content/uploads/2024/11/Night-of-Lights.jpg
ORGANIZER;CN="Edinburg Chamber of Commerce":MAILTO:chamber@edinburg.com
END:VEVENT
BEGIN:VEVENT
DTSTART;TZID=America/Chicago:20241213T180000
DTEND;TZID=America/Chicago:20241213T210000
DTSTAMP:20260425T122324
CREATED:20241208T170928Z
LAST-MODIFIED:20241208T170928Z
UID:10001218-1734112800-1734123600@valleybusinessreport.com
SUMMARY:"Shop Local" Holiday Market
DESCRIPTION:Join the Greater Mission Chamber of Commerce for the Shop Local Holiday Market on Dec. 13 at Leo Pena Placita Park. \nShop unique gifts from local vendors\, take in live music performances\, and snap selfies with Santa Claus and the Grinch. This event is also pet friendly.
URL:https://valleybusinessreport.com/event/shop-local-holiday-market/
LOCATION:Leo Pena Placita Park\, W. 8th Street\, Mission\, United States
CATEGORIES:Shopping
ATTACH;FMTTYPE=image/png:https://valleybusinessreport.com/wp-content/uploads/2024/12/Holiday-Market-2024-flyer.png
END:VEVENT
BEGIN:VEVENT
DTSTART;TZID=America/Chicago:20241214T130000
DTEND;TZID=America/Chicago:20241214T160000
DTSTAMP:20260425T122324
CREATED:20241208T172537Z
LAST-MODIFIED:20241208T172537Z
UID:10001220-1734181200-1734192000@valleybusinessreport.com
SUMMARY:Polar Express
DESCRIPTION:All aboard the Polar Express! Join the Children’s Museum of Brownsville for a magical holiday adventure on Dec. 14. Celebrate the season with family and friends as they bring the festive spirit to life with holiday cheer and surprises for all ages.
URL:https://valleybusinessreport.com/event/polar-express/
LOCATION:Children’s Museum of Brownsville\, 501 E Ringgold Street\, Brownsville\, United States
CATEGORIES:Festivals and Celebrations
ATTACH;FMTTYPE=image/png:https://valleybusinessreport.com/wp-content/uploads/2024/12/CMB_POLAREXPRESS_DEC2024.png
END:VEVENT
BEGIN:VEVENT
DTSTART;TZID=America/Chicago:20241214T180000
DTEND;TZID=America/Chicago:20241214T210000
DTSTAMP:20260425T122324
CREATED:20241208T171931Z
LAST-MODIFIED:20241208T171931Z
UID:10001219-1734199200-1734210000@valleybusinessreport.com
SUMMARY:Weslaco Lighted Christmas Parade 2024
DESCRIPTION:The Weslaco Lighted Christmas Parade\, “Santa’s Wonderland\,” takes place in Downtown Weslaco Dec. 14 from 6-9 p.m. The evening includes more than 100 dazzling floats\, festive music and a special visit from Santa. \nThe 5k Santa Dash will kick off at 5 p.m. at 275 S. Kansas is the starting/ending point. Route is on Texas Blvd (Downtown Weslaco). The Weslaco Lighted Christmas Parade starts at 6 p.m. and ends at 9 p.m.
URL:https://valleybusinessreport.com/event/weslaco-lighted-christmas-parade-2024/
LOCATION:Downtown Weslaco\, Texas Blvd.\, Weslaco\, United States
CATEGORIES:Festivals and Celebrations
ATTACH;FMTTYPE=image/png:https://valleybusinessreport.com/wp-content/uploads/2024/12/WeslacoParade24.png
ORGANIZER;CN="Weslaco Area Chamber of Commerce":MAILTO:chamber@weslaco.com
END:VEVENT
BEGIN:VEVENT
DTSTART;TZID=America/Chicago:20241215T063000
DTEND;TZID=America/Chicago:20241215T133000
DTSTAMP:20260425T122324
CREATED:20241208T173859Z
LAST-MODIFIED:20241208T173859Z
UID:10001221-1734244200-1734269400@valleybusinessreport.com
SUMMARY:Brownsville Chief of Police Marathon
DESCRIPTION:The Brownsville Chief of Police Marathon\, Half Marathon\, and Relays on Dec. 15 is a landmark event designed to promote health\, wellness and community spirit. This special occasion aims to attract runners from across the nation and Mexico\, offering a unique opportunity to experience the picturesque landscapes of the city and spotlight the vibrant local businesses that make the community thrive. \nThe proceeds will directly benefit the Police Department’s charitable initiatives to enrich our youth’s lives and support individuals with special needs.  Programs like Christmas for Kids and partnerships with organizations like Big Heroes\, Inc. and Down by the Border exemplify the department’s commitment to creating safe\, nurturing environments for positive interactions and mentorship. \nRegister online.
URL:https://valleybusinessreport.com/event/brownsville-chief-of-police-marathon/
LOCATION:TSC ITECC Building\, 301 Mexico Blvd.\, Brownsville\, United States
CATEGORIES:Fundraisers,Recreation
ATTACH;FMTTYPE=image/png:https://valleybusinessreport.com/wp-content/uploads/2024/12/2024RegistrationFlyerLINKS.png
ORGANIZER;CN="Officer Selene Silva":MAILTO:selene.silva@brownsvilletx.gov
END:VEVENT
BEGIN:VEVENT
DTSTART;TZID=America/Chicago:20241218T113000
DTEND;TZID=America/Chicago:20241218T130000
DTSTAMP:20260425T122324
CREATED:20241208T174822Z
LAST-MODIFIED:20241208T174859Z
UID:10001222-1734521400-1734526800@valleybusinessreport.com
SUMMARY:State of the State Luncheon
DESCRIPTION:Join the Greater Chamber of Harlingen for the State of the State Luncheon on Dec. 18 at the Harlingen Convention Center. \nThe luncheon is a unique opportunity to gain insights from the state’s leadership on legislative priorities\, economic developments and the future of the region. \nThis event is also a chance to connect with local leaders\, business professionals and community members. Don’t miss the opportunity to engage in discussions that impact the community’s progress and growth. \nRSVP now to secure your seat \nFor table reservations or sponsorship inquiries\, email aamarez@harlingen.com or call 956-423-5440.
URL:https://valleybusinessreport.com/event/state-of-the-state-luncheon-2/
LOCATION:Harlingen Convention Center\, 701 Harlingen Heights Drive\, Harlingen\, TX\, 78552\, United States
CATEGORIES:Speakers
ATTACH;FMTTYPE=image/png:https://valleybusinessreport.com/wp-content/uploads/2024/12/State-of-the-State-Luncheon-2024.png
END:VEVENT
END:VCALENDAR