BEGIN:VCALENDAR
VERSION:2.0
PRODID:-//VBR - ECPv6.15.17.1//NONSGML v1.0//EN
CALSCALE:GREGORIAN
METHOD:PUBLISH
X-WR-CALNAME:VBR
X-ORIGINAL-URL:https://valleybusinessreport.com
X-WR-CALDESC:Events for VBR
REFRESH-INTERVAL;VALUE=DURATION:PT1H
X-Robots-Tag:noindex
X-PUBLISHED-TTL:PT1H
BEGIN:VTIMEZONE
TZID:America/Chicago
BEGIN:DAYLIGHT
TZOFFSETFROM:-0600
TZOFFSETTO:-0500
TZNAME:CDT
DTSTART:20240310T080000
END:DAYLIGHT
BEGIN:STANDARD
TZOFFSETFROM:-0500
TZOFFSETTO:-0600
TZNAME:CST
DTSTART:20241103T070000
END:STANDARD
BEGIN:DAYLIGHT
TZOFFSETFROM:-0600
TZOFFSETTO:-0500
TZNAME:CDT
DTSTART:20250309T080000
END:DAYLIGHT
BEGIN:STANDARD
TZOFFSETFROM:-0500
TZOFFSETTO:-0600
TZNAME:CST
DTSTART:20251102T070000
END:STANDARD
BEGIN:DAYLIGHT
TZOFFSETFROM:-0600
TZOFFSETTO:-0500
TZNAME:CDT
DTSTART:20260308T080000
END:DAYLIGHT
BEGIN:STANDARD
TZOFFSETFROM:-0500
TZOFFSETTO:-0600
TZNAME:CST
DTSTART:20261101T070000
END:STANDARD
END:VTIMEZONE
BEGIN:VEVENT
DTSTART;TZID=America/Chicago:20250402T090000
DTEND;TZID=America/Chicago:20250402T110000
DTSTAMP:20260422T214923
CREATED:20250325T235436Z
LAST-MODIFIED:20250325T235436Z
UID:10001263-1743584400-1743591600@valleybusinessreport.com
SUMMARY:Latina Hope
DESCRIPTION:The McAllen Chamber of Commerce hosts its April session of Latina Hope on March 5. The competitive pitch program facilitates training\, networking and micro business development for Spanish-speaking women. \nThe program offers business workshops\, as well as specialized skill training in making candles\, cards\, jewelry\, soaps\, toys and wreaths. Latina Hope also offers classes in knitting/crocheting\, quilting\, sewing and alterations. \nAfter attending the training\, participants are given the opportunity to prepare and pitch a project plan for competition. The winner is awarded $250 in materials to support her micro business. \nFor more information\, contact the McAllen Chamber.
URL:https://valleybusinessreport.com/event/latina-hope-7/
LOCATION:Calvary Baptist Church\, 1600 Harvey Drive\, McAllen\, 78501\, United States
CATEGORIES:Networking
ATTACH;FMTTYPE=image/webp:https://valleybusinessreport.com/wp-content/uploads/2025/02/Latina-Hope-1187x1536-1.webp
ORGANIZER;CN="McAllen Chamber of Commerce":MAILTO:bcardenas@mcallenchamber.com
END:VEVENT
BEGIN:VEVENT
DTSTART;TZID=America/Chicago:20250404T113000
DTEND;TZID=America/Chicago:20250404T130000
DTSTAMP:20260422T214923
CREATED:20250326T000231Z
LAST-MODIFIED:20250326T001347Z
UID:10001264-1743766200-1743771600@valleybusinessreport.com
SUMMARY:AAF-RGV Lunch with Kathryn Lueders
DESCRIPTION:Join the American Advertising Federation RGV for an exclusive lunch on April 4\, featuring SpaceX Starbase General Manager Kathryn Lueders as she shares groundbreaking insights into Starship development\, upcoming missions and the rapid expansion of SpaceX operations in Boca Chica. \nRegistration is $34 for AAF-RGV members\, $45 for non-members. \nRegistration is required. Payment in full\, in advance only. \nRegister online.
URL:https://valleybusinessreport.com/event/aaf-rgv-lunch-with-kathryn-lueders/
LOCATION:Embassy Suites by Hilton\, 800 Convention Center Blvd.\, McAllen\, TX\, 78501\, United States
CATEGORIES:Speakers
ATTACH;FMTTYPE=image/png:https://valleybusinessreport.com/wp-content/uploads/2025/03/AAF_and_SPACEX.png
ORGANIZER;CN="American Advertising Federation - Rio Grande Valley":MAILTO:aafrgv@rgv.rr.com
END:VEVENT
BEGIN:VEVENT
DTSTART;TZID=America/Chicago:20250409T080000
DTEND;TZID=America/Chicago:20250409T170000
DTSTAMP:20260422T214923
CREATED:20250409T224042Z
LAST-MODIFIED:20250409T224115Z
UID:10001269-1744185600-1744218000@valleybusinessreport.com
SUMMARY:Pharr EDC Foundation’s 4th Annual Casino Night
DESCRIPTION:Join the Pharr EDC Foundation for its fourth annual Casino Night on April 17. Experience an evening of gaming and entertainment while supporting the EDC’s mission to build brighter futures for recipients of the Pharr EDC Foundation’s Scholarship Program. \nSponsorship Opportunities and individual tickets available. \nFor more information\, contact the Pharr EDC Foundation at 956-402-4332.
URL:https://valleybusinessreport.com/event/pharr-edc-foundations-4th-annual-casino-night/
LOCATION:The Regency Hall\, 207 E. Ferguson Ave.\, Pharr\, 78577\, United States
CATEGORIES:Festivals and Celebrations
ATTACH;FMTTYPE=image/png:https://valleybusinessreport.com/wp-content/uploads/2025/04/4th-Annual-Casino-Night.png
END:VEVENT
BEGIN:VEVENT
DTSTART;TZID=America/Chicago:20250411T090000
DTEND;TZID=America/Chicago:20250411T110000
DTSTAMP:20260422T214923
CREATED:20250329T225934Z
LAST-MODIFIED:20250329T225934Z
UID:10001265-1744362000-1744369200@valleybusinessreport.com
SUMMARY:Business Contracting Certifications: Qualifications and Benefits for your Business
DESCRIPTION:The U.S. government is the largest customer in the world. It buys all types of products and services — in large and small quantities — and is required by law to consider buying from small businesses. \nTo expand the number of businesses capable of participating in the governmental marketplace\, this April 11 session will provide you with an understanding of the requirements for government contracting and the know-how to obtain and perform federal\, state and local government contracts. \nPresented by the University of Texas Rio Grande Valley APEX Accelerator\, this session will teach participants the importance of business certifications\, how to qualify\, and the business benefits. \nDiscover and Learn:\n\nUnderstanding Government Contracting\nDoing Business with the Federal Government\nDoing Business with the State of Texas\nSubcontracting\nDo’s and Don’ts of Government Contracting\nQ&A\n\nFor more information\, contact Veronica Z. Ortega. \nRegister online. \nThis offering is part of the “Let’s Talk Business Series”\, a 12-part program connecting entrepreneurs with federal\, state and local small business resources.  Whether you’re a budding entrepreneur or want to grow your business\, this series presents essential business topics\, provides a forum for networking\, and promotes success in today’s dynamic business environment.  Participants may attend one\, two\, six or all sessions.
URL:https://valleybusinessreport.com/event/business-contracting-certifications-qualifications-and-benefits-for-your-business/
LOCATION:SBA Lower Rio Grande Valley District Office \, 2422 E. Tyler Ave.\, Suite E\, Harlingen\, TX\, 78550\, United States
CATEGORIES:Seminars and Workshops
ATTACH;FMTTYPE=image/jpeg:https://valleybusinessreport.com/wp-content/uploads/2024/07/letstalk_SBA.jpg
ORGANIZER;CN="Veronica Z. Ortega%2C SBA":MAILTO:veronica.ortega@sba.gov
END:VEVENT
BEGIN:VEVENT
DTSTART;TZID=America/Chicago:20250412T070000
DTEND;TZID=America/Chicago:20250412T100000
DTSTAMP:20260422T214923
CREATED:20250409T220620Z
LAST-MODIFIED:20250409T220620Z
UID:10001266-1744441200-1744452000@valleybusinessreport.com
SUMMARY:41st Annual Causeway Run
DESCRIPTION:The 41st Annual Causeway Run takes place April 12 for everyone from seasoned runners or those just looking for a fun way to stay active. \nAll 5K and 10K participants will have the opportunity to run/walk over the Queen Isabella Causeway. \nGroup discounts are available for teams of 10 or more. \nRegister online.
URL:https://valleybusinessreport.com/event/41st-annual-causeway-run/
LOCATION:Port Isabel Event and Cultural Center\, 309 Railroad Street\, Port Isabel\, United States
CATEGORIES:Festivals and Celebrations
ATTACH;FMTTYPE=image/png:https://valleybusinessreport.com/wp-content/uploads/2025/04/41st-Annual-Causeway-Run-header.png
ORGANIZER;CN="Port Isabel Chamber of Commerce":MAILTO:director@portisabel.org
END:VEVENT
BEGIN:VEVENT
DTSTART;VALUE=DATE:20250414
DTEND;VALUE=DATE:20250415
DTSTAMP:20260422T214923
CREATED:20250409T221230Z
LAST-MODIFIED:20250409T221230Z
UID:10001267-1744588800-1744675199@valleybusinessreport.com
SUMMARY:Sea Turtle Inc. Golf Classic
DESCRIPTION:The Sea Turtle Inc. Golf Classic on April 14 will directly support the mission\, medical care and work at Sea Turtle Inc. \nIt is more than just a round of golf; you will be part of the legacy tournament with South Padre Island’s largest and most attended attraction. \nRegister your team online.
URL:https://valleybusinessreport.com/event/sea-turtle-inc-golf-classic/
LOCATION:South Padre Island Golf Club\, 1 Golf House Road\, Laguna Vista\, 78578\, United States
CATEGORIES:Fundraisers,Recreation
ATTACH;FMTTYPE=image/jpeg:https://valleybusinessreport.com/wp-content/uploads/2025/04/seaturtlegolfclassic.jpg
ORGANIZER;CN="Kelli Larson":MAILTO:give@seaturtleinc.org
END:VEVENT
BEGIN:VEVENT
DTSTART;TZID=America/Chicago:20250416T090000
DTEND;TZID=America/Chicago:20250416T100000
DTSTAMP:20260422T214923
CREATED:20250409T221526Z
LAST-MODIFIED:20250409T221526Z
UID:10001268-1744794000-1744797600@valleybusinessreport.com
SUMMARY:1 Million Cups
DESCRIPTION:Join the McAllen Chamber of Commerce on April 16 for its monthly installment of 1 Million Cups. \nThe local monthly offering is part of a free\, national program designed to educate\, engage and connect entrepreneurs. This program encourages entrepreneurs to discover solutions and network while sharing over a million cups of coffee.
URL:https://valleybusinessreport.com/event/1-million-cups-14/
LOCATION:McAllen Creative Incubator\, 601 N Main Street\, McAllen\, TX\, 78504\, United States
CATEGORIES:Networking
ATTACH;FMTTYPE=image/jpeg:https://valleybusinessreport.com/wp-content/uploads/2019/02/million-cups-logo.jpg
ORGANIZER;CN="McAllen Chamber of Commerce":MAILTO:bcardenas@mcallenchamber.com
END:VEVENT
BEGIN:VEVENT
DTSTART;TZID=America/Chicago:20250425T090000
DTEND;TZID=America/Chicago:20250425T110000
DTSTAMP:20260422T214923
CREATED:20250416T114220Z
LAST-MODIFIED:20250416T114220Z
UID:10001270-1745571600-1745578800@valleybusinessreport.com
SUMMARY:Let’s Talk Business - Know the Facts: Fair Labor Standards Act
DESCRIPTION:Let’s Talk Business\nOwning a small business brings many responsibilities\, including compliance with various federal labor and employment laws. Employers must comply with both federal and state laws.  As a business owner\, you have the responsibility to pay your employees properly\, maintain certain records\, adhere to certain requirements if you employ minors\, provide eligible workers with unpaid family or medical leave\, and notify your employees of their rights in the workplace. \n“Know the Facts: Fair Labor Standards Act\,” presented by the U.S. Department of Labor-Wage and Hour Division on April 25\, teaches participants the importance of complying with rules and regulations covered under the Fair Labor Standards Act. \nDiscover and Learn: \n\nPolicies under minimum wage\, overtime provisions\, and tip credit for “tipped employees”\nChild labor provisions and employment regulations for youth dependent on the age and type of work being conducted\nWho is eligible under the Family and Medical Leave Act\, and what does it cover\nEnforcement of Violations\, who can report violations\, and what happens next\n\nRegister online. \nFor more information\, contact Veronica Z. Ortega. \nAbout the Series – Organized by the SBA Lower Rio Grande Valley District Office\nIntroducing the “Let’s Talk Business Series”\, a 12-part program connecting entrepreneurs with federal\, state\, and local small business resources.  Whether you’re a budding entrepreneur or want to grow your business\, this series presents essential business topics\, provides a forum for networking\, and promotes success in today’s dynamic business environment.  Participants may attend one\, two\, six\, or all sessions.
URL:https://valleybusinessreport.com/event/lets-talk-business-know-the-facts-fair-labor-standards-act/
LOCATION:SBA Lower Rio Grande Valley District Office \, 2422 E. Tyler Ave.\, Suite E\, Harlingen\, TX\, 78550\, United States
ATTACH;FMTTYPE=image/jpeg:https://valleybusinessreport.com/wp-content/uploads/2024/07/letstalk_SBA.jpg
ORGANIZER;CN="Veronica Z. Ortega%2C SBA":MAILTO:veronica.ortega@sba.gov
END:VEVENT
BEGIN:VEVENT
DTSTART;TZID=America/Chicago:20250428T100000
DTEND;TZID=America/Chicago:20250428T120000
DTSTAMP:20260422T214923
CREATED:20250423T153449Z
LAST-MODIFIED:20250423T153449Z
UID:10001271-1745834400-1745841600@valleybusinessreport.com
SUMMARY:Fireside Chat with Vicente Fox | RGV Startup Week
DESCRIPTION:Start your RGV Startup Week with a morning you won’t forget on April 28 — featuring a powerful fireside chat with Vicente Fox Quesada\, former president of Mexico and a global voice for leadership\, innovation and change. \nIn this insightful conversation\, President Fox will share his experiences on resilience\, leadership\, and navigating political and economic uncertainty — especially relevant to entrepreneurs and changemakers working in border communities. His unique perspective offers both inspiration and practical insight for those building businesses in the Rio Grande Valley and beyond. \nThe conversation will be moderated by Berenice Garcia\, Rio Grande Valley reporter for The Texas Tribune\, and will spark thoughtful dialogue on how cross-border collaboration and innovation can thrive — even in the most challenging times. \nRegister online.
URL:https://valleybusinessreport.com/event/fireside-chat-with-vicente-fox-rgv-startup-week/
LOCATION:TSC Performing Arts Center\, 90 Taylor Avenue\, Brownsville\, TX\, United States
CATEGORIES:Speakers
ATTACH;FMTTYPE=image/png:https://valleybusinessreport.com/wp-content/uploads/2025/04/RGVSW25-VicenteFox-02-scaled.png
END:VEVENT
END:VCALENDAR