BEGIN:VCALENDAR
VERSION:2.0
PRODID:-//VBR - ECPv6.15.17.1//NONSGML v1.0//EN
CALSCALE:GREGORIAN
METHOD:PUBLISH
X-WR-CALNAME:VBR
X-ORIGINAL-URL:https://valleybusinessreport.com
X-WR-CALDESC:Events for VBR
REFRESH-INTERVAL;VALUE=DURATION:PT1H
X-Robots-Tag:noindex
X-PUBLISHED-TTL:PT1H
BEGIN:VTIMEZONE
TZID:America/Chicago
BEGIN:DAYLIGHT
TZOFFSETFROM:-0600
TZOFFSETTO:-0500
TZNAME:CDT
DTSTART:20240310T080000
END:DAYLIGHT
BEGIN:STANDARD
TZOFFSETFROM:-0500
TZOFFSETTO:-0600
TZNAME:CST
DTSTART:20241103T070000
END:STANDARD
BEGIN:DAYLIGHT
TZOFFSETFROM:-0600
TZOFFSETTO:-0500
TZNAME:CDT
DTSTART:20250309T080000
END:DAYLIGHT
BEGIN:STANDARD
TZOFFSETFROM:-0500
TZOFFSETTO:-0600
TZNAME:CST
DTSTART:20251102T070000
END:STANDARD
BEGIN:DAYLIGHT
TZOFFSETFROM:-0600
TZOFFSETTO:-0500
TZNAME:CDT
DTSTART:20260308T080000
END:DAYLIGHT
BEGIN:STANDARD
TZOFFSETFROM:-0500
TZOFFSETTO:-0600
TZNAME:CST
DTSTART:20261101T070000
END:STANDARD
END:VTIMEZONE
BEGIN:VEVENT
DTSTART;TZID=America/Chicago:20250904T113000
DTEND;TZID=America/Chicago:20250904T133000
DTSTAMP:20260423T014128
CREATED:20250817T133930Z
LAST-MODIFIED:20250828T002842Z
UID:10001312-1756985400-1756992600@valleybusinessreport.com
SUMMARY:Texas Talks: 89th Texas Legislative Update Luncheon
DESCRIPTION:Join the Brownsville Chamber of Commerce for the informative and engaging Texas Talks: 89th Texas Legislative Update Luncheon on Sept. 4. The event brings together elected representatives\, business leaders and community members to discuss the latest developments from the Texas State Legislature. Gain valuable insights into the recently passed bills\, pending legislation and the potential impact on the region’s business landscape. \nKey Highlights:\n\nLegislative Updates: Stay up-to-date with the latest decisions and changes from the 89th Texas Legislative Session.\nNetworking Opportunities: Connect with our local representatives\, business leaders and community members during the luncheon.\nDelicious Luncheon: Enjoy a delectable meal while fostering meaningful conversations.\n\nThis event is open to all individuals interested in the legislative developments that will impact the community’s future. Whether you are a business owner\, community advocate or concerned citizen\, this luncheon provides a platform for collaboration and collective growth. \nTickets are $50 for chamber members\, $55 for non-members. Register online. \nNote: While the chamber is moving forward with the new date of Sept. 4\, the Governor may call a second Special Legislative Session\, which could impact this date as well. The chamber will notify all attendees and sponsors promptly should anything change.
URL:https://valleybusinessreport.com/event/texas-talks-89th-texas-legislative-update-luncheon-2/
LOCATION:Brownsville Events Center\, 1 Events Center Blvd.\, Brownsville\, TX\, United States
CATEGORIES:Speakers
ATTACH;FMTTYPE=image/png:https://valleybusinessreport.com/wp-content/uploads/2025/08/Texas-Talks_89th-Texas-Legislative-Update-Luncheon.png
ORGANIZER;CN="Brownsville Chamber of Commerce":MAILTO:info@brownsvillechamber.com
END:VEVENT
BEGIN:VEVENT
DTSTART;TZID=America/Chicago:20250918T090000
DTEND;TZID=America/Chicago:20250918T110000
DTSTAMP:20260423T014128
CREATED:20250909T231143Z
LAST-MODIFIED:20250909T231143Z
UID:10001316-1758186000-1758193200@valleybusinessreport.com
SUMMARY:Beginner's Guide to Federal Certifications & Doing Business with the Federal Government
DESCRIPTION:If you’re looking to do business with the government\, the first step is to register in System Awards Management. \nThe SAM is a federal contracting/vendor portal that is primarily utilized for contractor small business search and payment purposes for any federal government goods and services purchased through bid opportunities. \nWhat you will learn:\n\nLearn how to classify your industry with the North American Industry Classification System\nHow to register your business with the federal government in SAM and documents needed.\nMeet representatives from the SBA and UTRGV APEX Accelerator\nNetwork with other participants.\n\nLearn about Federal Certifications\nThe Federal government uses special programs to help small businesses win federal contracting dollars each year. SBA provides several programs to help small businesses win these federal contracts. \n\nLearn if you should apply\nHow to get ready for certification\n\nRegister online.
URL:https://valleybusinessreport.com/event/beginners-guide-to-federal-certifications-doing-business-with-the-federal-government/
LOCATION:Brownsville Chamber of Commerce\, 1600 University Blvd.\, Brownsville\, TX\, 78520\, United States
ORGANIZER;CN="Brownsville Chamber of Commerce":MAILTO:info@brownsvillechamber.com
GEO:25.8979742;-97.4945709
X-APPLE-STRUCTURED-LOCATION;VALUE=URI;X-ADDRESS=Brownsville Chamber of Commerce 1600 University Blvd. Brownsville TX 78520 United States;X-APPLE-RADIUS=500;X-TITLE=1600 University Blvd.:geo:-97.4945709,25.8979742
END:VEVENT
BEGIN:VEVENT
DTSTART;TZID=America/Chicago:20250924T150000
DTEND;TZID=America/Chicago:20250924T190000
DTSTAMP:20260423T014128
CREATED:20250918T004241Z
LAST-MODIFIED:20250918T004241Z
UID:10001318-1758726000-1758740400@valleybusinessreport.com
SUMMARY:2025 Business to Botana Expo | 956 Made
DESCRIPTION:Join the Brownsville Chamber of Commerce for an unforgettable day celebrating the spirit of Brownsville at the 2025 Business to Botana Expo on Sept. 24. This event has evolved to become the ultimate showcase of the 956\, where vibrant local businesses and culinary gems take center stage. Whether you’re a business enthusiast\, a food lover or simply curious about what makes Brownsville special\, this Expo is your gateway to all things 956 Made. \nEvent Highlights:\n\nSpotlight on Brownsville Businesses: Dive into the heart of our community as Brownsville’s most innovative businesses\, from up-and-coming startups to well-established enterprises\, present their products\, services\, and stories. This is your chance to meet the faces behind the brands and discover how these businesses are shaping the future of the 956.\nCulinary Exploration: Savor the flavors that define Brownsville with our curated selection of the city’s top restaurants. Sample their signature dishes and experience the diverse culinary traditions that make our community’s cuisine so unique.\nFree for the Community: This event is open to everyone\, and admission is absolutely free! Bring your friends\, family\, and neighbors for a day of networking\, entertainment\, and local flavor. It’s a celebration of Brownsville’s thriving business landscape and a chance to connect with the people who make our city great.\nVendor Opportunities: Are you a business owner looking to amplify your brand? Secure a booth at the Expo and take advantage of the opportunity to showcase your products\, connect with potential customers\, and build valuable partnerships. Space is limited\, so reserve your spot today!\nRestaurant Booths: Local eateries\, this is your moment! Enjoy a complimentary booth space when you offer free samples to attendees. It’s the perfect way to showcase your culinary talents and attract new patrons eager to taste the best of Brownsville.\n\n956 Made Recognitions Up for Grabs:\nVendors have the opportunity to showcase their best and compete for the prestigious 956 Made Recognitions. These awards are not just titles—they’re a celebration of the businesses that truly embody the spirit and creativity of the 956. And the best part? The power is in the hands of the people! Attendees will cast their votes to determine the winners\, making these awards a true reflection of community favorites. \n\nPeople’s Choice Award\n\nAwarded to the vendor who captures the hearts of the crowd\, this recognition goes to the business that stands out for its overall appeal\, engagement\, and connection with attendees. The People’s Choice Award is the ultimate testament to a vendor’s popularity and impact.\n\n\nBest Local Flavor\n\nThis award celebrates the vendor who brings the most mouthwatering\, authentic taste of Brownsville to the Expo. Whether through traditional recipes or innovative twists\, the winner of the Best Local Flavor will be recognized for creating a culinary experience that leaves a lasting impression.\n\n\nBest Showcase\n\nRecognizing excellence in presentation and creativity\, the Best Showcase award goes to the vendor who best represents their brand and products. From booth design to product display\, this award honors the vendor who turns their space into an unforgettable experience.
URL:https://valleybusinessreport.com/event/2025-business-to-botana-expo-956-made/
LOCATION:Brownsville Events Center\, 1 Events Center Blvd.\, Brownsville\, TX\, United States
CATEGORIES:Conferences and Summits,Festivals and Celebrations
ATTACH;FMTTYPE=image/png:https://valleybusinessreport.com/wp-content/uploads/2025/09/9.24.25-Business-to-Botana-Expo.png
END:VEVENT
END:VCALENDAR