BEGIN:VCALENDAR
VERSION:2.0
PRODID:-//VBR - ECPv6.15.17.1//NONSGML v1.0//EN
CALSCALE:GREGORIAN
METHOD:PUBLISH
X-WR-CALNAME:VBR
X-ORIGINAL-URL:https://valleybusinessreport.com
X-WR-CALDESC:Events for VBR
REFRESH-INTERVAL;VALUE=DURATION:PT1H
X-Robots-Tag:noindex
X-PUBLISHED-TTL:PT1H
BEGIN:VTIMEZONE
TZID:America/Chicago
BEGIN:DAYLIGHT
TZOFFSETFROM:-0600
TZOFFSETTO:-0500
TZNAME:CDT
DTSTART:20240310T080000
END:DAYLIGHT
BEGIN:STANDARD
TZOFFSETFROM:-0500
TZOFFSETTO:-0600
TZNAME:CST
DTSTART:20241103T070000
END:STANDARD
BEGIN:DAYLIGHT
TZOFFSETFROM:-0600
TZOFFSETTO:-0500
TZNAME:CDT
DTSTART:20250309T080000
END:DAYLIGHT
BEGIN:STANDARD
TZOFFSETFROM:-0500
TZOFFSETTO:-0600
TZNAME:CST
DTSTART:20251102T070000
END:STANDARD
BEGIN:DAYLIGHT
TZOFFSETFROM:-0600
TZOFFSETTO:-0500
TZNAME:CDT
DTSTART:20260308T080000
END:DAYLIGHT
BEGIN:STANDARD
TZOFFSETFROM:-0500
TZOFFSETTO:-0600
TZNAME:CST
DTSTART:20261101T070000
END:STANDARD
END:VTIMEZONE
BEGIN:VEVENT
DTSTART;TZID=America/Chicago:20251010T173000
DTEND;TZID=America/Chicago:20251010T203000
DTSTAMP:20260422T154623
CREATED:20251005T144024Z
LAST-MODIFIED:20251005T144024Z
UID:10001323-1760117400-1760128200@valleybusinessreport.com
SUMMARY:Big Public Utilities Bash
DESCRIPTION:Join the Brownsville Public Utilities Board on Oct. 10 for the Big Public Utilities Bash featuring interactive truck displays\, a children’s solar car race and a superhero costume contest. The evening also includes free food\, giveaways and a night of connecting with the community. \nMore information.
URL:https://valleybusinessreport.com/event/big-public-utilities-bash/
LOCATION:Brownsville Public Utilities Board\, 1425 Robinhood Drive\, Brownsville\, United States
CATEGORIES:Family,Festivals and Celebrations
END:VEVENT
BEGIN:VEVENT
DTSTART;TZID=America/Chicago:20251025T110000
DTEND;TZID=America/Chicago:20251025T160000
DTSTAMP:20260422T154623
CREATED:20251013T153227Z
LAST-MODIFIED:20251013T153227Z
UID:10001325-1761390000-1761408000@valleybusinessreport.com
SUMMARY:Halloween Bash
DESCRIPTION:Get ready for a spook-tacular day of fun at the Children’s Museum of Brownsville’s Halloween Bash on Oct. 25. The day includes costumes\, crafts\, treats\, and magical surprises perfect for little monsters\, pumpkins and ghosts alike. \nBring your trick-or-treat bags and your best BOO-gie moves. It’s going to be fang-tastic!
URL:https://valleybusinessreport.com/event/halloween-bash/
LOCATION:Children’s Museum of Brownsville\, 501 E Ringgold Street #5 Dean Porter\, Brownsville\, TX\, 78520\, United States
CATEGORIES:Festivals and Celebrations
ATTACH;FMTTYPE=image/jpeg:https://valleybusinessreport.com/wp-content/uploads/2025/10/halloween-bash.jpg
END:VEVENT
BEGIN:VEVENT
DTSTART;TZID=America/Chicago:20251029T080000
DTEND;TZID=America/Chicago:20251029T170000
DTSTAMP:20260422T154623
CREATED:20251029T223053Z
LAST-MODIFIED:20251029T223053Z
UID:10001331-1761724800-1761757200@valleybusinessreport.com
SUMMARY:RGV Hispanic Chamber Mixer at Gladys Porter Zoo
DESCRIPTION:The Rio Grande Valley Hispanic Chamber of Commerce hosts its Manic Monday Mixer on Nov. 10 at the Gladys Porter Zoo. The networking event provides an opportunity for local professionals and business leaders to connect\, share ideas and explore potential collaborations. \n“Manic Monday Mixers are designed to help professionals connect in a relaxed setting\,” said Cynthia Sakulenzki\, CEO and president of the RGV Hispanic Chamber of Commerce. “We are pleased to host this event at the Gladys Porter Zoo\, offering a unique venue for conversation and networking.” \nAttendees are encouraged to bring business cards to exchange information and leave a lasting impression. Those generously donating a door prize receive an extra opportunity to shine by sharing insights about their business with the audience. The event is open to chamber members\, prospective members and community professionals. Registration is recommended. \nFirst-time visitors may attend free of charge\, and light refreshments will be provided. Attendees are encouraged to register in advance at online.
URL:https://valleybusinessreport.com/event/rgv-hispanic-chamber-mixer-at-gladys-porter-zoo/
LOCATION:Gladys Porter Zoo\, 500 Ringgold Street\, Brownsville\, TX\, United States
CATEGORIES:Networking
ATTACH;FMTTYPE=image/jpeg:https://valleybusinessreport.com/wp-content/uploads/2025/10/Manic-Monday-Mixer.jpg
END:VEVENT
END:VCALENDAR