BEGIN:VCALENDAR
VERSION:2.0
PRODID:-//VBR - ECPv6.15.17.1//NONSGML v1.0//EN
CALSCALE:GREGORIAN
METHOD:PUBLISH
X-WR-CALNAME:VBR
X-ORIGINAL-URL:https://valleybusinessreport.com
X-WR-CALDESC:Events for VBR
REFRESH-INTERVAL;VALUE=DURATION:PT1H
X-Robots-Tag:noindex
X-PUBLISHED-TTL:PT1H
BEGIN:VTIMEZONE
TZID:America/Chicago
BEGIN:DAYLIGHT
TZOFFSETFROM:-0600
TZOFFSETTO:-0500
TZNAME:CDT
DTSTART:20240310T080000
END:DAYLIGHT
BEGIN:STANDARD
TZOFFSETFROM:-0500
TZOFFSETTO:-0600
TZNAME:CST
DTSTART:20241103T070000
END:STANDARD
BEGIN:DAYLIGHT
TZOFFSETFROM:-0600
TZOFFSETTO:-0500
TZNAME:CDT
DTSTART:20250309T080000
END:DAYLIGHT
BEGIN:STANDARD
TZOFFSETFROM:-0500
TZOFFSETTO:-0600
TZNAME:CST
DTSTART:20251102T070000
END:STANDARD
BEGIN:DAYLIGHT
TZOFFSETFROM:-0600
TZOFFSETTO:-0500
TZNAME:CDT
DTSTART:20260308T080000
END:DAYLIGHT
BEGIN:STANDARD
TZOFFSETFROM:-0500
TZOFFSETTO:-0600
TZNAME:CST
DTSTART:20261101T070000
END:STANDARD
END:VTIMEZONE
BEGIN:VEVENT
DTSTART;TZID=America/Chicago:20250115T113000
DTEND;TZID=America/Chicago:20250115T130000
DTSTAMP:20260423T180147
CREATED:20241229T172725Z
LAST-MODIFIED:20241229T172725Z
UID:10001228-1736940600-1736946000@valleybusinessreport.com
SUMMARY:State of the RGV Luncheon
DESCRIPTION:The Rio Grande Valley Hispanic Chamber of Commerce\, in partnership with the City of Edinburg\, hosts the annual State of the RGV Luncheon on Jan. 15. \nGain valuable insights from a distinguished panel of county leaders: Judge Richard Cortez\, Judge Aurelio Guerra\, Judge Eddie Trevino and Judge Eloy Vera\, as they discuss key developments and the future of the Rio Grande Valley. \nIndividual tickets are $50; a reserved table for eight is $600. \nRegister online.
URL:https://valleybusinessreport.com/event/state-of-the-rgv-luncheon/
LOCATION:Edinburg Conference Center at Renaissance\, 118 Paseo del Prado\, Edinburg\, 78539\, United States
CATEGORIES:Conferences and Summits
ATTACH;FMTTYPE=image/jpeg:https://valleybusinessreport.com/wp-content/uploads/2024/12/State-of-the-RGV-Luncheon.jpg
END:VEVENT
END:VCALENDAR