BEGIN:VCALENDAR
VERSION:2.0
PRODID:-//VBR - ECPv6.15.17.1//NONSGML v1.0//EN
CALSCALE:GREGORIAN
METHOD:PUBLISH
X-WR-CALNAME:VBR
X-ORIGINAL-URL:https://valleybusinessreport.com
X-WR-CALDESC:Events for VBR
REFRESH-INTERVAL;VALUE=DURATION:PT1H
X-Robots-Tag:noindex
X-PUBLISHED-TTL:PT1H
BEGIN:VTIMEZONE
TZID:America/Chicago
BEGIN:DAYLIGHT
TZOFFSETFROM:-0600
TZOFFSETTO:-0500
TZNAME:CDT
DTSTART:20230312T080000
END:DAYLIGHT
BEGIN:STANDARD
TZOFFSETFROM:-0500
TZOFFSETTO:-0600
TZNAME:CST
DTSTART:20231105T070000
END:STANDARD
BEGIN:DAYLIGHT
TZOFFSETFROM:-0600
TZOFFSETTO:-0500
TZNAME:CDT
DTSTART:20240310T080000
END:DAYLIGHT
BEGIN:STANDARD
TZOFFSETFROM:-0500
TZOFFSETTO:-0600
TZNAME:CST
DTSTART:20241103T070000
END:STANDARD
BEGIN:DAYLIGHT
TZOFFSETFROM:-0600
TZOFFSETTO:-0500
TZNAME:CDT
DTSTART:20250309T080000
END:DAYLIGHT
BEGIN:STANDARD
TZOFFSETFROM:-0500
TZOFFSETTO:-0600
TZNAME:CST
DTSTART:20251102T070000
END:STANDARD
END:VTIMEZONE
BEGIN:VEVENT
DTSTART;TZID=America/Chicago:20240805T173000
DTEND;TZID=America/Chicago:20240805T193000
DTSTAMP:20260423T042304
CREATED:20240722T164840Z
LAST-MODIFIED:20240722T164840Z
UID:10001146-1722879000-1722886200@valleybusinessreport.com
SUMMARY:RGVHCC Manic Monday Mixer
DESCRIPTION:Join Rio Grande Valley Hispanic Chamber of Commerce on Aug. 5 for its signature event\, the Manic Monday Mixer. The networking experience is tailored for business owners and professionals looking to expand their horizons in the vibrant community of the Rio Grande Valley. \nBusiness owners come together to mingle\, foster new connections and cultivate meaningful business leads. Hosted by the RGV Hispanic Chamber\, this monthly event has become a cornerstone for members to forge valuable relationships across the Rio Grande Valley. \nThose who generously donate a door prize receive an extra opportunity to shine\, sharing insights about their business with the audience. \nManic Monday Mixers are free for chamber members\, $10 for non-members. \nRegister online.
URL:https://valleybusinessreport.com/event/rgvhcc-manic-monday-mixer-6/
LOCATION:Casa de Palmas Hotel\, 101 North Main Street\, McAllen\, TX\, 78501\, United States
CATEGORIES:Networking
ATTACH;FMTTYPE=image/png:https://valleybusinessreport.com/wp-content/uploads/2024/07/Manic-Monday_aug2024.png
END:VEVENT
BEGIN:VEVENT
DTSTART;TZID=America/Chicago:20240807T090000
DTEND;TZID=America/Chicago:20240807T110000
DTSTAMP:20260423T042304
CREATED:20240722T170919Z
LAST-MODIFIED:20240722T170919Z
UID:10001148-1723021200-1723028400@valleybusinessreport.com
SUMMARY:Latina Hope
DESCRIPTION:Latina Hope returns from its summer break on Aug. 7 with its competitive pitch program created to facilitate training\, networking and micro business development for Spanish-speaking women. \nThe program offers business workshops\, as well as specialized skill training in making candles\, cards\, jewelry\, soaps\, toys and wreaths. Latina Hope also offers classes in knitting/crocheting\, quilting\, sewing and alterations. After attending the training\, participants are given the opportunity to prepare and pitch a project plan for competition. The winner is awarded $250 in materials to support her micro business.
URL:https://valleybusinessreport.com/event/latina-hope/
LOCATION:Calvary Baptist Church\, 1600 Harvey Drive\, McAllen\, 78501\, United States
CATEGORIES:Networking
ATTACH;FMTTYPE=image/jpeg:https://valleybusinessreport.com/wp-content/uploads/2024/07/Latine-Hope.jpg
ORGANIZER;CN="McAllen Chamber of Commerce":MAILTO:bcardenas@mcallenchamber.com
END:VEVENT
BEGIN:VEVENT
DTSTART;TZID=America/Chicago:20240813T110000
DTEND;TZID=America/Chicago:20240813T130000
DTSTAMP:20260423T042304
CREATED:20240805T181308Z
LAST-MODIFIED:20240805T181308Z
UID:10001152-1723546800-1723554000@valleybusinessreport.com
SUMMARY:McAllen Chamber Link Up
DESCRIPTION:The McAllen Chamber of Commerce hosts the members-only Link Up on Aug. 13\, creating an opportunity for members to connect and promote their businesses. \nLunch will be provided for those who RSVP by calling 956-682-2871\, ext. 124\, or via email to membership@mcallenchamber.com.
URL:https://valleybusinessreport.com/event/mcallen-chamber-link-up/
LOCATION:McAllen Chamber of Commerce\, 1200 Ash Ave.\, McAllen\, TX\, 78501\, United States
CATEGORIES:Networking
ATTACH;FMTTYPE=image/jpeg:https://valleybusinessreport.com/wp-content/uploads/2024/08/LinkUp-August.jpg
ORGANIZER;CN="McAllen Chamber of Commerce":MAILTO:bcardenas@mcallenchamber.com
END:VEVENT
BEGIN:VEVENT
DTSTART;TZID=America/Chicago:20240814T090000
DTEND;TZID=America/Chicago:20240814T100000
DTSTAMP:20260423T042304
CREATED:20240725T145251Z
LAST-MODIFIED:20240725T145251Z
UID:10001149-1723626000-1723629600@valleybusinessreport.com
SUMMARY:1 Million Cups
DESCRIPTION:Join the McAllen Chamber of Commerce on Aug. 14 for its monthly installment of 1 Million Cups. The local monthly offering is part of a free\, national program designed to educate\, engage and contact entrepreneurs. This program encourages entrepreneurs to discover solutions and network while sharing over a million cups of coffee.
URL:https://valleybusinessreport.com/event/1-million-cups-7/
LOCATION:McAllen Creative Incubator\, 601 N Main Street\, McAllen\, TX\, 78504\, United States
CATEGORIES:Networking
ATTACH;FMTTYPE=image/jpeg:https://valleybusinessreport.com/wp-content/uploads/2019/02/million-cups-logo.jpg
ORGANIZER;CN="McAllen Chamber of Commerce":MAILTO:bcardenas@mcallenchamber.com
END:VEVENT
BEGIN:VEVENT
DTSTART;TZID=America/Chicago:20240828T113000
DTEND;TZID=America/Chicago:20240828T133000
DTSTAMP:20260423T042304
CREATED:20240819T191633Z
LAST-MODIFIED:20240819T191633Z
UID:10001155-1724844600-1724851800@valleybusinessreport.com
SUMMARY:McAllen Chamber Government Affairs Update Luncheon
DESCRIPTION:The McAllen Chamber hosts its Government Affairs Update Luncheon on Aug. 28\, featuring local legislators participating in a panel discussion and providing updates on important developments across the RGV and state. \nJoining are Sen. Juan “Chuy” Hinjosa\, Sen. Morgan LaMantia\, and state representatives R.D. Bobby Guerra\, Amando “Mando” Martinez and Sergio Munoz Jr. \nTickets are $45 each; $1\,000 per table. RSVP by contacting Gerry Garcia.
URL:https://valleybusinessreport.com/event/mcallen-chamber-government-affairs-update-luncheon/
LOCATION:Embassy Suites by Hilton\, 800 Convention Center Blvd.\, McAllen\, TX\, 78501\, United States
CATEGORIES:Speakers
ATTACH;FMTTYPE=image/jpeg:https://valleybusinessreport.com/wp-content/uploads/2024/08/Government-Affairs-Update-Luncheon.jpg
END:VEVENT
END:VCALENDAR