BEGIN:VCALENDAR
VERSION:2.0
PRODID:-//VBR - ECPv6.15.17.1//NONSGML v1.0//EN
CALSCALE:GREGORIAN
METHOD:PUBLISH
X-WR-CALNAME:VBR
X-ORIGINAL-URL:https://valleybusinessreport.com
X-WR-CALDESC:Events for VBR
REFRESH-INTERVAL;VALUE=DURATION:PT1H
X-Robots-Tag:noindex
X-PUBLISHED-TTL:PT1H
BEGIN:VTIMEZONE
TZID:America/Chicago
BEGIN:DAYLIGHT
TZOFFSETFROM:-0600
TZOFFSETTO:-0500
TZNAME:CDT
DTSTART:20230312T080000
END:DAYLIGHT
BEGIN:STANDARD
TZOFFSETFROM:-0500
TZOFFSETTO:-0600
TZNAME:CST
DTSTART:20231105T070000
END:STANDARD
BEGIN:DAYLIGHT
TZOFFSETFROM:-0600
TZOFFSETTO:-0500
TZNAME:CDT
DTSTART:20240310T080000
END:DAYLIGHT
BEGIN:STANDARD
TZOFFSETFROM:-0500
TZOFFSETTO:-0600
TZNAME:CST
DTSTART:20241103T070000
END:STANDARD
BEGIN:DAYLIGHT
TZOFFSETFROM:-0600
TZOFFSETTO:-0500
TZNAME:CDT
DTSTART:20250309T080000
END:DAYLIGHT
BEGIN:STANDARD
TZOFFSETFROM:-0500
TZOFFSETTO:-0600
TZNAME:CST
DTSTART:20251102T070000
END:STANDARD
END:VTIMEZONE
BEGIN:VEVENT
DTSTART;TZID=America/Chicago:20240904T090000
DTEND;TZID=America/Chicago:20240904T110000
DTSTAMP:20260422T174916
CREATED:20240825T155004Z
LAST-MODIFIED:20240825T155004Z
UID:10001160-1725440400-1725447600@valleybusinessreport.com
SUMMARY:Latina Hope
DESCRIPTION:The McAllen Chamber of Commerce hosts its September session of Latina Hope\, a competitive pitch program created to facilitate training\, networking and micro business development for Spanish-speaking women\, on Sept. 4. \nThe program offers business workshops\, as well as specialized skill training in making candles\, cards\, jewelry\, soaps\, toys and wreaths. Latina Hope also offers classes in knitting/crocheting\, quilting\, sewing and alterations. \nAfter attending the training\, participants are given the opportunity to prepare and pitch a project plan for competition. The winner is awarded $250 in materials to support her micro business. \nFor more information\, contact the McAllen Chamber.
URL:https://valleybusinessreport.com/event/latina-hope-2/
LOCATION:Calvary Baptist Church\, 1600 Harvey Drive\, McAllen\, 78501\, United States
CATEGORIES:Networking
ATTACH;FMTTYPE=image/jpeg:https://valleybusinessreport.com/wp-content/uploads/2024/08/Latina-Hope.jpg
ORGANIZER;CN="McAllen Chamber of Commerce":MAILTO:bcardenas@mcallenchamber.com
END:VEVENT
BEGIN:VEVENT
DTSTART;TZID=America/Chicago:20240905T113000
DTEND;TZID=America/Chicago:20240905T130000
DTSTAMP:20260422T174916
CREATED:20240825T155844Z
LAST-MODIFIED:20240825T155844Z
UID:10001161-1725535800-1725541200@valleybusinessreport.com
SUMMARY:Good Day McAllen Luncheon
DESCRIPTION:Get ready for the Good Day McAllen Luncheon with the McAllen Chamber on Sept. 5\, sponsored by The Vannie E. Cook Jr. Children’s Cancer and Hematology Clinic. Leading the luncheon are Jim Darling and Joe Brown. \nMeet the chamber’s newest members and you could win $1\,100 cash just for being there. \nRegistration is $35 per person\, $400 for a table. \nVisit the chamber website for more information and registration.
URL:https://valleybusinessreport.com/event/good-day-mcallen-luncheon/
LOCATION:Embassy Suites by Hilton\, 800 Convention Center Blvd.\, McAllen\, TX\, 78501\, United States
CATEGORIES:Networking
ATTACH;FMTTYPE=image/jpeg:https://valleybusinessreport.com/wp-content/uploads/2024/08/September-good-day-2024-768x1221-1.jpg
ORGANIZER;CN="McAllen Chamber of Commerce":MAILTO:bcardenas@mcallenchamber.com
END:VEVENT
BEGIN:VEVENT
DTSTART;TZID=America/Chicago:20240909T173000
DTEND;TZID=America/Chicago:20240909T193000
DTSTAMP:20260422T174916
CREATED:20240825T161848Z
LAST-MODIFIED:20240825T161848Z
UID:10001163-1725903000-1725910200@valleybusinessreport.com
SUMMARY:Manic Monday Mixer
DESCRIPTION:Join the RGV Hispanic Chamber of Commerce on Sept. 9 for its signature event\, the Manic Monday Mixer\, at Oak Texas Bar & Grill. The networking experience is tailored for business owners and professionals looking to expand their horizons in the vibrant community of the Rio Grande Valley. \nBusiness owners come together to mingle\, foster new connections and cultivate meaningful business leads. Hosted by the RGV Hispanic Chamber\, this monthly event has become a cornerstone for our members to forge valuable relationships across the Rio Grande Valley. \nThose generously donating a door prize receive an extra opportunity to shine\, sharing insights about their business with the audience. \nBring your business cards and be prepared to exchange information and leave a lasting impression. \nRegister online.
URL:https://valleybusinessreport.com/event/manic-monday-mixer-10/
LOCATION:Oak Texas Bar & Grill – Northpark\, 1200 Auburn Ave.\, Suite 300\, McAllen\, 78504\, United States
CATEGORIES:Networking
ATTACH;FMTTYPE=image/jpeg:https://valleybusinessreport.com/wp-content/uploads/2024/08/Manic-Monday-Mixer_sept2024.jpg
END:VEVENT
BEGIN:VEVENT
DTSTART;TZID=America/Chicago:20240911T090000
DTEND;TZID=America/Chicago:20240911T100000
DTSTAMP:20260422T174916
CREATED:20240825T162406Z
LAST-MODIFIED:20240825T162814Z
UID:10001164-1726045200-1726048800@valleybusinessreport.com
SUMMARY:1 Million Cups
DESCRIPTION:Join the McAllen Chamber of Commerce on Sept. 11 for its monthly installment of 1 Million Cups. The local monthly offering is part of a free\, national program designed to educate\, engage and connect entrepreneurs. This program encourages entrepreneurs to discover solutions and network while sharing over a million cups of coffee.
URL:https://valleybusinessreport.com/event/1-million-cups-8/
LOCATION:McAllen Creative Incubator\, 601 N Main Street\, McAllen\, TX\, 78504\, United States
CATEGORIES:Networking
ATTACH;FMTTYPE=image/jpeg:https://valleybusinessreport.com/wp-content/uploads/2019/02/million-cups-logo.jpg
ORGANIZER;CN="McAllen Chamber of Commerce":MAILTO:bcardenas@mcallenchamber.com
END:VEVENT
BEGIN:VEVENT
DTSTART;TZID=America/Chicago:20240912T180000
DTEND;TZID=America/Chicago:20240912T190000
DTSTAMP:20260422T174916
CREATED:20240826T135317Z
LAST-MODIFIED:20240826T135317Z
UID:10001174-1726164000-1726167600@valleybusinessreport.com
SUMMARY:Three Families of Quinta Mazatlan History Tour
DESCRIPTION:Special guest Victor De Leon will be at Quinta Mazatlán on Sept. 12 to further educate patrons on the history of Quinta Mazatlán. Hear about the tales of the families that built and lived at Quinta Mazatlán for a total of 60 years before the City of McAllen purchased the estate and opened it in 2006 as a mansion with a mission. \nLocal resident De Leon was a lifelong educator in local school districts. After retiring from teaching\, he began a second career at Quinta Mazatlán as an environmental education specialist. In addition to teaching\, he enjoys researching the robust history of the previous families that owned Quinta Mazatlán and sharing those stories with guests during guided history tours of the mansion. \nDiscover how this massive structure was built from adobe and the secrets to its longevity. This program is free with general park admission. \nFor more information\, call Quinta Mazatlán or follow on social media.
URL:https://valleybusinessreport.com/event/three-families-of-quinta-mazatlan-history-tour/
LOCATION:Quinta Mazatlan\, 600 Sunset Drive\, McAllen\, TX\, 78503\, United States
CATEGORIES:Speakers
ATTACH;FMTTYPE=image/jpeg:https://valleybusinessreport.com/wp-content/uploads/2024/08/Victor-De-Leon.jpg
END:VEVENT
BEGIN:VEVENT
DTSTART;TZID=America/Chicago:20240921T190000
DTEND;TZID=America/Chicago:20240921T220000
DTSTAMP:20260422T174916
CREATED:20240826T005731Z
LAST-MODIFIED:20240826T010030Z
UID:10001171-1726945200-1726956000@valleybusinessreport.com
SUMMARY:Noche De Vino: A Night at the Opera
DESCRIPTION:Prepare for an unforgettable evening as McAllen invites the community to experience “Noche De Vino: A Night at the Opera\,” a dazzling celebration of wine\, food and music on Sept. 21 at the McAllen Convention Center. Presented by H-E-B\, this enchanting night will blend the sophistication of the opera with the joy of giving back to the community. \nCurated by H-E-B’s expert wine stewards and specialists\, the event will feature exquisite food and wine pairings\, showcasing H-E-B’s signature dishes alongside a selection of premium wines. With over 1\,400 wines available\, ranging from white\, red\, rosé\, sparkling\, dessert and boxed wines\, guests are sure to find the perfect accompaniment to their evening. \nAttendees are encouraged to embrace the evening’s theme by dressing in their finest attire\, channeling the sophistication and glamour of an elegant masquerade night at the opera. The McAllen Convention Center will be transformed into an opulent venue where guests can enjoy live music\, exceptional cuisine\, and fine wines\, all while supporting a great cause. \nA defining feature of“Noche De Vino”is its philanthropic mission. All net proceeds from the event will benefit the McAllen Performing & Cultural Arts Foundation\, supporting the advancement of cultural arts within the community. This contribution will have a lasting impact\, fostering creativity and cultural growth in McAllen. \nTickets are available for purchase at ticketmaster.com or at the McAllen Performing Arts Center Box Office\, 801 Convention Center Blvd.\, Monday through Thursday from 1-5 p.m. and Friday from 10 a.m. – 5 p.m. \nFor businesses or individuals interested in sponsoring a table\, contact John Garza at the McAllen Convention Center.
URL:https://valleybusinessreport.com/event/noche-de-vino-a-night-at-the-opera/
LOCATION:McAllen Performing Arts Center\, 801 Convention Center Blvd.\, McAllen\, TX\, 78501\, United States
CATEGORIES:Fundraisers
ORGANIZER;CN="John Garza":MAILTO:john.garza@mcallen.net
END:VEVENT
BEGIN:VEVENT
DTSTART;TZID=America/Chicago:20240926T190000
DTEND;TZID=America/Chicago:20240926T220000
DTSTAMP:20260422T174916
CREATED:20240826T011438Z
LAST-MODIFIED:20240916T144240Z
UID:10001172-1727377200-1727388000@valleybusinessreport.com
SUMMARY:POSTPONED: Whiskey Business … An Old Fashioned Cocktail and Food Tasting Event
DESCRIPTION:THIS EVENT HAS BEEN POSTPONED TO A LATER DATE TBA. \nWhiskey cocktails and food tastings prepared by local restaurants are the name of the game for “Whiskey Business … An ‘Old Fashioned’ Cocktail & Food Tasting Event” on Sept. 26. \nPresented by the McAllen Chamber of Commerce and Visit McAllen\, the inaugural event includes a cigar lounge\, live entertainment and vintage cars. The people’s choice award will go to the best whiskey cocktail and food. \nTickets are $60 pre-sale\, $65 at the door. \nFor ticket information\, call 956-682-2871.
URL:https://valleybusinessreport.com/event/whiskey-business-an-old-fashioned-cocktail-and-food-tasting-event/
LOCATION:Radisson Hotel\, 2721 South 10th Street\, McAllen\, TX\, 78503\, United States
CATEGORIES:Festivals and Celebrations
ATTACH;FMTTYPE=image/jpeg:https://valleybusinessreport.com/wp-content/uploads/2024/08/Whiskey-Business.jpg
ORGANIZER;CN="McAllen Chamber of Commerce":MAILTO:bcardenas@mcallenchamber.com
END:VEVENT
BEGIN:VEVENT
DTSTART;TZID=America/Chicago:20240927T173000
DTEND;TZID=America/Chicago:20240927T200000
DTSTAMP:20260422T174916
CREATED:20240919T192139Z
LAST-MODIFIED:20240919T192233Z
UID:10001191-1727458200-1727467200@valleybusinessreport.com
SUMMARY:DeafWorld
DESCRIPTION:Families can be introduced to sign language\, deaf culture and even learn about careers in the deaf community at McAllen ISD’s DeafWorld 2024 on Sept. 27. \nThis free event\, which has a Super Hero theme\, takes place at McAllen ISD’s Brown Middle School gym and is organized by McAllen ISD’s Regional Day School for the Deaf Program. \n“We encourage everyone to come have some fun as they learn about deaf culture\, sign language\, deaf education\, careers\, resources and more\,” says RDSPD Director Liza Lara. \nMcAllen ISD serves more than 300 deaf and hard of hearing students in all grade levels in the Upper Rio Grande Valley from Mercedes to Roma. Escandon Elementary is home to elementary age deaf and hard-of-hearing students. Middle school age students go to Brown Middle School and high school age students go to McAllen Memorial High School. \nThe department also provides parent infant services. In addition\, Roosevelt Elementary houses the RDSPD’s new oral program and qualifying RDSPD students may attend McAllen ISD’s STRIDES 18+ program.
URL:https://valleybusinessreport.com/event/deafworld/
LOCATION:Brown Middle School\, 2700 S. Ware Road\, McAllen\, TX\, United States
CATEGORIES:Festivals and Celebrations
ATTACH;FMTTYPE=image/png:https://valleybusinessreport.com/wp-content/uploads/2024/09/DeafWorld2024.png
END:VEVENT
END:VCALENDAR