BEGIN:VCALENDAR
VERSION:2.0
PRODID:-//VBR - ECPv6.15.17.1//NONSGML v1.0//EN
CALSCALE:GREGORIAN
METHOD:PUBLISH
X-WR-CALNAME:VBR
X-ORIGINAL-URL:https://valleybusinessreport.com
X-WR-CALDESC:Events for VBR
REFRESH-INTERVAL;VALUE=DURATION:PT1H
X-Robots-Tag:noindex
X-PUBLISHED-TTL:PT1H
BEGIN:VTIMEZONE
TZID:America/Chicago
BEGIN:DAYLIGHT
TZOFFSETFROM:-0600
TZOFFSETTO:-0500
TZNAME:CDT
DTSTART:20240310T080000
END:DAYLIGHT
BEGIN:STANDARD
TZOFFSETFROM:-0500
TZOFFSETTO:-0600
TZNAME:CST
DTSTART:20241103T070000
END:STANDARD
BEGIN:DAYLIGHT
TZOFFSETFROM:-0600
TZOFFSETTO:-0500
TZNAME:CDT
DTSTART:20250309T080000
END:DAYLIGHT
BEGIN:STANDARD
TZOFFSETFROM:-0500
TZOFFSETTO:-0600
TZNAME:CST
DTSTART:20251102T070000
END:STANDARD
BEGIN:DAYLIGHT
TZOFFSETFROM:-0600
TZOFFSETTO:-0500
TZNAME:CDT
DTSTART:20260308T080000
END:DAYLIGHT
BEGIN:STANDARD
TZOFFSETFROM:-0500
TZOFFSETTO:-0600
TZNAME:CST
DTSTART:20261101T070000
END:STANDARD
END:VTIMEZONE
BEGIN:VEVENT
DTSTART;TZID=America/Chicago:20250612T183000
DTEND;TZID=America/Chicago:20250612T203000
DTSTAMP:20260422T001425
CREATED:20250602T205434Z
LAST-MODIFIED:20250602T205434Z
UID:10001286-1749753000-1749760200@valleybusinessreport.com
SUMMARY:Jurassic RGV Live Dinosaur Show
DESCRIPTION:Transport back in time to the age of the dinosaurs during Thursday Night Live with Jurassic RGV on June 12 at Quinta Mazatlán.  \nThe live dinosaur show will feature life-sized animatronic dinosaurs that move and roar just like they did millions of years ago. Engage with the performers and dinosaurs\, providing a unique and immersive experience. There will also be photo opportunities to capture the moment with your favorite dinosaur for a memorable keepsake.  \nThe Jurassic RGV food truck will be serving up hamburgers and hotdogs\, snow cones and ice cream\, and aguas frescas.  \nAdmission is $5 per person and tickets can be purchased at quintamazatlan.ticketleap.com. 
URL:https://valleybusinessreport.com/event/jurassic-rgv-live-dinosaur-show/
LOCATION:Quinta Mazatlan\, 600 Sunset Drive\, McAllen\, TX\, 78503\, United States
CATEGORIES:Family
ATTACH;FMTTYPE=image/jpeg:https://valleybusinessreport.com/wp-content/uploads/2025/06/dino-pr.jpg
END:VEVENT
BEGIN:VEVENT
DTSTART;TZID=America/Chicago:20250621T100000
DTEND;TZID=America/Chicago:20250621T130000
DTSTAMP:20260422T001425
CREATED:20250618T013002Z
LAST-MODIFIED:20250618T013321Z
UID:10001289-1750500000-1750510800@valleybusinessreport.com
SUMMARY:2025 MPL Job Fair
DESCRIPTION:McAllen Public Library\, in partnership with Workforce Solutions\, invites the public to the 2025 MPL Job Fair on June 21 from 10 a.m. to 1 p.m. at the Main Library. This free event is designed to connect job seekers with local employers and provide direct access to employment opportunities across a wide range of industries. \nAttendees will have the chance to meet with hiring managers from over 40 companies\, submit applications on site in both print and digital formats\, and participate in on-the-spot interviews. A computer lab will also be available to assist with online applications. Job seekers are encouraged to dress professionally and bring multiple copies of an updated resume. \nA wide range of employers will be on site\, including AARP; City of McAllen; Dental Assistant Training School Rio Grande Valley; El Pato Mexican Food; Entertainment and Security Professionals\, LLC; FPS Staffing; Gorditas Doña Lula; Hidalgo County Sheriff’s Office; Kumori Sushi; McAllen Careers Institute; Memco Staffing; Miba Energy; Mike’s Plumbing & Electrical\, Inc.; New York Life Insurance Company; North Alamo Water Supply; R & D Personnel; Rally Credit Union; Region One SubHub; RGVision Media; Snowball Express; Southern Careers Institute; Southern Industrial Careers; Spectrum; Spherion Staffing\, LLC; Texas Department of Criminal Justice; Texas Department of Public Safety; The College of Health Care Professions; Tropical Smoothie Café; TTEC; UP Trucking Services\, LLC; UTRGV; Valley Quality Cleaners\, Inc.; Venser Contractors\, LLC; Walmart; Wayland Baptist University; Workforce Solutions; Wyndham Garden; and many others. \nFor more information\, contact the Main Library’s Information Desk at 956-681-3060 or referencelibrarian@mcallen.net.
URL:https://valleybusinessreport.com/event/2025-mpl-job-fair/
LOCATION:McAllen Public Library\, 4001 North 23rd Street\, McAllen\, TX\, 78504\, United States
CATEGORIES:Hiring events
ATTACH;FMTTYPE=image/jpeg:https://valleybusinessreport.com/wp-content/uploads/2025/06/2025-MPL-Job-Fair.jpg
ORGANIZER;CN="McAllen Public Library":MAILTO:referencelibrarian@mcallen.net
END:VEVENT
BEGIN:VEVENT
DTSTART;TZID=America/Chicago:20250627T150000
DTEND;TZID=America/Chicago:20250627T180000
DTSTAMP:20260422T001425
CREATED:20250624T133301Z
LAST-MODIFIED:20250624T133531Z
UID:10001290-1751036400-1751047200@valleybusinessreport.com
SUMMARY:Mix\, Mingle and Learn: Your Next Big Opportunity in Health Insurance
DESCRIPTION:Join the RGV Hispanic Chamber of Commerce on June 27 for an afternoon of networking\, collaboration and opportunity for health insurance professionals. \nElizondo Insurance Services hosts this exclusive mixer designed to connect current and aspiring agents\, share insights and explore ways to grow together. \nRSVP online.
URL:https://valleybusinessreport.com/event/mix-mingle-and-learn-your-next-big-opportunity-in-health-insurance/
LOCATION:Bodega Tavern & Kitchen\, 2901 N 10th Street\, McAllen\, United States
CATEGORIES:Networking
ATTACH;FMTTYPE=image/jpeg:https://valleybusinessreport.com/wp-content/uploads/2025/06/RGVHCC.jpg
END:VEVENT
END:VCALENDAR