BEGIN:VCALENDAR
VERSION:2.0
PRODID:-//VBR - ECPv6.15.17.1//NONSGML v1.0//EN
CALSCALE:GREGORIAN
METHOD:PUBLISH
X-WR-CALNAME:VBR
X-ORIGINAL-URL:https://valleybusinessreport.com
X-WR-CALDESC:Events for VBR
REFRESH-INTERVAL;VALUE=DURATION:PT1H
X-Robots-Tag:noindex
X-PUBLISHED-TTL:PT1H
BEGIN:VTIMEZONE
TZID:America/Chicago
BEGIN:DAYLIGHT
TZOFFSETFROM:-0600
TZOFFSETTO:-0500
TZNAME:CDT
DTSTART:20240310T080000
END:DAYLIGHT
BEGIN:STANDARD
TZOFFSETFROM:-0500
TZOFFSETTO:-0600
TZNAME:CST
DTSTART:20241103T070000
END:STANDARD
BEGIN:DAYLIGHT
TZOFFSETFROM:-0600
TZOFFSETTO:-0500
TZNAME:CDT
DTSTART:20250309T080000
END:DAYLIGHT
BEGIN:STANDARD
TZOFFSETFROM:-0500
TZOFFSETTO:-0600
TZNAME:CST
DTSTART:20251102T070000
END:STANDARD
BEGIN:DAYLIGHT
TZOFFSETFROM:-0600
TZOFFSETTO:-0500
TZNAME:CDT
DTSTART:20260308T080000
END:DAYLIGHT
BEGIN:STANDARD
TZOFFSETFROM:-0500
TZOFFSETTO:-0600
TZNAME:CST
DTSTART:20261101T070000
END:STANDARD
END:VTIMEZONE
BEGIN:VEVENT
DTSTART;TZID=America/Chicago:20250710T120000
DTEND;TZID=America/Chicago:20250710T140000
DTSTAMP:20260421T194213
CREATED:20250701T013823Z
LAST-MODIFIED:20250701T013823Z
UID:10001294-1752148800-1752156000@valleybusinessreport.com
SUMMARY:Etiquette for Leaders
DESCRIPTION:Elevate your leadership skills at the RGV Hispanic Chamber of Commerce’s Lunch & Learn on “Etiquette for Leaders” on July 10. \nPresented in partnership with the Leadership Empowerment Group LLC\, this interactive workshop is perfect for professionals seeking impactful professional development and practical tools for leading with intention\, strategy and influence. \nDiscover the 10 most effective ways leaders can model professional etiquette to boost morale\, shape workplace culture and drive team success. \nRegistration is $25\, and includes lunch and materials \nRSVP online.
URL:https://valleybusinessreport.com/event/etiquette-for-leaders/
LOCATION:RGV Hispanic Chamber of Commerce\, 801 E. Fern\, Suite 143\, McAllen\, TX\, 78501\, United States
CATEGORIES:Seminars and Workshops
ATTACH;FMTTYPE=image/jpeg:https://valleybusinessreport.com/wp-content/uploads/2025/06/Etiquette-for-Leaders.jpg
END:VEVENT
BEGIN:VEVENT
DTSTART;TZID=America/Chicago:20250716T113000
DTEND;TZID=America/Chicago:20250716T130000
DTSTAMP:20260421T194213
CREATED:20250703T184749Z
LAST-MODIFIED:20250703T184749Z
UID:10001295-1752665400-1752670800@valleybusinessreport.com
SUMMARY:LSNB - Borrowing Money & Company Structure
DESCRIPTION:Lone Star National Bank’s exclusive Lunch & Learn Series\, “Supporting Business Success\,” is back with “Borrowing Money & Company Structure” on July 16. \nThis in-person educational seminar is designed to empower local entrepreneurs and business leaders with actionable tools and insights to help launch\, manage and grow a thriving business. \nThis initiative follows Financial Literacy Month\, as part of LSNB’s ongoing commitment to strengthen the local business community through financial education and support. \nRSVP by emailing CommunityRelations@lsnb.com or calling 956-414-2051.
URL:https://valleybusinessreport.com/event/lsnb-borrowing-money-company-structure/
LOCATION:Lone Star National Bank – McAllen\, 520 East Nolana Avenue\, McAllen\, United States
CATEGORIES:Seminars and Workshops
ATTACH;FMTTYPE=image/jpeg:https://valleybusinessreport.com/wp-content/uploads/2025/07/LSNB.jpg
ORGANIZER;CN="Lone Star National Bank":MAILTO:CommunityRelations@lsnb.com
END:VEVENT
BEGIN:VEVENT
DTSTART;TZID=America/Chicago:20250717T183000
DTEND;TZID=America/Chicago:20250717T203000
DTSTAMP:20260421T194213
CREATED:20250716T234050Z
LAST-MODIFIED:20250716T234050Z
UID:10001298-1752777000-1752784200@valleybusinessreport.com
SUMMARY:Chicharra Fest
DESCRIPTION:Celebrate one of nature’s most fascinating and musical insects\, the cicada\, at Chicharra Fest on July 17 from 6:30 to 8:30 p.m. at Quinta Mazatlán.\n \n Known locally as chicharras\, cicadas emerge from the ground to fill the air with their signature sound\, becoming the loudest insect in the world thanks to drum-like organs in their bodies called timbals. Quinta Mazatlán will honor their noisy symphony with an engaging\, family-friendly evening of discovery\, art and music. \nGuests of all ages will enjoy a variety of interactive activities throughout the evening. Children can create their own chicharra kazoos to mimic the sound of cicadas\, participate in hands-on art at the easel station\, and learn about the science of cicada communication at an interactive sound display. The walking trail at Quinta Mazatlán will feature oversized\, six-foot-tall storybook pages from the children’s book Cicada Symphony by Lisa Kobman. This illustrated story follows the life of 17-year cicadas through rhyming verses and fun facts\, making science approachable and fun for young readers. \nAs guests walk the trail\, they will also enjoy live music performed by talented string musicians from the RGV Jazz Collective\, providing a beautiful background to the natural setting. Local food and beverage vendors will be on-site with a variety of refreshments to enjoy throughout the evening. \nParking for the event will be located at 1400 Wichita Ave. A complimentary charter bus will shuttle guests to and from Quinta Mazatlán beginning at 6 p.m.\, with return trips running until 9 p.m. for added convenience. \nTickets are $5 per person\, with children age 2 and under admitted free of charge. Tickets may be purchased in advance at quintamazatlan.ticketleap.com.
URL:https://valleybusinessreport.com/event/chicharra-fest/
LOCATION:Quinta Mazatlan\, 600 Sunset Drive\, McAllen\, TX\, 78503\, United States
CATEGORIES:Festivals and Celebrations
ATTACH;FMTTYPE=image/png:https://valleybusinessreport.com/wp-content/uploads/2025/07/Chicharra-Fest.png
END:VEVENT
BEGIN:VEVENT
DTSTART;TZID=America/Chicago:20250724T090000
DTEND;TZID=America/Chicago:20250724T110000
DTSTAMP:20260421T194213
CREATED:20250716T233352Z
LAST-MODIFIED:20250716T233352Z
UID:10001297-1753347600-1753354800@valleybusinessreport.com
SUMMARY:Building Your eCommerce Website
DESCRIPTION:Join the UTRGV for a four-part certification series designed to help build\, market and grow online businesses. Whether you’re a business owner\, part of a marketing team or an entrepreneur ready to strengthen your digital presence\, this series offers hands-on guidance\, expert strategies\, and real-world applications. \nWhat you’ll learn:\n\nHow to choose and build on the right eCommerce platform\nWays to attract and convert customers through digital marketing\nBest practices for managing payments\, orders and social media\nTools to measure your success and refine your strategy\n\nSession Dates:• Session 1 – July 24• Session 2 – August 7• Session 3 – August 24• Session 4 – September 24 \nThese sessions are open to business owners\, marketing teams\, and entrepreneurs looking to build a stronger digital presence. \nRegister online.
URL:https://valleybusinessreport.com/event/building-your-ecommerce-website/
LOCATION:McAllen Chamber of Commerce\, 1200 Ash Ave.\, McAllen\, TX\, 78501\, United States
CATEGORIES:Seminars and Workshops
ATTACH;FMTTYPE=image/webp:https://valleybusinessreport.com/wp-content/uploads/2025/07/UTRGV_-SESSION-1.webp
ORGANIZER;CN="McAllen Chamber of Commerce":MAILTO:bcardenas@mcallenchamber.com
END:VEVENT
BEGIN:VEVENT
DTSTART;TZID=America/Chicago:20250724T183000
DTEND;TZID=America/Chicago:20250724T203000
DTSTAMP:20260421T194213
CREATED:20250716T235013Z
LAST-MODIFIED:20250716T235013Z
UID:10001299-1753381800-1753389000@valleybusinessreport.com
SUMMARY:Web of Wonders with Dave Moellendorf
DESCRIPTION:Crawl over to Quinta Mazatlán on July 24 for an exciting evening dedicated to the mysterious and misunderstood world of spiders. As part of the Thursday Night Live Summer Series\, this family-friendly event runs from 6:30 to 8:30 p.m. and offers an unforgettable opportunity to learn about these eight-legged creatures and their important role in our ecosystem.  \nTo kick off the night\, Spider-Man himself will be in attendance to meet with guests and take photos making this the perfect evening for both spider lovers and superhero fans alike. Families are encouraged to arrive early for this special appearance and enjoy a fun photo opportunity before the educational presentation begins. \nThe featured guest of the evening is David Moellendorf\, an arachnid expert known for his appearances on the Discovery Channel\, National Geographic and his own television series Phobias. With more than 30 years of experience studying and working with spiders\, Moellendorf will guide guests through a fascinating live presentation featuring real spiders and surprising facts about their behavior\, anatomy and ecological impact. \nMoellendorf’s passion for arachnids began in childhood\, when he snuck a spider into his home. a moment that sparked a lifelong fascination. Since then\, he has collected and catalogued DNA from various species and at one point housed over 600 spiders in his apartment. Through years of research and hands-on experiences\, he brings a deep understanding and contagious enthusiasm that will both inform and inspire. \nGuests of all ages are invited to enjoy this up-close encounter with the world of spiders while enjoying an evening outdoors at the beautiful Quinta Mazatlán nature center. The Thursday Night Live Summer Series takes place every Thursday from June through August and is proudly sponsored by Clark Knapp Honda and Whataburger. \nAdmission is $5 per person\, and children age 2 and under are free. Tickets may be purchased in advance at quintamazatlan.ticketleap.com. Parking will be located at 1400 Wichita Ave.\, with free shuttle service to and from Quinta Mazatlán starting at 6 p.m. and running until 9 p.m. for guest convenience.
URL:https://valleybusinessreport.com/event/web-of-wonders-with-dave-moellendorf/
LOCATION:Quinta Mazatlan\, 600 Sunset Drive\, McAllen\, TX\, 78503\, United States
CATEGORIES:Festivals and Celebrations
ATTACH;FMTTYPE=image/png:https://valleybusinessreport.com/wp-content/uploads/2025/07/TNL-Spider-Dave.png
END:VEVENT
BEGIN:VEVENT
DTSTART;TZID=America/Chicago:20250725T113000
DTEND;TZID=America/Chicago:20250725T130000
DTSTAMP:20260421T194213
CREATED:20250718T193514Z
LAST-MODIFIED:20250718T193514Z
UID:10001300-1753443000-1753448400@valleybusinessreport.com
SUMMARY:Lunch & Learn: Things You Should Know About Credit with Big Joe Supreme Credit Services
DESCRIPTION:The RGV Hispanic Chamber of Commerce hosts Lunch & Learn: Things You Should Know About Credit\, in partnership with Big Joe Supreme Credit Services\, on July 25. \nDuring this session\, you’ll gain essential insights into how credit works\, why it matters for both personal and business finances\, and common mistakes to avoid. Topics include understanding credit scores\, managing debt\, building strong credit history and navigating credit repair options. \nWhether you’re a business owner\, professional or simply looking to improve your financial knowledge\, this workshop is designed to help you make more confident credit decisions. \nLunch will be provided. \nRegister online.
URL:https://valleybusinessreport.com/event/lunch-learn-things-you-should-know-about-credit-with-big-joe-supreme-credit-services/
LOCATION:RGV Hispanic Chamber of Commerce\, 801 E. Fern\, Suite 143\, McAllen\, TX\, 78501\, United States
CATEGORIES:Seminars and Workshops
ATTACH;FMTTYPE=image/jpeg:https://valleybusinessreport.com/wp-content/uploads/2025/07/credit_RGVHCC.jpg
END:VEVENT
BEGIN:VEVENT
DTSTART;TZID=America/Chicago:20250731T183000
DTEND;TZID=America/Chicago:20250731T203000
DTSTAMP:20260421T194213
CREATED:20250718T201202Z
LAST-MODIFIED:20250718T201229Z
UID:10001304-1753986600-1753993800@valleybusinessreport.com
SUMMARY:Live Animal Show
DESCRIPTION:Prepare to be amazed as Quinta Mazatlán brings the wild to life with a LIVE Animal Show on July 31 during the Thursday Night Live Summer Series. This unforgettable evening features an interactive animal demonstration led by Alejandro Millan\, director and founder of Contacto Animal USA.  \nGuests will experience a fascinating variety of animals from colorful parrots and curious lizards to snakes\, frogs and more. Learn about their natural habitats\, unique traits and the important roles they play in our ecosystem. It’s the perfect opportunity for families to engage with wildlife in a safe and educational setting. \nAlejandro Millan\, originally from Mexico City\, has dedicated his career to connecting people with animals. After earning a degree in biology in Monterrey\, Nuevo León\, he gained experience in city parks and ultimately launched Contacto Animal USA to combine entertainment and education. The organization also focuses on conservation\, wildlife management and environmental education across the U.S. and Mexico. \nAdmission is just $5 per person\, and children 2 and under are free. Tickets can be purchased in advance at quintamazatlan.ticketleap.com. Parking is available at 1400 W. Wichita Ave.\, with free shuttle service to and from Quinta Mazatlán starting at 6 p.m.
URL:https://valleybusinessreport.com/event/live-animal-show/
LOCATION:Quinta Mazatlan\, 600 Sunset Drive\, McAllen\, TX\, 78503\, United States
CATEGORIES:Speakers
ATTACH;FMTTYPE=image/png:https://valleybusinessreport.com/wp-content/uploads/2025/07/TNL-Contacto-Animal.png
END:VEVENT
END:VCALENDAR