BEGIN:VCALENDAR
VERSION:2.0
PRODID:-//VBR - ECPv6.15.17.1//NONSGML v1.0//EN
CALSCALE:GREGORIAN
METHOD:PUBLISH
X-WR-CALNAME:VBR
X-ORIGINAL-URL:https://valleybusinessreport.com
X-WR-CALDESC:Events for VBR
REFRESH-INTERVAL;VALUE=DURATION:PT1H
X-Robots-Tag:noindex
X-PUBLISHED-TTL:PT1H
BEGIN:VTIMEZONE
TZID:America/Chicago
BEGIN:DAYLIGHT
TZOFFSETFROM:-0600
TZOFFSETTO:-0500
TZNAME:CDT
DTSTART:20240310T080000
END:DAYLIGHT
BEGIN:STANDARD
TZOFFSETFROM:-0500
TZOFFSETTO:-0600
TZNAME:CST
DTSTART:20241103T070000
END:STANDARD
BEGIN:DAYLIGHT
TZOFFSETFROM:-0600
TZOFFSETTO:-0500
TZNAME:CDT
DTSTART:20250309T080000
END:DAYLIGHT
BEGIN:STANDARD
TZOFFSETFROM:-0500
TZOFFSETTO:-0600
TZNAME:CST
DTSTART:20251102T070000
END:STANDARD
BEGIN:DAYLIGHT
TZOFFSETFROM:-0600
TZOFFSETTO:-0500
TZNAME:CDT
DTSTART:20260308T080000
END:DAYLIGHT
BEGIN:STANDARD
TZOFFSETFROM:-0500
TZOFFSETTO:-0600
TZNAME:CST
DTSTART:20261101T070000
END:STANDARD
END:VTIMEZONE
BEGIN:VEVENT
DTSTART;TZID=America/Chicago:20250806T090000
DTEND;TZID=America/Chicago:20250806T110000
DTSTAMP:20260421T180822
CREATED:20250718T200100Z
LAST-MODIFIED:20250718T200100Z
UID:10001303-1754470800-1754478000@valleybusinessreport.com
SUMMARY:Latina Hope
DESCRIPTION:The McAllen Chamber of Commerce hosts its monthly session of Latina Hope on Aug. 6. The competitive pitch program facilitates training\, networking and micro business development for Spanish-speaking women. \nThe program offers business workshops\, as well as specialized skill training in making candles\, cards\, jewelry\, soaps\, toys and wreaths. Latina Hope also offers classes in knitting/crocheting\, quilting\, sewing and alterations. \nAfter attending the training\, participants are given the opportunity to prepare and pitch a project plan for competition. The winner is awarded $250 in materials to support her micro business. \nFor more information\, contact the McAllen Chamber.
URL:https://valleybusinessreport.com/event/latina-hope-9/
LOCATION:Calvary Baptist Church\, 1600 Harvey Drive\, McAllen\, 78501\, United States
CATEGORIES:Networking
ATTACH;FMTTYPE=image/webp:https://valleybusinessreport.com/wp-content/uploads/2025/02/Latina-Hope-1187x1536-1.webp
ORGANIZER;CN="McAllen Chamber of Commerce":MAILTO:bcardenas@mcallenchamber.com
END:VEVENT
BEGIN:VEVENT
DTSTART;TZID=America/Chicago:20250820T100000
DTEND;TZID=America/Chicago:20250820T120000
DTSTAMP:20260421T180822
CREATED:20250719T211231Z
LAST-MODIFIED:20250719T211300Z
UID:10001306-1755684000-1755691200@valleybusinessreport.com
SUMMARY:What's Behind the Numbers? Financial Basics and Financial Analysis for Small Business Owners
DESCRIPTION:Are you managing your business finances effectively? \nLearn how to improve your bottom line by understanding the financial statements with this “What’s Behind the Numbers?” seminar on Aug. 20. Information on the financial position of a business supports decision-making. These numbers also indicate a business’ current and past performance\, and a business owner can use them to determine how move the business forward. \nSession highlights:\n\nLearn about the Financial Statements.\nUnderstand how to manage the financial operations of a business using these documents.\nUse the financial statements for business growth strategies.
URL:https://valleybusinessreport.com/event/whats-behind-the-numbers-financial-basics-and-financial-analysis-for-small-business-owners/
LOCATION:UTRGV at Starr County Campus\, 138 N FM 3167\, Rio Grande City\, TX\, 78582\, United States
CATEGORIES:Seminars and Workshops
ATTACH;FMTTYPE=image/png:https://valleybusinessreport.com/wp-content/uploads/2025/07/Whats-Behind-09.20.23.png
END:VEVENT
END:VCALENDAR