BEGIN:VCALENDAR
VERSION:2.0
PRODID:-//VBR - ECPv6.15.17.1//NONSGML v1.0//EN
CALSCALE:GREGORIAN
METHOD:PUBLISH
X-WR-CALNAME:VBR
X-ORIGINAL-URL:https://valleybusinessreport.com
X-WR-CALDESC:Events for VBR
REFRESH-INTERVAL;VALUE=DURATION:PT1H
X-Robots-Tag:noindex
X-PUBLISHED-TTL:PT1H
BEGIN:VTIMEZONE
TZID:America/Chicago
BEGIN:DAYLIGHT
TZOFFSETFROM:-0600
TZOFFSETTO:-0500
TZNAME:CDT
DTSTART:20250309T080000
END:DAYLIGHT
BEGIN:STANDARD
TZOFFSETFROM:-0500
TZOFFSETTO:-0600
TZNAME:CST
DTSTART:20251102T070000
END:STANDARD
BEGIN:DAYLIGHT
TZOFFSETFROM:-0600
TZOFFSETTO:-0500
TZNAME:CDT
DTSTART:20260308T080000
END:DAYLIGHT
BEGIN:STANDARD
TZOFFSETFROM:-0500
TZOFFSETTO:-0600
TZNAME:CST
DTSTART:20261101T070000
END:STANDARD
BEGIN:DAYLIGHT
TZOFFSETFROM:-0600
TZOFFSETTO:-0500
TZNAME:CDT
DTSTART:20270314T080000
END:DAYLIGHT
BEGIN:STANDARD
TZOFFSETFROM:-0500
TZOFFSETTO:-0600
TZNAME:CST
DTSTART:20271107T070000
END:STANDARD
END:VTIMEZONE
BEGIN:VEVENT
DTSTART;TZID=America/Chicago:20260204T090000
DTEND;TZID=America/Chicago:20260204T110000
DTSTAMP:20260421T044304
CREATED:20260127T021333Z
LAST-MODIFIED:20260127T021806Z
UID:10001348-1770195600-1770202800@valleybusinessreport.com
SUMMARY:Latina Hope
DESCRIPTION:The McAllen Chamber of Commerce hosts its monthly session of Latina Hope on Feb. 4. The competitive pitch program facilitates training\, networking and micro business development for Spanish-speaking women. \nThe program offers business workshops\, as well as specialized skill training in making candles\, cards\, jewelry\, soaps\, toys and wreaths. Latina Hope also offers classes in knitting/crocheting\, quilting\, sewing and alterations. \nAfter attending the training\, participants are given the opportunity to prepare and pitch a project plan for competition. The winner is awarded $250 in materials to support her micro business. \nFor more information\, contact the McAllen Chamber.
URL:https://valleybusinessreport.com/event/latina-hope-11/
LOCATION:Calvary Baptist Church\, 1600 Harvey Drive\, McAllen\, 78501\, United States
CATEGORIES:Networking
ATTACH;FMTTYPE=image/webp:https://valleybusinessreport.com/wp-content/uploads/2025/02/Latina-Hope-1187x1536-1.webp
ORGANIZER;CN="McAllen Chamber of Commerce":MAILTO:bcardenas@mcallenchamber.com
END:VEVENT
BEGIN:VEVENT
DTSTART;TZID=America/Chicago:20260226T080000
DTEND;TZID=America/Chicago:20260226T090000
DTSTAMP:20260421T044304
CREATED:20260217T022743Z
LAST-MODIFIED:20260217T022940Z
UID:10001353-1772092800-1772096400@valleybusinessreport.com
SUMMARY:Trade Talks
DESCRIPTION:The McAllen Chamber of Commerce and the McAllen Economic Development Corporation present Trade Talks on Feb. 26 with Dan W. McGrew\, president and CEO of Velvac Inc.\, a 90-year-old manufacturing company headquartered in Milwaukee\, Wis.  \nVelvac is a Tier One supplier to commercial truck manufacturers and sells over 4000 aftermarket parts with its manufacturing facility in Reynosa\, Mexico. \nMcGrew has experience in all facets of operating international businesses in the NAFTA (USMCA) region. His experience doing business in Mexico spans five decades and includes involvement in developing the Maquiladora Industry.
URL:https://valleybusinessreport.com/event/trade-talks/
LOCATION:McAllen Chamber of Commerce\, 1200 Ash Ave.\, McAllen\, TX\, 78501\, United States
CATEGORIES:Speakers
ATTACH;FMTTYPE=image/webp:https://valleybusinessreport.com/wp-content/uploads/2026/02/trade_talks.webp
ORGANIZER;CN="McAllen Chamber of Commerce":MAILTO:bcardenas@mcallenchamber.com
END:VEVENT
END:VCALENDAR