BEGIN:VCALENDAR
VERSION:2.0
PRODID:-//VBR - ECPv6.15.17.1//NONSGML v1.0//EN
CALSCALE:GREGORIAN
METHOD:PUBLISH
X-ORIGINAL-URL:https://valleybusinessreport.com
X-WR-CALDESC:Events for VBR
REFRESH-INTERVAL;VALUE=DURATION:PT1H
X-Robots-Tag:noindex
X-PUBLISHED-TTL:PT1H
BEGIN:VTIMEZONE
TZID:America/Chicago
BEGIN:DAYLIGHT
TZOFFSETFROM:-0600
TZOFFSETTO:-0500
TZNAME:CDT
DTSTART:20230312T080000
END:DAYLIGHT
BEGIN:STANDARD
TZOFFSETFROM:-0500
TZOFFSETTO:-0600
TZNAME:CST
DTSTART:20231105T070000
END:STANDARD
BEGIN:DAYLIGHT
TZOFFSETFROM:-0600
TZOFFSETTO:-0500
TZNAME:CDT
DTSTART:20240310T080000
END:DAYLIGHT
BEGIN:STANDARD
TZOFFSETFROM:-0500
TZOFFSETTO:-0600
TZNAME:CST
DTSTART:20241103T070000
END:STANDARD
BEGIN:DAYLIGHT
TZOFFSETFROM:-0600
TZOFFSETTO:-0500
TZNAME:CDT
DTSTART:20250309T080000
END:DAYLIGHT
BEGIN:STANDARD
TZOFFSETFROM:-0500
TZOFFSETTO:-0600
TZNAME:CST
DTSTART:20251102T070000
END:STANDARD
END:VTIMEZONE
BEGIN:VEVENT
DTSTART;TZID=America/Chicago:20240711T073000
DTEND;TZID=America/Chicago:20240711T090000
DTSTAMP:20260423T172942
CREATED:20240627T162446Z
LAST-MODIFIED:20240627T162446Z
UID:10001134-1720683000-1720688400@valleybusinessreport.com
SUMMARY:Good Morning McAllen
DESCRIPTION:Join the McAllen Chamber of Commerce on July 11 for Good Morning McAllen and connect with new members\, or reconnect with existing ones\, during a special gathering sponsored by Food Bank of the Rio Grande Valley Inc. \nLeading this breakfast will be hosts Jim Darling and Joe Brown. Every chamber member is automatically entered to win $600 cash. Along with the cash drawing\, there will be numerous door prizes. \nRegistration is $25 per person or $350 per table of eight.
URL:https://valleybusinessreport.com/event/good-morning-mcallen-3/
LOCATION:Radisson Hotel McAllen Airport\, 2721 South 10th Street\, McAllen\, TX\, 78503\, United States
CATEGORIES:Networking
ATTACH;FMTTYPE=image/webp:https://valleybusinessreport.com/wp-content/uploads/2024/06/GoodMorning_June2024.webp
ORGANIZER;CN="McAllen Chamber of Commerce":MAILTO:bcardenas@mcallenchamber.com
END:VEVENT
END:VCALENDAR