BEGIN:VCALENDAR
VERSION:2.0
PRODID:-//VBR - ECPv6.15.17.1//NONSGML v1.0//EN
CALSCALE:GREGORIAN
METHOD:PUBLISH
X-ORIGINAL-URL:https://valleybusinessreport.com
X-WR-CALDESC:Events for VBR
REFRESH-INTERVAL;VALUE=DURATION:PT1H
X-Robots-Tag:noindex
X-PUBLISHED-TTL:PT1H
BEGIN:VTIMEZONE
TZID:America/Chicago
BEGIN:DAYLIGHT
TZOFFSETFROM:-0600
TZOFFSETTO:-0500
TZNAME:CDT
DTSTART:20240310T080000
END:DAYLIGHT
BEGIN:STANDARD
TZOFFSETFROM:-0500
TZOFFSETTO:-0600
TZNAME:CST
DTSTART:20241103T070000
END:STANDARD
BEGIN:DAYLIGHT
TZOFFSETFROM:-0600
TZOFFSETTO:-0500
TZNAME:CDT
DTSTART:20250309T080000
END:DAYLIGHT
BEGIN:STANDARD
TZOFFSETFROM:-0500
TZOFFSETTO:-0600
TZNAME:CST
DTSTART:20251102T070000
END:STANDARD
BEGIN:DAYLIGHT
TZOFFSETFROM:-0600
TZOFFSETTO:-0500
TZNAME:CDT
DTSTART:20260308T080000
END:DAYLIGHT
BEGIN:STANDARD
TZOFFSETFROM:-0500
TZOFFSETTO:-0600
TZNAME:CST
DTSTART:20261101T070000
END:STANDARD
END:VTIMEZONE
BEGIN:VEVENT
DTSTART;TZID=America/Chicago:20250205T113000
DTEND;TZID=America/Chicago:20250205T130000
DTSTAMP:20260423T173808
CREATED:20250127T023141Z
LAST-MODIFIED:20250127T023426Z
UID:10001239-1738755000-1738760400@valleybusinessreport.com
SUMMARY:Buenas Tardes Luncheon: State of Hospitality & Tourism
DESCRIPTION:The Greater Mission Chamber of Commerce hosts its Buenas Tardes Luncheon on Feb. 5\, highlighting the latest developments and opportunities in the hospitality and tourism industry. \nRegister online.
URL:https://valleybusinessreport.com/event/buenas-tardes-luncheon-state-of-hospitality-tourism/
LOCATION:Mission Event Center\, 200 South Shary Road\, Mission\, TX\, 78572\, United States
CATEGORIES:Speakers
ATTACH;FMTTYPE=image/png:https://valleybusinessreport.com/wp-content/uploads/2025/01/BuenasTardes_Feb2025.png
END:VEVENT
END:VCALENDAR