BEGIN:VCALENDAR
VERSION:2.0
PRODID:-//VBR - ECPv6.15.17.1//NONSGML v1.0//EN
CALSCALE:GREGORIAN
METHOD:PUBLISH
X-ORIGINAL-URL:https://valleybusinessreport.com
X-WR-CALDESC:Events for VBR
REFRESH-INTERVAL;VALUE=DURATION:PT1H
X-Robots-Tag:noindex
X-PUBLISHED-TTL:PT1H
BEGIN:VTIMEZONE
TZID:America/Chicago
BEGIN:DAYLIGHT
TZOFFSETFROM:-0600
TZOFFSETTO:-0500
TZNAME:CDT
DTSTART:20240310T080000
END:DAYLIGHT
BEGIN:STANDARD
TZOFFSETFROM:-0500
TZOFFSETTO:-0600
TZNAME:CST
DTSTART:20241103T070000
END:STANDARD
BEGIN:DAYLIGHT
TZOFFSETFROM:-0600
TZOFFSETTO:-0500
TZNAME:CDT
DTSTART:20250309T080000
END:DAYLIGHT
BEGIN:STANDARD
TZOFFSETFROM:-0500
TZOFFSETTO:-0600
TZNAME:CST
DTSTART:20251102T070000
END:STANDARD
BEGIN:DAYLIGHT
TZOFFSETFROM:-0600
TZOFFSETTO:-0500
TZNAME:CDT
DTSTART:20260308T080000
END:DAYLIGHT
BEGIN:STANDARD
TZOFFSETFROM:-0500
TZOFFSETTO:-0600
TZNAME:CST
DTSTART:20261101T070000
END:STANDARD
END:VTIMEZONE
BEGIN:VEVENT
DTSTART;TZID=America/Chicago:20250731T100000
DTEND;TZID=America/Chicago:20250731T120000
DTSTAMP:20260423T051203
CREATED:20250718T194639Z
LAST-MODIFIED:20250718T194639Z
UID:10001301-1753956000-1753963200@valleybusinessreport.com
SUMMARY:Risk Management in Workplace Safety and Health & Workplace Safety Resources
DESCRIPTION:The Occupational Safety Consultation (OSHCON) program presents a seminar on July 31 in Mission to set a solid foundation for understanding and implementing risk management in workplace safety. \nHighlights Include:\n\nOSHA Consultation Services: Discover free resources and expert advice to identify workplace hazards without fear of penalties.\nDefining Risk Management: Learn the structured approach to identifying\, assessing\, and controlling risks.\nStatistical Insight: How to dig into injury/illness data to uncover trends and proactively reduce future incidents.\nRisk Management in Action: Explore step-by-step tools that demonstrate how proactive measures outperform reactive ones.\nTools of the Trade: Hazard analysis\, job safety analysis (JSA)\, risk matrices\, and more—practical methods for real results.\nAccident Investigation: Uncovering root causes to make sure it doesn’t happen again.\n\nRegister online.
URL:https://valleybusinessreport.com/event/risk-management-in-workplace-safety-and-health-workplace-safety-resources/
LOCATION:Greater Mission Chamber of Commerce\, 202 W Tom Landry Street\, Mission\, TX\, 78572\, United States
CATEGORIES:Seminars and Workshops
ATTACH;FMTTYPE=image/png:https://valleybusinessreport.com/wp-content/uploads/2025/07/25.07.31-Risk-Management_OSHCON.png
ORGANIZER;CN="Veronica Z. Ortega%2C SBA":MAILTO:veronica.ortega@sba.gov
END:VEVENT
END:VCALENDAR