BEGIN:VCALENDAR
VERSION:2.0
PRODID:-//VBR - ECPv6.15.17.1//NONSGML v1.0//EN
CALSCALE:GREGORIAN
METHOD:PUBLISH
X-ORIGINAL-URL:https://valleybusinessreport.com
X-WR-CALDESC:Events for VBR
REFRESH-INTERVAL;VALUE=DURATION:PT1H
X-Robots-Tag:noindex
X-PUBLISHED-TTL:PT1H
BEGIN:VTIMEZONE
TZID:America/Chicago
BEGIN:DAYLIGHT
TZOFFSETFROM:-0600
TZOFFSETTO:-0500
TZNAME:CDT
DTSTART:20200308T080000
END:DAYLIGHT
BEGIN:STANDARD
TZOFFSETFROM:-0500
TZOFFSETTO:-0600
TZNAME:CST
DTSTART:20201101T070000
END:STANDARD
BEGIN:DAYLIGHT
TZOFFSETFROM:-0600
TZOFFSETTO:-0500
TZNAME:CDT
DTSTART:20210314T080000
END:DAYLIGHT
BEGIN:STANDARD
TZOFFSETFROM:-0500
TZOFFSETTO:-0600
TZNAME:CST
DTSTART:20211107T070000
END:STANDARD
BEGIN:DAYLIGHT
TZOFFSETFROM:-0600
TZOFFSETTO:-0500
TZNAME:CDT
DTSTART:20220313T080000
END:DAYLIGHT
BEGIN:STANDARD
TZOFFSETFROM:-0500
TZOFFSETTO:-0600
TZNAME:CST
DTSTART:20221106T070000
END:STANDARD
END:VTIMEZONE
BEGIN:VEVENT
DTSTART;TZID=America/Chicago:20211211T110000
DTEND;TZID=America/Chicago:20211211T140000
DTSTAMP:20260421T035600
CREATED:20211201T175407Z
LAST-MODIFIED:20211201T175636Z
UID:10000528-1639220400-1639231200@valleybusinessreport.com
SUMMARY:Mission Lions Market Days
DESCRIPTION:Join friends and neighbors for Mission Lions Market Days Dec. 11 at Mission Market Square. The market includes arts and crafts\, antiques\, jewelry\, clothing\, food and music. Free community bingo is also part of the event. \nThe market takes place every month on the second Saturday. \n\n\n	Related
URL:https://valleybusinessreport.com/event/mission-lions-market-days-4/
LOCATION:Mission Market Square\, 200 West Tom Landry\, Mission\, TX\, 78572\, United States
CATEGORIES:Shopping
ATTACH;FMTTYPE=image/jpeg:https://valleybusinessreport.com/wp-content/uploads/2021/04/mission-lions.jpg
END:VEVENT
BEGIN:VEVENT
DTSTART;TZID=America/Chicago:20211113T110000
DTEND;TZID=America/Chicago:20211113T140000
DTSTAMP:20260421T035600
CREATED:20211101T192756Z
LAST-MODIFIED:20211101T192756Z
UID:10000658-1636801200-1636812000@valleybusinessreport.com
SUMMARY:Mission Lions Market Days
DESCRIPTION:Join friends and neighbors for Mission Lions Market Days Nov. 13. The market includes arts and crafts\, antiques\, jewelry\, clothing\, food and music. Free community bingo is also part of the event. \nThe market takes place every month on the second Saturday. \n\n\n	Related
URL:https://valleybusinessreport.com/event/mission-lions-market-days-3/
LOCATION:Mission Market Square\, 200 West Tom Landry\, Mission\, TX\, 78572\, United States
CATEGORIES:Shopping
ATTACH;FMTTYPE=image/jpeg:https://valleybusinessreport.com/wp-content/uploads/2021/04/mission-lions.jpg
END:VEVENT
BEGIN:VEVENT
DTSTART;TZID=America/Chicago:20211009T110000
DTEND;TZID=America/Chicago:20211009T140000
DTSTAMP:20260421T035600
CREATED:20210914T215354Z
LAST-MODIFIED:20210914T215620Z
UID:10000506-1633777200-1633788000@valleybusinessreport.com
SUMMARY:Mission Lions Market Days
DESCRIPTION:Join friends and neighbors for Mission Lions Market Days Oct. 9. The market includes arts and crafts\, antiques\, jewelry\, clothing\, food and music. Free community bingo is also part of the event. \nThe market takes place every month on the second Saturday. \n\n\n	Related
URL:https://valleybusinessreport.com/event/mission-lions-market-days-2/
LOCATION:Mission Market Square\, 200 West Tom Landry\, Mission\, TX\, 78572\, United States
CATEGORIES:Shopping
ATTACH;FMTTYPE=image/jpeg:https://valleybusinessreport.com/wp-content/uploads/2021/04/mission-lions.jpg
END:VEVENT
END:VCALENDAR