BEGIN:VCALENDAR
VERSION:2.0
PRODID:-//VBR - ECPv6.15.17.1//NONSGML v1.0//EN
CALSCALE:GREGORIAN
METHOD:PUBLISH
X-ORIGINAL-URL:https://valleybusinessreport.com
X-WR-CALDESC:Events for VBR
REFRESH-INTERVAL;VALUE=DURATION:PT1H
X-Robots-Tag:noindex
X-PUBLISHED-TTL:PT1H
BEGIN:VTIMEZONE
TZID:America/Chicago
BEGIN:DAYLIGHT
TZOFFSETFROM:-0600
TZOFFSETTO:-0500
TZNAME:CDT
DTSTART:20200308T080000
END:DAYLIGHT
BEGIN:STANDARD
TZOFFSETFROM:-0500
TZOFFSETTO:-0600
TZNAME:CST
DTSTART:20201101T070000
END:STANDARD
BEGIN:DAYLIGHT
TZOFFSETFROM:-0600
TZOFFSETTO:-0500
TZNAME:CDT
DTSTART:20210314T080000
END:DAYLIGHT
BEGIN:STANDARD
TZOFFSETFROM:-0500
TZOFFSETTO:-0600
TZNAME:CST
DTSTART:20211107T070000
END:STANDARD
BEGIN:DAYLIGHT
TZOFFSETFROM:-0600
TZOFFSETTO:-0500
TZNAME:CDT
DTSTART:20220313T080000
END:DAYLIGHT
BEGIN:STANDARD
TZOFFSETFROM:-0500
TZOFFSETTO:-0600
TZNAME:CST
DTSTART:20221106T070000
END:STANDARD
END:VTIMEZONE
BEGIN:VEVENT
DTSTART;TZID=America/Chicago:20210429T150000
DTEND;TZID=America/Chicago:20210429T170000
DTSTAMP:20260421T055937
CREATED:20210421T181819Z
LAST-MODIFIED:20210421T181931Z
UID:10000547-1619708400-1619715600@valleybusinessreport.com
SUMMARY:Leadership from the Competencies Approach
DESCRIPTION:The “Leadership from the Competencies Approach” webinar April 29 informs small business owners how to lead their teams for business success. \nAn understanding of leadership positively impacts the employee experience and helps gain loyalty among customers. Learn how key management skills can be beneficial to any small business. \nWebinar highlights:\n\nLeadership in the context of COVID-19\nLeadership skills vs. Management abilities\nThe Leader’s Competencies Model\nCompetencies for effective leadership\nCritical steps for effective leadership\, including a self-assessment and an action plan.\n\nBusiness professional Dr. Ofelia Brown serves as webinar presenter. \nThis webinar is hosted by the UTRGV SBDC with promotional support by the Greater Mission Chamber of Commerce\, Greater Pharr Chamber of Commerce\, Palmview Chamber of Commerce\, San Benito Chamber of Commerce\, Starr County Industrial Foundation\, and Weslaco Area Chamber of Commerce & Visitors Center. \nRegister online.\n\n\n	Related
URL:https://valleybusinessreport.com/event/leadership-from-the-competencies-approach/
LOCATION:Online\, TX\, United States
CATEGORIES:Seminars and Workshops
ATTACH;FMTTYPE=image/jpeg:https://valleybusinessreport.com/wp-content/uploads/2019/02/EmergingLeader.jpg
ORGANIZER;CN="Albert Capistran":MAILTO:albert.capistran@utrgv.edu
END:VEVENT
END:VCALENDAR